Workbook

Sheet 1.Sayfa
A1: AİT OLDUĞU YIL | B1: 2022 | AN1: Tarih | AO1: Açıklama | AR1: Tarih | AS1: Açıklama | AU1: Sabah Baş. | AV1: Sabah Bitiş | AW1: Öğlen Baş. | AX1: Öğlen Bitiş | AZ1: 0.29166667
A2: AİT OLDUĞU AY | B2: Temmuz-Ağustos-Eylül-Ekim-Kasım-Aralık | AN2: 43831 | AO2: Yıl Başı | AR2: 44132 | AS2: Cumhuriyet Bayramı Arefe | AU2: 0.33333333 | AV2: 0.5 | AW2: 0.54166667 | AX2: 0.70833333 | AZ2: 0.30208333
A3: ASM ADI | B3: Yahyalı 3 Nolu Delialiuşağı ASM | AN3: 43952 | AO3: İşçi Bayramı | AZ3: 0.3125
A4: ASM Açılış Saati | B4: 08:30:00(Pazartesi 07:30) | AN4: 43970 | AO4: 19 Mayıs | AZ4: 0.32291667
A5: ASM Kapalış Saati | B5: 0.72916667 | AN5: 44133 | AO5: Cumhuriyet Bayramı | AZ5: 0.33333333
A6: ASM Toplam Açık Olduğu Saat | B6: 40 | AN6: 44197 | AO6: Yıl Başı | AZ6: 0.34375
A7: NOTLAR | AN7: 44309 | AZ7: 0.35416667
B8: Dr. Enes UZUN | I8: Dr. Adem ÇAY | AZ8: 0.36458333
B9: Hemşire Haticenur KEMİK | I9: Hemşire Mustafa Haluk DEMİR | AZ9: 0.375
B10: SABAH BAŞ. | C10: SABAH BİT. | D10: ÖĞLEN BAŞ. | E10: ÖĞLEN BİT. | F10: MOLA SÜRESİ | G10: ESNEK ÇALIŞMA SAATİ | H10: TOPLAM SAAT | I10: SABAH BAŞ. | J10: SABAH BİT. | K10: ÖĞLEN BAŞ. | L10: ÖĞLEN BİT. | M10: MOLA SÜRESİ | N10: ESNEK ÇALIŞMA SAATİ | O10: TOPLAM SAAT | P10: SABAH BAŞ. | Q10: SABAH BİT. | R10: ÖĞLEN BAŞ. | S10: ÖĞLEN BİT. | T10: MOLA SÜRESİ | U10: ESNEK ÇALIŞMA SAATİ | V10: TOPLAM SAAT | W10: SABAH BAŞ. | X10: SABAH BİT. | Y10: ÖĞLEN BAŞ. | Z10: ÖĞLEN BİT. | AA10: MOLA SÜRESİ | AB10: ESNEK ÇALIŞMA SAATİ | AC10: TOPLAM SAAT | AD10: SABAH BAŞ. | AE10: SABAH BİT. | AF10: ÖĞLEN BAŞ. | AG10: ÖĞLEN BİT. | AH10: MOLA SÜRESİ | AI10: ESNEK ÇALIŞMA SAATİ | AJ10: TOPLAM SAAT | AZ10: 0.38541667
A11: 44746 | B11: 0.3125 | C11: 0.52083333 | D11: 0.5625 | E11: 0.6875 | F11: =IF(D11-C11<0,0,D11-C11) -> 0.041666667 | G11: =IF(AND(OR(B11="",C11=""),OR(D11="",E11="")),0,IF(OR(B11<>ResmiTatil!$H$2,C11<>ResmiTatil!$I$2,D11<>ResmiTatil!$J$2,E11<>ResmiTatil!$K$2),IF(AND(D11="",E11=""),0,IF(B11<ResmiTatil!$H$2,ResmiTatil!$H$2-B11))+IF(AND(D11="",E11="",OR(B11<ResmiTatil!$H$2,AND(C11<>ResmiTatil!$J$2,C11>ResmiTatil!$J$2))),ResmiTatil!$J$2-ResmiTatil!$I$2,IF(OR(D11="",E11=""),0,IF(AND(C11>ResmiTatil!$I$2,D11<ResmiTatil!$J$2),C11-ResmiTatil!$I$2)))+IF(AND(C11<ResmiTatil!$I$2,D11<ResmiTatil!$J$2),ResmiTatil!$J$2-D11)+IF(AND(C11=ResmiTatil!$I$3,D11=ResmiTatil!$J$3),ResmiTatil!$I$3-ResmiTatil!$I$2,IF(AND(C11>ResmiTatil!$I$2,D11>ResmiTatil!$J$2),ResmiTatil!$J$2-ResmiTatil!$I$2))+IF(E11>ResmiTatil!$K$2,E11-ResmiTatil!$K$2),0)) -> 0.041666667 | H11: =IF((C11-B11)+(E11-D11)<0,0,(C11-B11)+(E11-D11)) -> 0.33333333 | I11: 0.35416667 | J11: 0.5625 | K11: 0.60416667 | L11: 0.72916667 | M11: =IF(K11-J11<0,0,K11-J11) -> 0.041666667 | N11: =IF(AND(OR(I11="",J11=""),OR(K11="",L11="")),0,IF(OR(I11<>ResmiTatil!$H$2,J11<>ResmiTatil!$I$2,K11<>ResmiTatil!$J$2,L11<>ResmiTatil!$K$2),IF(AND(K11="",L11=""),0,IF(I11<ResmiTatil!$H$2,ResmiTatil!$H$2-I11))+IF(AND(K11="",L11="",OR(I11<ResmiTatil!$H$2,AND(J11<>ResmiTatil!$J$2,J11>ResmiTatil!$J$2))),ResmiTatil!$J$2-ResmiTatil!$I$2,IF(OR(K11="",L11=""),0,IF(AND(J11>ResmiTatil!$I$2,K11<ResmiTatil!$J$2),J11-ResmiTatil!$I$2)))+IF(AND(J11<ResmiTatil!$I$2,K11<ResmiTatil!$J$2),ResmiTatil!$J$2-K11)+IF(AND(J11=ResmiTatil!$I$3,K11=ResmiTatil!$J$3),ResmiTatil!$I$3-ResmiTatil!$I$2,IF(AND(J11>ResmiTatil!$I$2,K11>ResmiTatil!$J$2),ResmiTatil!$J$2-ResmiTatil!$I$2))+IF(L11>ResmiTatil!$K$2,L11-ResmiTatil!$K$2),0)) -> 0.041666667 | O11: =IF((J11-I11)+(L11-K11)<0,0,(J11-I11)+(L11-K11)) -> 0.33333333 | T11: =IF(R11-Q11<0,0,R11-Q11) -> 0 | U11: =IF(AND(OR(P11="",Q11=""),OR(R11="",S11="")),0,IF(OR(P11<>ResmiTatil!$H$2,Q11<>ResmiTatil!$I$2,R11<>ResmiTatil!$J$2,S11<>ResmiTatil!$K$2),IF(AND(R11="",S11=""),0,IF(P11<ResmiTatil!$H$2,ResmiTatil!$H$2-P11))+IF(AND(R11="",S11="",OR(P11<ResmiTatil!$H$2,AND(Q11<>ResmiTatil!$J$2,Q11>ResmiTatil!$J$2))),ResmiTatil!$J$2-ResmiTatil!$I$2,IF(OR(R11="",S11=""),0,IF(AND(Q11>ResmiTatil!$I$2,R11<ResmiTatil!$J$2),Q11-ResmiTatil!$I$2)))+IF(AND(Q11<ResmiTatil!$I$2,R11<ResmiTatil!$J$2),ResmiTatil!$J$2-R11)+IF(AND(Q11=ResmiTatil!$I$3,R11=ResmiTatil!$J$3),ResmiTatil!$I$3-ResmiTatil!$I$2,IF(AND(Q11>ResmiTatil!$I$2,R11>ResmiTatil!$J$2),ResmiTatil!$J$2-ResmiTatil!$I$2))+IF(S11>ResmiTatil!$K$2,S11-ResmiTatil!$K$2),0)) -> 0 | V11: =IF((Q11-P11)+(S11-R11)<0,0,(Q11-P11)+(S11-R11)) -> 0 | AA11: =IF(Y11-X11<0,0,Y11-X11) -> 0 | AB11: =IF(AND(OR(W11="",X11=""),OR(Y11="",Z11="")),0,IF(OR(W11<>ResmiTatil!$H$2,X11<>ResmiTatil!$I$2,Y11<>ResmiTatil!$J$2,Z11<>ResmiTatil!$K$2),IF(AND(Y11="",Z11=""),0,IF(W11<ResmiTatil!$H$2,ResmiTatil!$H$2-W11))+IF(AND(Y11="",Z11="",OR(W11<ResmiTatil!$H$2,AND(X11<>ResmiTatil!$J$2,X11>ResmiTatil!$J$2))),ResmiTatil!$J$2-ResmiTatil!$I$2,IF(OR(Y11="",Z11=""),0,IF(AND(X11>ResmiTatil!$I$2,Y11<ResmiTatil!$J$2),X11-ResmiTatil!$I$2)))+IF(AND(X11<ResmiTatil!$I$2,Y11<ResmiTatil!$J$2),ResmiTatil!$J$2-Y11)+IF(AND(X11=ResmiTatil!$I$3,Y11=ResmiTatil!$J$3),ResmiTatil!$I$3-ResmiTatil!$I$2,IF(AND(X11>ResmiTatil!$I$2,Y11>ResmiTatil!$J$2),ResmiTatil!$J$2-ResmiTatil!$I$2))+IF(Z11>ResmiTatil!$K$2,Z11-ResmiTatil!$K$2),0)) -> 0 | AC11: =IF((X11-W11)+(Z11-Y11)<0,0,(X11-W11)+(Z11-Y11)) -> 0 | AH11: =IF(AF11-AE11<0,0,AF11-AE11) -> 0 | AI11: =IF(AND(OR(AD11="",AE11=""),OR(AF11="",AG11="")),0,IF(OR(AD11<>ResmiTatil!$H$2,AE11<>ResmiTatil!$I$2,AF11<>ResmiTatil!$J$2,AG11<>ResmiTatil!$K$2),IF(AND(AF11="",AG11=""),0,IF(AD11<ResmiTatil!$H$2,ResmiTatil!$H$2-AD11))+IF(AND(AF11="",AG11="",OR(AD11<ResmiTatil!$H$2,AND(AE11<>ResmiTatil!$J$2,AE11>ResmiTatil!$J$2))),ResmiTatil!$J$2-ResmiTatil!$I$2,IF(OR(AF11="",AG11=""),0,IF(AND(AE11>ResmiTatil!$I$2,AF11<ResmiTatil!$J$2),AE11-ResmiTatil!$I$2)))+IF(AND(AE11<ResmiTatil!$I$2,AF11<ResmiTatil!$J$2),ResmiTatil!$J$2-AF11)+IF(AND(AE11=ResmiTatil!$I$3,AF11=ResmiTatil!$J$3),ResmiTatil!$I$3-ResmiTatil!$I$2,IF(AND(AE11>ResmiTatil!$I$2,AF11>ResmiTatil!$J$2),ResmiTatil!$J$2-ResmiTatil!$I$2))+IF(AG11>ResmiTatil!$K$2,AG11-ResmiTatil!$K$2),0)) -> 0 | AJ11: =IF((AE11-AD11)+(AG11-AF11)<0,0,(AE11-AD11)+(AG11-AF11)) -> 0 | AZ11: 0.39583333
A12: =A11+1 -> 44747 | B12: 0.35416667 | C12: 0.5625 | D12: 0.60416667 | E12: 0.72916667 | F12: =IF(D12-C12<0,0,D12-C12) -> 0.041666667 | G12: =IF(AND(OR(B12="",C12=""),OR(D12="",E12="")),0,IF(OR(B12<>ResmiTatil!$H$2,C12<>ResmiTatil!$I$2,D12<>ResmiTatil!$J$2,E12<>ResmiTatil!$K$2),IF(AND(D12="",E12=""),0,IF(B12<ResmiTatil!$H$2,ResmiTatil!$H$2-B12))+IF(AND(D12="",E12="",OR(B12<ResmiTatil!$H$2,AND(C12<>ResmiTatil!$J$2,C12>ResmiTatil!$J$2))),ResmiTatil!$J$2-ResmiTatil!$I$2,IF(OR(D12="",E12=""),0,IF(AND(C12>ResmiTatil!$I$2,D12<ResmiTatil!$J$2),C12-ResmiTatil!$I$2)))+IF(AND(C12<ResmiTatil!$I$2,D12<ResmiTatil!$J$2),ResmiTatil!$J$2-D12)+IF(AND(C12=ResmiTatil!$I$3,D12=ResmiTatil!$J$3),ResmiTatil!$I$3-ResmiTatil!$I$2,IF(AND(C12>ResmiTatil!$I$2,D12>ResmiTatil!$J$2),ResmiTatil!$J$2-ResmiTatil!$I$2))+IF(E12>ResmiTatil!$K$2,E12-ResmiTatil!$K$2),0)) -> 0.041666667 | H12: =IF((C12-B12)+(E12-D12)<0,0,(C12-B12)+(E12-D12)) -> 0.33333333 | I12: 0.3125 | J12: 0.52083333 | K12: 0.5625 | L12: 0.6875 | M12: =IF(K12-J12<0,0,K12-J12) -> 0.041666667 | N12: =IF(AND(OR(I12="",J12=""),OR(K12="",L12="")),0,IF(OR(I12<>ResmiTatil!$H$2,J12<>ResmiTatil!$I$2,K12<>ResmiTatil!$J$2,L12<>ResmiTatil!$K$2),IF(AND(K12="",L12=""),0,IF(I12<ResmiTatil!$H$2,ResmiTatil!$H$2-I12))+IF(AND(K12="",L12="",OR(I12<ResmiTatil!$H$2,AND(J12<>ResmiTatil!$J$2,J12>ResmiTatil!$J$2))),ResmiTatil!$J$2-ResmiTatil!$I$2,IF(OR(K12="",L12=""),0,IF(AND(J12>ResmiTatil!$I$2,K12<ResmiTatil!$J$2),J12-ResmiTatil!$I$2)))+IF(AND(J12<ResmiTatil!$I$2,K12<ResmiTatil!$J$2),ResmiTatil!$J$2-K12)+IF(AND(J12=ResmiTatil!$I$3,K12=ResmiTatil!$J$3),ResmiTatil!$I$3-ResmiTatil!$I$2,IF(AND(J12>ResmiTatil!$I$2,K12>ResmiTatil!$J$2),ResmiTatil!$J$2-ResmiTatil!$I$2))+IF(L12>ResmiTatil!$K$2,L12-ResmiTatil!$K$2),0)) -> 0.041666667 | O12: =IF((J12-I12)+(L12-K12)<0,0,(J12-I12)+(L12-K12)) -> 0.33333333 | T12: =IF(R12-Q12<0,0,R12-Q12) -> 0 | U12: =IF(AND(OR(P12="",Q12=""),OR(R12="",S12="")),0,IF(OR(P12<>ResmiTatil!$H$2,Q12<>ResmiTatil!$I$2,R12<>ResmiTatil!$J$2,S12<>ResmiTatil!$K$2),IF(AND(R12="",S12=""),0,IF(P12<ResmiTatil!$H$2,ResmiTatil!$H$2-P12))+IF(AND(R12="",S12="",OR(P12<ResmiTatil!$H$2,AND(Q12<>ResmiTatil!$J$2,Q12>ResmiTatil!$J$2))),ResmiTatil!$J$2-ResmiTatil!$I$2,IF(OR(R12="",S12=""),0,IF(AND(Q12>ResmiTatil!$I$2,R12<ResmiTatil!$J$2),Q12-ResmiTatil!$I$2)))+IF(AND(Q12<ResmiTatil!$I$2,R12<ResmiTatil!$J$2),ResmiTatil!$J$2-R12)+IF(AND(Q12=ResmiTatil!$I$3,R12=ResmiTatil!$J$3),ResmiTatil!$I$3-ResmiTatil!$I$2,IF(AND(Q12>ResmiTatil!$I$2,R12>ResmiTatil!$J$2),ResmiTatil!$J$2-ResmiTatil!$I$2))+IF(S12>ResmiTatil!$K$2,S12-ResmiTatil!$K$2),0)) -> 0 | V12: =IF((Q12-P12)+(S12-R12)<0,0,(Q12-P12)+(S12-R12)) -> 0 | AA12: =IF(Y12-X12<0,0,Y12-X12) -> 0 | AB12: =IF(AND(OR(W12="",X12=""),OR(Y12="",Z12="")),0,IF(OR(W12<>ResmiTatil!$H$2,X12<>ResmiTatil!$I$2,Y12<>ResmiTatil!$J$2,Z12<>ResmiTatil!$K$2),IF(AND(Y12="",Z12=""),0,IF(W12<ResmiTatil!$H$2,ResmiTatil!$H$2-W12))+IF(AND(Y12="",Z12="",OR(W12<ResmiTatil!$H$2,AND(X12<>ResmiTatil!$J$2,X12>ResmiTatil!$J$2))),ResmiTatil!$J$2-ResmiTatil!$I$2,IF(OR(Y12="",Z12=""),0,IF(AND(X12>ResmiTatil!$I$2,Y12<ResmiTatil!$J$2),X12-ResmiTatil!$I$2)))+IF(AND(X12<ResmiTatil!$I$2,Y12<ResmiTatil!$J$2),ResmiTatil!$J$2-Y12)+IF(AND(X12=ResmiTatil!$I$3,Y12=ResmiTatil!$J$3),ResmiTatil!$I$3-ResmiTatil!$I$2,IF(AND(X12>ResmiTatil!$I$2,Y12>ResmiTatil!$J$2),ResmiTatil!$J$2-ResmiTatil!$I$2))+IF(Z12>ResmiTatil!$K$2,Z12-ResmiTatil!$K$2),0)) -> 0 | AC12: =IF((X12-W12)+(Z12-Y12)<0,0,(X12-W12)+(Z12-Y12)) -> 0 | AH12: =IF(AF12-AE12<0,0,AF12-AE12) -> 0 | AI12: =IF(AND(OR(AD12="",AE12=""),OR(AF12="",AG12="")),0,IF(OR(AD12<>ResmiTatil!$H$2,AE12<>ResmiTatil!$I$2,AF12<>ResmiTatil!$J$2,AG12<>ResmiTatil!$K$2),IF(AND(AF12="",AG12=""),0,IF(AD12<ResmiTatil!$H$2,ResmiTatil!$H$2-AD12))+IF(AND(AF12="",AG12="",OR(AD12<ResmiTatil!$H$2,AND(AE12<>ResmiTatil!$J$2,AE12>ResmiTatil!$J$2))),ResmiTatil!$J$2-ResmiTatil!$I$2,IF(OR(AF12="",AG12=""),0,IF(AND(AE12>ResmiTatil!$I$2,AF12<ResmiTatil!$J$2),AE12-ResmiTatil!$I$2)))+IF(AND(AE12<ResmiTatil!$I$2,AF12<ResmiTatil!$J$2),ResmiTatil!$J$2-AF12)+IF(AND(AE12=ResmiTatil!$I$3,AF12=ResmiTatil!$J$3),ResmiTatil!$I$3-ResmiTatil!$I$2,IF(AND(AE12>ResmiTatil!$I$2,AF12>ResmiTatil!$J$2),ResmiTatil!$J$2-ResmiTatil!$I$2))+IF(AG12>ResmiTatil!$K$2,AG12-ResmiTatil!$K$2),0)) -> 0 | AJ12: =IF((AE12-AD12)+(AG12-AF12)<0,0,(AE12-AD12)+(AG12-AF12)) -> 0 | AZ12: 0.40625
A13: =A12+1 -> 44748 | B13: 0.35416667 | C13: 0.52083333 | D13: 0.5625 | E13: 0.72916667 | F13: =IF(D13-C13<0,0,D13-C13) -> 0.041666667 | G13: =IF(AND(OR(B13="",C13=""),OR(D13="",E13="")),0,IF(OR(B13<>ResmiTatil!$H$2,C13<>ResmiTatil!$I$2,D13<>ResmiTatil!$J$2,E13<>ResmiTatil!$K$2),IF(AND(D13="",E13=""),0,IF(B13<ResmiTatil!$H$2,ResmiTatil!$H$2-B13))+IF(AND(D13="",E13="",OR(B13<ResmiTatil!$H$2,AND(C13<>ResmiTatil!$J$2,C13>ResmiTatil!$J$2))),ResmiTatil!$J$2-ResmiTatil!$I$2,IF(OR(D13="",E13=""),0,IF(AND(C13>ResmiTatil!$I$2,D13<ResmiTatil!$J$2),C13-ResmiTatil!$I$2)))+IF(AND(C13<ResmiTatil!$I$2,D13<ResmiTatil!$J$2),ResmiTatil!$J$2-D13)+IF(AND(C13=ResmiTatil!$I$3,D13=ResmiTatil!$J$3),ResmiTatil!$I$3-ResmiTatil!$I$2,IF(AND(C13>ResmiTatil!$I$2,D13>ResmiTatil!$J$2),ResmiTatil!$J$2-ResmiTatil!$I$2))+IF(E13>ResmiTatil!$K$2,E13-ResmiTatil!$K$2),0)) -> 2.1649349e-14 | H13: =IF((C13-B13)+(E13-D13)<0,0,(C13-B13)+(E13-D13)) -> 0.33333333 | I13: 0.35416667 | J13: 0.5625 | K13: 0.60416667 | L13: 0.72916667 | M13: =IF(K13-J13<0,0,K13-J13) -> 0.041666667 | N13: =IF(AND(OR(I13="",J13=""),OR(K13="",L13="")),0,IF(OR(I13<>ResmiTatil!$H$2,J13<>ResmiTatil!$I$2,K13<>ResmiTatil!$J$2,L13<>ResmiTatil!$K$2),IF(AND(K13="",L13=""),0,IF(I13<ResmiTatil!$H$2,ResmiTatil!$H$2-I13))+IF(AND(K13="",L13="",OR(I13<ResmiTatil!$H$2,AND(J13<>ResmiTatil!$J$2,J13>ResmiTatil!$J$2))),ResmiTatil!$J$2-ResmiTatil!$I$2,IF(OR(K13="",L13=""),0,IF(AND(J13>ResmiTatil!$I$2,K13<ResmiTatil!$J$2),J13-ResmiTatil!$I$2)))+IF(AND(J13<ResmiTatil!$I$2,K13<ResmiTatil!$J$2),ResmiTatil!$J$2-K13)+IF(AND(J13=ResmiTatil!$I$3,K13=ResmiTatil!$J$3),ResmiTatil!$I$3-ResmiTatil!$I$2,IF(AND(J13>ResmiTatil!$I$2,K13>ResmiTatil!$J$2),ResmiTatil!$J$2-ResmiTatil!$I$2))+IF(L13>ResmiTatil!$K$2,L13-ResmiTatil!$K$2),0)) -> 0.041666667 | O13: =IF((J13-I13)+(L13-K13)<0,0,(J13-I13)+(L13-K13)) -> 0.33333333 | T13: =IF(R13-Q13<0,0,R13-Q13) -> 0 | U13: =IF(AND(OR(P13="",Q13=""),OR(R13="",S13="")),0,IF(OR(P13<>ResmiTatil!$H$2,Q13<>ResmiTatil!$I$2,R13<>ResmiTatil!$J$2,S13<>ResmiTatil!$K$2),IF(AND(R13="",S13=""),0,IF(P13<ResmiTatil!$H$2,ResmiTatil!$H$2-P13))+IF(AND(R13="",S13="",OR(P13<ResmiTatil!$H$2,AND(Q13<>ResmiTatil!$J$2,Q13>ResmiTatil!$J$2))),ResmiTatil!$J$2-ResmiTatil!$I$2,IF(OR(R13="",S13=""),0,IF(AND(Q13>ResmiTatil!$I$2,R13<ResmiTatil!$J$2),Q13-ResmiTatil!$I$2)))+IF(AND(Q13<ResmiTatil!$I$2,R13<ResmiTatil!$J$2),ResmiTatil!$J$2-R13)+IF(AND(Q13=ResmiTatil!$I$3,R13=ResmiTatil!$J$3),ResmiTatil!$I$3-ResmiTatil!$I$2,IF(AND(Q13>ResmiTatil!$I$2,R13>ResmiTatil!$J$2),ResmiTatil!$J$2-ResmiTatil!$I$2))+IF(S13>ResmiTatil!$K$2,S13-ResmiTatil!$K$2),0)) -> 0 | V13: =IF((Q13-P13)+(S13-R13)<0,0,(Q13-P13)+(S13-R13)) -> 0 | AA13: =IF(Y13-X13<0,0,Y13-X13) -> 0 | AB13: =IF(AND(OR(W13="",X13=""),OR(Y13="",Z13="")),0,IF(OR(W13<>ResmiTatil!$H$2,X13<>ResmiTatil!$I$2,Y13<>ResmiTatil!$J$2,Z13<>ResmiTatil!$K$2),IF(AND(Y13="",Z13=""),0,IF(W13<ResmiTatil!$H$2,ResmiTatil!$H$2-W13))+IF(AND(Y13="",Z13="",OR(W13<ResmiTatil!$H$2,AND(X13<>ResmiTatil!$J$2,X13>ResmiTatil!$J$2))),ResmiTatil!$J$2-ResmiTatil!$I$2,IF(OR(Y13="",Z13=""),0,IF(AND(X13>ResmiTatil!$I$2,Y13<ResmiTatil!$J$2),X13-ResmiTatil!$I$2)))+IF(AND(X13<ResmiTatil!$I$2,Y13<ResmiTatil!$J$2),ResmiTatil!$J$2-Y13)+IF(AND(X13=ResmiTatil!$I$3,Y13=ResmiTatil!$J$3),ResmiTatil!$I$3-ResmiTatil!$I$2,IF(AND(X13>ResmiTatil!$I$2,Y13>ResmiTatil!$J$2),ResmiTatil!$J$2-ResmiTatil!$I$2))+IF(Z13>ResmiTatil!$K$2,Z13-ResmiTatil!$K$2),0)) -> 0 | AC13: =IF((X13-W13)+(Z13-Y13)<0,0,(X13-W13)+(Z13-Y13)) -> 0 | AH13: =IF(AF13-AE13<0,0,AF13-AE13) -> 0 | AI13: =IF(AND(OR(AD13="",AE13=""),OR(AF13="",AG13="")),0,IF(OR(AD13<>ResmiTatil!$H$2,AE13<>ResmiTatil!$I$2,AF13<>ResmiTatil!$J$2,AG13<>ResmiTatil!$K$2),IF(AND(AF13="",AG13=""),0,IF(AD13<ResmiTatil!$H$2,ResmiTatil!$H$2-AD13))+IF(AND(AF13="",AG13="",OR(AD13<ResmiTatil!$H$2,AND(AE13<>ResmiTatil!$J$2,AE13>ResmiTatil!$J$2))),ResmiTatil!$J$2-ResmiTatil!$I$2,IF(OR(AF13="",AG13=""),0,IF(AND(AE13>ResmiTatil!$I$2,AF13<ResmiTatil!$J$2),AE13-ResmiTatil!$I$2)))+IF(AND(AE13<ResmiTatil!$I$2,AF13<ResmiTatil!$J$2),ResmiTatil!$J$2-AF13)+IF(AND(AE13=ResmiTatil!$I$3,AF13=ResmiTatil!$J$3),ResmiTatil!$I$3-ResmiTatil!$I$2,IF(AND(AE13>ResmiTatil!$I$2,AF13>ResmiTatil!$J$2),ResmiTatil!$J$2-ResmiTatil!$I$2))+IF(AG13>ResmiTatil!$K$2,AG13-ResmiTatil!$K$2),0)) -> 0 | AJ13: =IF((AE13-AD13)+(AG13-AF13)<0,0,(AE13-AD13)+(AG13-AF13)) -> 0 | AZ13: 0.41666667
A14: =A13+1 -> 44749 | B14: 0.35416667 | C14: 0.5625 | D14: 0.60416667 | E14: 0.72916667 | F14: =IF(D14-C14<0,0,D14-C14) -> 0.041666667 | G14: =IF(AND(OR(B14="",C14=""),OR(D14="",E14="")),0,IF(OR(B14<>ResmiTatil!$H$2,C14<>ResmiTatil!$I$2,D14<>ResmiTatil!$J$2,E14<>ResmiTatil!$K$2),IF(AND(D14="",E14=""),0,IF(B14<ResmiTatil!$H$2,ResmiTatil!$H$2-B14))+IF(AND(D14="",E14="",OR(B14<ResmiTatil!$H$2,AND(C14<>ResmiTatil!$J$2,C14>ResmiTatil!$J$2))),ResmiTatil!$J$2-ResmiTatil!$I$2,IF(OR(D14="",E14=""),0,IF(AND(C14>ResmiTatil!$I$2,D14<ResmiTatil!$J$2),C14-ResmiTatil!$I$2)))+IF(AND(C14<ResmiTatil!$I$2,D14<ResmiTatil!$J$2),ResmiTatil!$J$2-D14)+IF(AND(C14=ResmiTatil!$I$3,D14=ResmiTatil!$J$3),ResmiTatil!$I$3-ResmiTatil!$I$2,IF(AND(C14>ResmiTatil!$I$2,D14>ResmiTatil!$J$2),ResmiTatil!$J$2-ResmiTatil!$I$2))+IF(E14>ResmiTatil!$K$2,E14-ResmiTatil!$K$2),0)) -> 0.041666667 | H14: =IF((C14-B14)+(E14-D14)<0,0,(C14-B14)+(E14-D14)) -> 0.33333333 | I14: 0.35416667 | J14: 0.52083333 | K14: 0.5625 | L14: 0.72916667 | M14: =IF(K14-J14<0,0,K14-J14) -> 0.041666667 | N14: =IF(AND(OR(I14="",J14=""),OR(K14="",L14="")),0,IF(OR(I14<>ResmiTatil!$H$2,J14<>ResmiTatil!$I$2,K14<>ResmiTatil!$J$2,L14<>ResmiTatil!$K$2),IF(AND(K14="",L14=""),0,IF(I14<ResmiTatil!$H$2,ResmiTatil!$H$2-I14))+IF(AND(K14="",L14="",OR(I14<ResmiTatil!$H$2,AND(J14<>ResmiTatil!$J$2,J14>ResmiTatil!$J$2))),ResmiTatil!$J$2-ResmiTatil!$I$2,IF(OR(K14="",L14=""),0,IF(AND(J14>ResmiTatil!$I$2,K14<ResmiTatil!$J$2),J14-ResmiTatil!$I$2)))+IF(AND(J14<ResmiTatil!$I$2,K14<ResmiTatil!$J$2),ResmiTatil!$J$2-K14)+IF(AND(J14=ResmiTatil!$I$3,K14=ResmiTatil!$J$3),ResmiTatil!$I$3-ResmiTatil!$I$2,IF(AND(J14>ResmiTatil!$I$2,K14>ResmiTatil!$J$2),ResmiTatil!$J$2-ResmiTatil!$I$2))+IF(L14>ResmiTatil!$K$2,L14-ResmiTatil!$K$2),0)) -> 2.1649349e-14 | O14: =IF((J14-I14)+(L14-K14)<0,0,(J14-I14)+(L14-K14)) -> 0.33333333 | T14: =IF(R14-Q14<0,0,R14-Q14) -> 0 | U14: =IF(AND(OR(P14="",Q14=""),OR(R14="",S14="")),0,IF(OR(P14<>ResmiTatil!$H$2,Q14<>ResmiTatil!$I$2,R14<>ResmiTatil!$J$2,S14<>ResmiTatil!$K$2),IF(AND(R14="",S14=""),0,IF(P14<ResmiTatil!$H$2,ResmiTatil!$H$2-P14))+IF(AND(R14="",S14="",OR(P14<ResmiTatil!$H$2,AND(Q14<>ResmiTatil!$J$2,Q14>ResmiTatil!$J$2))),ResmiTatil!$J$2-ResmiTatil!$I$2,IF(OR(R14="",S14=""),0,IF(AND(Q14>ResmiTatil!$I$2,R14<ResmiTatil!$J$2),Q14-ResmiTatil!$I$2)))+IF(AND(Q14<ResmiTatil!$I$2,R14<ResmiTatil!$J$2),ResmiTatil!$J$2-R14)+IF(AND(Q14=ResmiTatil!$I$3,R14=ResmiTatil!$J$3),ResmiTatil!$I$3-ResmiTatil!$I$2,IF(AND(Q14>ResmiTatil!$I$2,R14>ResmiTatil!$J$2),ResmiTatil!$J$2-ResmiTatil!$I$2))+IF(S14>ResmiTatil!$K$2,S14-ResmiTatil!$K$2),0)) -> 0 | V14: =IF((Q14-P14)+(S14-R14)<0,0,(Q14-P14)+(S14-R14)) -> 0 | AA14: =IF(Y14-X14<0,0,Y14-X14) -> 0 | AB14: =IF(AND(OR(W14="",X14=""),OR(Y14="",Z14="")),0,IF(OR(W14<>ResmiTatil!$H$2,X14<>ResmiTatil!$I$2,Y14<>ResmiTatil!$J$2,Z14<>ResmiTatil!$K$2),IF(AND(Y14="",Z14=""),0,IF(W14<ResmiTatil!$H$2,ResmiTatil!$H$2-W14))+IF(AND(Y14="",Z14="",OR(W14<ResmiTatil!$H$2,AND(X14<>ResmiTatil!$J$2,X14>ResmiTatil!$J$2))),ResmiTatil!$J$2-ResmiTatil!$I$2,IF(OR(Y14="",Z14=""),0,IF(AND(X14>ResmiTatil!$I$2,Y14<ResmiTatil!$J$2),X14-ResmiTatil!$I$2)))+IF(AND(X14<ResmiTatil!$I$2,Y14<ResmiTatil!$J$2),ResmiTatil!$J$2-Y14)+IF(AND(X14=ResmiTatil!$I$3,Y14=ResmiTatil!$J$3),ResmiTatil!$I$3-ResmiTatil!$I$2,IF(AND(X14>ResmiTatil!$I$2,Y14>ResmiTatil!$J$2),ResmiTatil!$J$2-ResmiTatil!$I$2))+IF(Z14>ResmiTatil!$K$2,Z14-ResmiTatil!$K$2),0)) -> 0 | AC14: =IF((X14-W14)+(Z14-Y14)<0,0,(X14-W14)+(Z14-Y14)) -> 0 | AH14: =IF(AF14-AE14<0,0,AF14-AE14) -> 0 | AI14: =IF(AND(OR(AD14="",AE14=""),OR(AF14="",AG14="")),0,IF(OR(AD14<>ResmiTatil!$H$2,AE14<>ResmiTatil!$I$2,AF14<>ResmiTatil!$J$2,AG14<>ResmiTatil!$K$2),IF(AND(AF14="",AG14=""),0,IF(AD14<ResmiTatil!$H$2,ResmiTatil!$H$2-AD14))+IF(AND(AF14="",AG14="",OR(AD14<ResmiTatil!$H$2,AND(AE14<>ResmiTatil!$J$2,AE14>ResmiTatil!$J$2))),ResmiTatil!$J$2-ResmiTatil!$I$2,IF(OR(AF14="",AG14=""),0,IF(AND(AE14>ResmiTatil!$I$2,AF14<ResmiTatil!$J$2),AE14-ResmiTatil!$I$2)))+IF(AND(AE14<ResmiTatil!$I$2,AF14<ResmiTatil!$J$2),ResmiTatil!$J$2-AF14)+IF(AND(AE14=ResmiTatil!$I$3,AF14=ResmiTatil!$J$3),ResmiTatil!$I$3-ResmiTatil!$I$2,IF(AND(AE14>ResmiTatil!$I$2,AF14>ResmiTatil!$J$2),ResmiTatil!$J$2-ResmiTatil!$I$2))+IF(AG14>ResmiTatil!$K$2,AG14-ResmiTatil!$K$2),0)) -> 0 | AJ14: =IF((AE14-AD14)+(AG14-AF14)<0,0,(AE14-AD14)+(AG14-AF14)) -> 0 | AZ14: 0.42708333
A15: =A14+1 -> 44750 | F15: =IF(D15-C15<0,0,D15-C15) -> 0 | G15: =IF(AND(OR(B15="",C15=""),OR(D15="",E15="")),0,IF(OR(B15<>ResmiTatil!$H$2,C15<>ResmiTatil!$I$2,D15<>ResmiTatil!$J$2,E15<>ResmiTatil!$K$2),IF(AND(D15="",E15=""),0,IF(B15<ResmiTatil!$H$2,ResmiTatil!$H$2-B15))+IF(AND(D15="",E15="",OR(B15<ResmiTatil!$H$2,AND(C15<>ResmiTatil!$J$2,C15>ResmiTatil!$J$2))),ResmiTatil!$J$2-ResmiTatil!$I$2,IF(OR(D15="",E15=""),0,IF(AND(C15>ResmiTatil!$I$2,D15<ResmiTatil!$J$2),C15-ResmiTatil!$I$2)))+IF(AND(C15<ResmiTatil!$I$2,D15<ResmiTatil!$J$2),ResmiTatil!$J$2-D15)+IF(AND(C15=ResmiTatil!$I$3,D15=ResmiTatil!$J$3),ResmiTatil!$I$3-ResmiTatil!$I$2,IF(AND(C15>ResmiTatil!$I$2,D15>ResmiTatil!$J$2),ResmiTatil!$J$2-ResmiTatil!$I$2))+IF(E15>ResmiTatil!$K$2,E15-ResmiTatil!$K$2),0)) -> 0 | H15: =IF((C15-B15)+(E15-D15)<0,0,(C15-B15)+(E15-D15)) -> 0 | M15: =IF(K15-J15<0,0,K15-J15) -> 0 | N15: =IF(AND(OR(I15="",J15=""),OR(K15="",L15="")),0,IF(OR(I15<>ResmiTatil!$H$2,J15<>ResmiTatil!$I$2,K15<>ResmiTatil!$J$2,L15<>ResmiTatil!$K$2),IF(AND(K15="",L15=""),0,IF(I15<ResmiTatil!$H$2,ResmiTatil!$H$2-I15))+IF(AND(K15="",L15="",OR(I15<ResmiTatil!$H$2,AND(J15<>ResmiTatil!$J$2,J15>ResmiTatil!$J$2))),ResmiTatil!$J$2-ResmiTatil!$I$2,IF(OR(K15="",L15=""),0,IF(AND(J15>ResmiTatil!$I$2,K15<ResmiTatil!$J$2),J15-ResmiTatil!$I$2)))+IF(AND(J15<ResmiTatil!$I$2,K15<ResmiTatil!$J$2),ResmiTatil!$J$2-K15)+IF(AND(J15=ResmiTatil!$I$3,K15=ResmiTatil!$J$3),ResmiTatil!$I$3-ResmiTatil!$I$2,IF(AND(J15>ResmiTatil!$I$2,K15>ResmiTatil!$J$2),ResmiTatil!$J$2-ResmiTatil!$I$2))+IF(L15>ResmiTatil!$K$2,L15-ResmiTatil!$K$2),0)) -> 0 | O15: =IF((J15-I15)+(L15-K15)<0,0,(J15-I15)+(L15-K15)) -> 0 | T15: =IF(R15-Q15<0,0,R15-Q15) -> 0 | U15: =IF(AND(OR(P15="",Q15=""),OR(R15="",S15="")),0,IF(OR(P15<>ResmiTatil!$H$2,Q15<>ResmiTatil!$I$2,R15<>ResmiTatil!$J$2,S15<>ResmiTatil!$K$2),IF(AND(R15="",S15=""),0,IF(P15<ResmiTatil!$H$2,ResmiTatil!$H$2-P15))+IF(AND(R15="",S15="",OR(P15<ResmiTatil!$H$2,AND(Q15<>ResmiTatil!$J$2,Q15>ResmiTatil!$J$2))),ResmiTatil!$J$2-ResmiTatil!$I$2,IF(OR(R15="",S15=""),0,IF(AND(Q15>ResmiTatil!$I$2,R15<ResmiTatil!$J$2),Q15-ResmiTatil!$I$2)))+IF(AND(Q15<ResmiTatil!$I$2,R15<ResmiTatil!$J$2),ResmiTatil!$J$2-R15)+IF(AND(Q15=ResmiTatil!$I$3,R15=ResmiTatil!$J$3),ResmiTatil!$I$3-ResmiTatil!$I$2,IF(AND(Q15>ResmiTatil!$I$2,R15>ResmiTatil!$J$2),ResmiTatil!$J$2-ResmiTatil!$I$2))+IF(S15>ResmiTatil!$K$2,S15-ResmiTatil!$K$2),0)) -> 0 | V15: =IF((Q15-P15)+(S15-R15)<0,0,(Q15-P15)+(S15-R15)) -> 0 | AA15: =IF(Y15-X15<0,0,Y15-X15) -> 0 | AB15: =IF(AND(OR(W15="",X15=""),OR(Y15="",Z15="")),0,IF(OR(W15<>ResmiTatil!$H$2,X15<>ResmiTatil!$I$2,Y15<>ResmiTatil!$J$2,Z15<>ResmiTatil!$K$2),IF(AND(Y15="",Z15=""),0,IF(W15<ResmiTatil!$H$2,ResmiTatil!$H$2-W15))+IF(AND(Y15="",Z15="",OR(W15<ResmiTatil!$H$2,AND(X15<>ResmiTatil!$J$2,X15>ResmiTatil!$J$2))),ResmiTatil!$J$2-ResmiTatil!$I$2,IF(OR(Y15="",Z15=""),0,IF(AND(X15>ResmiTatil!$I$2,Y15<ResmiTatil!$J$2),X15-ResmiTatil!$I$2)))+IF(AND(X15<ResmiTatil!$I$2,Y15<ResmiTatil!$J$2),ResmiTatil!$J$2-Y15)+IF(AND(X15=ResmiTatil!$I$3,Y15=ResmiTatil!$J$3),ResmiTatil!$I$3-ResmiTatil!$I$2,IF(AND(X15>ResmiTatil!$I$2,Y15>ResmiTatil!$J$2),ResmiTatil!$J$2-ResmiTatil!$I$2))+IF(Z15>ResmiTatil!$K$2,Z15-ResmiTatil!$K$2),0)) -> 0 | AC15: =IF((X15-W15)+(Z15-Y15)<0,0,(X15-W15)+(Z15-Y15)) -> 0 | AH15: =IF(AF15-AE15<0,0,AF15-AE15) -> 0 | AI15: =IF(AND(OR(AD15="",AE15=""),OR(AF15="",AG15="")),0,IF(OR(AD15<>ResmiTatil!$H$2,AE15<>ResmiTatil!$I$2,AF15<>ResmiTatil!$J$2,AG15<>ResmiTatil!$K$2),IF(AND(AF15="",AG15=""),0,IF(AD15<ResmiTatil!$H$2,ResmiTatil!$H$2-AD15))+IF(AND(AF15="",AG15="",OR(AD15<ResmiTatil!$H$2,AND(AE15<>ResmiTatil!$J$2,AE15>ResmiTatil!$J$2))),ResmiTatil!$J$2-ResmiTatil!$I$2,IF(OR(AF15="",AG15=""),0,IF(AND(AE15>ResmiTatil!$I$2,AF15<ResmiTatil!$J$2),AE15-ResmiTatil!$I$2)))+IF(AND(AE15<ResmiTatil!$I$2,AF15<ResmiTatil!$J$2),ResmiTatil!$J$2-AF15)+IF(AND(AE15=ResmiTatil!$I$3,AF15=ResmiTatil!$J$3),ResmiTatil!$I$3-ResmiTatil!$I$2,IF(AND(AE15>ResmiTatil!$I$2,AF15>ResmiTatil!$J$2),ResmiTatil!$J$2-ResmiTatil!$I$2))+IF(AG15>ResmiTatil!$K$2,AG15-ResmiTatil!$K$2),0)) -> 0 | AJ15: =IF((AE15-AD15)+(AG15-AF15)<0,0,(AE15-AD15)+(AG15-AF15)) -> 0 | AZ15: 0.4375
A16: HAFTALIK TOPLAM | G16: =SUM(G11:G15) -> 0.125 | H16: =SUM(H11:H15) -> 1.3333333 | N16: =SUM(N11:N15) -> 0.125 | O16: =SUM(O11:O15) -> 1.3333333 | U16: =SUM(U11:U15) -> 0 | V16: =SUM(V11:V15) -> 0 | AB16: =SUM(AB11:AB15) -> 0 | AC16: =SUM(AC11:AC15) -> 0 | AI16: =SUM(AI11:AI15) -> 0 | AJ16: =SUM(AJ11:AJ15) -> 0 | AZ16: 0.44791667
A17: =A15+1 -> 44751 | AZ17: 0.45833333
A18: =A17+1 -> 44752 | AZ18: 0.46875
A19: =A18+1 -> 44753 | F19: =IF(D19-C19<0,0,D19-C19) -> 0 | G19: =IF(AND(OR(B19="",C19=""),OR(D19="",E19="")),0,IF(OR(B19<>ResmiTatil!$H$2,C19<>ResmiTatil!$I$2,D19<>ResmiTatil!$J$2,E19<>ResmiTatil!$K$2),IF(AND(D19="",E19=""),0,IF(B19<ResmiTatil!$H$2,ResmiTatil!$H$2-B19))+IF(AND(D19="",E19="",OR(B19<ResmiTatil!$H$2,AND(C19<>ResmiTatil!$J$2,C19>ResmiTatil!$J$2))),ResmiTatil!$J$2-ResmiTatil!$I$2,IF(OR(D19="",E19=""),0,IF(AND(C19>ResmiTatil!$I$2,D19<ResmiTatil!$J$2),C19-ResmiTatil!$I$2)))+IF(AND(C19<ResmiTatil!$I$2,D19<ResmiTatil!$J$2),ResmiTatil!$J$2-D19)+IF(AND(C19=ResmiTatil!$I$3,D19=ResmiTatil!$J$3),ResmiTatil!$I$3-ResmiTatil!$I$2,IF(AND(C19>ResmiTatil!$I$2,D19>ResmiTatil!$J$2),ResmiTatil!$J$2-ResmiTatil!$I$2))+IF(E19>ResmiTatil!$K$2,E19-ResmiTatil!$K$2),0)) -> 0 | H19: =IF((C19-B19)+(E19-D19)<0,0,(C19-B19)+(E19-D19)) -> 0 | M19: =IF(K19-J19<0,0,K19-J19) -> 0 | N19: =IF(AND(OR(I19="",J19=""),OR(K19="",L19="")),0,IF(OR(I19<>ResmiTatil!$H$2,J19<>ResmiTatil!$I$2,K19<>ResmiTatil!$J$2,L19<>ResmiTatil!$K$2),IF(AND(K19="",L19=""),0,IF(I19<ResmiTatil!$H$2,ResmiTatil!$H$2-I19))+IF(AND(K19="",L19="",OR(I19<ResmiTatil!$H$2,AND(J19<>ResmiTatil!$J$2,J19>ResmiTatil!$J$2))),ResmiTatil!$J$2-ResmiTatil!$I$2,IF(OR(K19="",L19=""),0,IF(AND(J19>ResmiTatil!$I$2,K19<ResmiTatil!$J$2),J19-ResmiTatil!$I$2)))+IF(AND(J19<ResmiTatil!$I$2,K19<ResmiTatil!$J$2),ResmiTatil!$J$2-K19)+IF(AND(J19=ResmiTatil!$I$3,K19=ResmiTatil!$J$3),ResmiTatil!$I$3-ResmiTatil!$I$2,IF(AND(J19>ResmiTatil!$I$2,K19>ResmiTatil!$J$2),ResmiTatil!$J$2-ResmiTatil!$I$2))+IF(L19>ResmiTatil!$K$2,L19-ResmiTatil!$K$2),0)) -> 0 | O19: =IF((J19-I19)+(L19-K19)<0,0,(J19-I19)+(L19-K19)) -> 0 | T19: =IF(R19-Q19<0,0,R19-Q19) -> 0 | U19: =IF(AND(OR(P19="",Q19=""),OR(R19="",S19="")),0,IF(OR(P19<>ResmiTatil!$H$2,Q19<>ResmiTatil!$I$2,R19<>ResmiTatil!$J$2,S19<>ResmiTatil!$K$2),IF(AND(R19="",S19=""),0,IF(P19<ResmiTatil!$H$2,ResmiTatil!$H$2-P19))+IF(AND(R19="",S19="",OR(P19<ResmiTatil!$H$2,AND(Q19<>ResmiTatil!$J$2,Q19>ResmiTatil!$J$2))),ResmiTatil!$J$2-ResmiTatil!$I$2,IF(OR(R19="",S19=""),0,IF(AND(Q19>ResmiTatil!$I$2,R19<ResmiTatil!$J$2),Q19-ResmiTatil!$I$2)))+IF(AND(Q19<ResmiTatil!$I$2,R19<ResmiTatil!$J$2),ResmiTatil!$J$2-R19)+IF(AND(Q19=ResmiTatil!$I$3,R19=ResmiTatil!$J$3),ResmiTatil!$I$3-ResmiTatil!$I$2,IF(AND(Q19>ResmiTatil!$I$2,R19>ResmiTatil!$J$2),ResmiTatil!$J$2-ResmiTatil!$I$2))+IF(S19>ResmiTatil!$K$2,S19-ResmiTatil!$K$2),0)) -> 0 | V19: =IF((Q19-P19)+(S19-R19)<0,0,(Q19-P19)+(S19-R19)) -> 0 | AA19: =IF(Y19-X19<0,0,Y19-X19) -> 0 | AB19: =IF(AND(OR(W19="",X19=""),OR(Y19="",Z19="")),0,IF(OR(W19<>ResmiTatil!$H$2,X19<>ResmiTatil!$I$2,Y19<>ResmiTatil!$J$2,Z19<>ResmiTatil!$K$2),IF(AND(Y19="",Z19=""),0,IF(W19<ResmiTatil!$H$2,ResmiTatil!$H$2-W19))+IF(AND(Y19="",Z19="",OR(W19<ResmiTatil!$H$2,AND(X19<>ResmiTatil!$J$2,X19>ResmiTatil!$J$2))),ResmiTatil!$J$2-ResmiTatil!$I$2,IF(OR(Y19="",Z19=""),0,IF(AND(X19>ResmiTatil!$I$2,Y19<ResmiTatil!$J$2),X19-ResmiTatil!$I$2)))+IF(AND(X19<ResmiTatil!$I$2,Y19<ResmiTatil!$J$2),ResmiTatil!$J$2-Y19)+IF(AND(X19=ResmiTatil!$I$3,Y19=ResmiTatil!$J$3),ResmiTatil!$I$3-ResmiTatil!$I$2,IF(AND(X19>ResmiTatil!$I$2,Y19>ResmiTatil!$J$2),ResmiTatil!$J$2-ResmiTatil!$I$2))+IF(Z19>ResmiTatil!$K$2,Z19-ResmiTatil!$K$2),0)) -> 0 | AC19: =IF((X19-W19)+(Z19-Y19)<0,0,(X19-W19)+(Z19-Y19)) -> 0 | AH19: =IF(AF19-AE19<0,0,AF19-AE19) -> 0 | AI19: =IF(AND(OR(AD19="",AE19=""),OR(AF19="",AG19="")),0,IF(OR(AD19<>ResmiTatil!$H$2,AE19<>ResmiTatil!$I$2,AF19<>ResmiTatil!$J$2,AG19<>ResmiTatil!$K$2),IF(AND(AF19="",AG19=""),0,IF(AD19<ResmiTatil!$H$2,ResmiTatil!$H$2-AD19))+IF(AND(AF19="",AG19="",OR(AD19<ResmiTatil!$H$2,AND(AE19<>ResmiTatil!$J$2,AE19>ResmiTatil!$J$2))),ResmiTatil!$J$2-ResmiTatil!$I$2,IF(OR(AF19="",AG19=""),0,IF(AND(AE19>ResmiTatil!$I$2,AF19<ResmiTatil!$J$2),AE19-ResmiTatil!$I$2)))+IF(AND(AE19<ResmiTatil!$I$2,AF19<ResmiTatil!$J$2),ResmiTatil!$J$2-AF19)+IF(AND(AE19=ResmiTatil!$I$3,AF19=ResmiTatil!$J$3),ResmiTatil!$I$3-ResmiTatil!$I$2,IF(AND(AE19>ResmiTatil!$I$2,AF19>ResmiTatil!$J$2),ResmiTatil!$J$2-ResmiTatil!$I$2))+IF(AG19>ResmiTatil!$K$2,AG19-ResmiTatil!$K$2),0)) -> 0 | AJ19: =IF((AE19-AD19)+(AG19-AF19)<0,0,(AE19-AD19)+(AG19-AF19)) -> 0 | AZ19: 0.47916667
A20: =A19+1 -> 44754 | F20: =IF(D20-C20<0,0,D20-C20) -> 0 | G20: =IF(AND(OR(B20="",C20=""),OR(D20="",E20="")),0,IF(OR(B20<>ResmiTatil!$H$2,C20<>ResmiTatil!$I$2,D20<>ResmiTatil!$J$2,E20<>ResmiTatil!$K$2),IF(AND(D20="",E20=""),0,IF(B20<ResmiTatil!$H$2,ResmiTatil!$H$2-B20))+IF(AND(D20="",E20="",OR(B20<ResmiTatil!$H$2,AND(C20<>ResmiTatil!$J$2,C20>ResmiTatil!$J$2))),ResmiTatil!$J$2-ResmiTatil!$I$2,IF(OR(D20="",E20=""),0,IF(AND(C20>ResmiTatil!$I$2,D20<ResmiTatil!$J$2),C20-ResmiTatil!$I$2)))+IF(AND(C20<ResmiTatil!$I$2,D20<ResmiTatil!$J$2),ResmiTatil!$J$2-D20)+IF(AND(C20=ResmiTatil!$I$3,D20=ResmiTatil!$J$3),ResmiTatil!$I$3-ResmiTatil!$I$2,IF(AND(C20>ResmiTatil!$I$2,D20>ResmiTatil!$J$2),ResmiTatil!$J$2-ResmiTatil!$I$2))+IF(E20>ResmiTatil!$K$2,E20-ResmiTatil!$K$2),0)) -> 0 | H20: =IF((C20-B20)+(E20-D20)<0,0,(C20-B20)+(E20-D20)) -> 0 | M20: =IF(K20-J20<0,0,K20-J20) -> 0 | N20: =IF(AND(OR(I20="",J20=""),OR(K20="",L20="")),0,IF(OR(I20<>ResmiTatil!$H$2,J20<>ResmiTatil!$I$2,K20<>ResmiTatil!$J$2,L20<>ResmiTatil!$K$2),IF(AND(K20="",L20=""),0,IF(I20<ResmiTatil!$H$2,ResmiTatil!$H$2-I20))+IF(AND(K20="",L20="",OR(I20<ResmiTatil!$H$2,AND(J20<>ResmiTatil!$J$2,J20>ResmiTatil!$J$2))),ResmiTatil!$J$2-ResmiTatil!$I$2,IF(OR(K20="",L20=""),0,IF(AND(J20>ResmiTatil!$I$2,K20<ResmiTatil!$J$2),J20-ResmiTatil!$I$2)))+IF(AND(J20<ResmiTatil!$I$2,K20<ResmiTatil!$J$2),ResmiTatil!$J$2-K20)+IF(AND(J20=ResmiTatil!$I$3,K20=ResmiTatil!$J$3),ResmiTatil!$I$3-ResmiTatil!$I$2,IF(AND(J20>ResmiTatil!$I$2,K20>ResmiTatil!$J$2),ResmiTatil!$J$2-ResmiTatil!$I$2))+IF(L20>ResmiTatil!$K$2,L20-ResmiTatil!$K$2),0)) -> 0 | O20: =IF((J20-I20)+(L20-K20)<0,0,(J20-I20)+(L20-K20)) -> 0 | T20: =IF(R20-Q20<0,0,R20-Q20) -> 0 | U20: =IF(AND(OR(P20="",Q20=""),OR(R20="",S20="")),0,IF(OR(P20<>ResmiTatil!$H$2,Q20<>ResmiTatil!$I$2,R20<>ResmiTatil!$J$2,S20<>ResmiTatil!$K$2),IF(AND(R20="",S20=""),0,IF(P20<ResmiTatil!$H$2,ResmiTatil!$H$2-P20))+IF(AND(R20="",S20="",OR(P20<ResmiTatil!$H$2,AND(Q20<>ResmiTatil!$J$2,Q20>ResmiTatil!$J$2))),ResmiTatil!$J$2-ResmiTatil!$I$2,IF(OR(R20="",S20=""),0,IF(AND(Q20>ResmiTatil!$I$2,R20<ResmiTatil!$J$2),Q20-ResmiTatil!$I$2)))+IF(AND(Q20<ResmiTatil!$I$2,R20<ResmiTatil!$J$2),ResmiTatil!$J$2-R20)+IF(AND(Q20=ResmiTatil!$I$3,R20=ResmiTatil!$J$3),ResmiTatil!$I$3-ResmiTatil!$I$2,IF(AND(Q20>ResmiTatil!$I$2,R20>ResmiTatil!$J$2),ResmiTatil!$J$2-ResmiTatil!$I$2))+IF(S20>ResmiTatil!$K$2,S20-ResmiTatil!$K$2),0)) -> 0 | V20: =IF((Q20-P20)+(S20-R20)<0,0,(Q20-P20)+(S20-R20)) -> 0 | AA20: =IF(Y20-X20<0,0,Y20-X20) -> 0 | AB20: =IF(AND(OR(W20="",X20=""),OR(Y20="",Z20="")),0,IF(OR(W20<>ResmiTatil!$H$2,X20<>ResmiTatil!$I$2,Y20<>ResmiTatil!$J$2,Z20<>ResmiTatil!$K$2),IF(AND(Y20="",Z20=""),0,IF(W20<ResmiTatil!$H$2,ResmiTatil!$H$2-W20))+IF(AND(Y20="",Z20="",OR(W20<ResmiTatil!$H$2,AND(X20<>ResmiTatil!$J$2,X20>ResmiTatil!$J$2))),ResmiTatil!$J$2-ResmiTatil!$I$2,IF(OR(Y20="",Z20=""),0,IF(AND(X20>ResmiTatil!$I$2,Y20<ResmiTatil!$J$2),X20-ResmiTatil!$I$2)))+IF(AND(X20<ResmiTatil!$I$2,Y20<ResmiTatil!$J$2),ResmiTatil!$J$2-Y20)+IF(AND(X20=ResmiTatil!$I$3,Y20=ResmiTatil!$J$3),ResmiTatil!$I$3-ResmiTatil!$I$2,IF(AND(X20>ResmiTatil!$I$2,Y20>ResmiTatil!$J$2),ResmiTatil!$J$2-ResmiTatil!$I$2))+IF(Z20>ResmiTatil!$K$2,Z20-ResmiTatil!$K$2),0)) -> 0 | AC20: =IF((X20-W20)+(Z20-Y20)<0,0,(X20-W20)+(Z20-Y20)) -> 0 | AH20: =IF(AF20-AE20<0,0,AF20-AE20) -> 0 | AI20: =IF(AND(OR(AD20="",AE20=""),OR(AF20="",AG20="")),0,IF(OR(AD20<>ResmiTatil!$H$2,AE20<>ResmiTatil!$I$2,AF20<>ResmiTatil!$J$2,AG20<>ResmiTatil!$K$2),IF(AND(AF20="",AG20=""),0,IF(AD20<ResmiTatil!$H$2,ResmiTatil!$H$2-AD20))+IF(AND(AF20="",AG20="",OR(AD20<ResmiTatil!$H$2,AND(AE20<>ResmiTatil!$J$2,AE20>ResmiTatil!$J$2))),ResmiTatil!$J$2-ResmiTatil!$I$2,IF(OR(AF20="",AG20=""),0,IF(AND(AE20>ResmiTatil!$I$2,AF20<ResmiTatil!$J$2),AE20-ResmiTatil!$I$2)))+IF(AND(AE20<ResmiTatil!$I$2,AF20<ResmiTatil!$J$2),ResmiTatil!$J$2-AF20)+IF(AND(AE20=ResmiTatil!$I$3,AF20=ResmiTatil!$J$3),ResmiTatil!$I$3-ResmiTatil!$I$2,IF(AND(AE20>ResmiTatil!$I$2,AF20>ResmiTatil!$J$2),ResmiTatil!$J$2-ResmiTatil!$I$2))+IF(AG20>ResmiTatil!$K$2,AG20-ResmiTatil!$K$2),0)) -> 0 | AJ20: =IF((AE20-AD20)+(AG20-AF20)<0,0,(AE20-AD20)+(AG20-AF20)) -> 0 | AZ20: 0.48958333
A21: =A20+1 -> 44755 | B21: 0.3125 | C21: 0.52083333 | D21: 0.5625 | E21: 0.6875 | F21: =IF(D21-C21<0,0,D21-C21) -> 0.041666667 | G21: =IF(AND(OR(B21="",C21=""),OR(D21="",E21="")),0,IF(OR(B21<>ResmiTatil!$H$2,C21<>ResmiTatil!$I$2,D21<>ResmiTatil!$J$2,E21<>ResmiTatil!$K$2),IF(AND(D21="",E21=""),0,IF(B21<ResmiTatil!$H$2,ResmiTatil!$H$2-B21))+IF(AND(D21="",E21="",OR(B21<ResmiTatil!$H$2,AND(C21<>ResmiTatil!$J$2,C21>ResmiTatil!$J$2))),ResmiTatil!$J$2-ResmiTatil!$I$2,IF(OR(D21="",E21=""),0,IF(AND(C21>ResmiTatil!$I$2,D21<ResmiTatil!$J$2),C21-ResmiTatil!$I$2)))+IF(AND(C21<ResmiTatil!$I$2,D21<ResmiTatil!$J$2),ResmiTatil!$J$2-D21)+IF(AND(C21=ResmiTatil!$I$3,D21=ResmiTatil!$J$3),ResmiTatil!$I$3-ResmiTatil!$I$2,IF(AND(C21>ResmiTatil!$I$2,D21>ResmiTatil!$J$2),ResmiTatil!$J$2-ResmiTatil!$I$2))+IF(E21>ResmiTatil!$K$2,E21-ResmiTatil!$K$2),0)) -> 0.041666667 | H21: =IF((C21-B21)+(E21-D21)<0,0,(C21-B21)+(E21-D21)) -> 0.33333333 | I21: 0.35416667 | J21: 0.5625 | K21: 0.60416667 | L21: 0.72916667 | M21: =IF(K21-J21<0,0,K21-J21) -> 0.041666667 | N21: =IF(AND(OR(I21="",J21=""),OR(K21="",L21="")),0,IF(OR(I21<>ResmiTatil!$H$2,J21<>ResmiTatil!$I$2,K21<>ResmiTatil!$J$2,L21<>ResmiTatil!$K$2),IF(AND(K21="",L21=""),0,IF(I21<ResmiTatil!$H$2,ResmiTatil!$H$2-I21))+IF(AND(K21="",L21="",OR(I21<ResmiTatil!$H$2,AND(J21<>ResmiTatil!$J$2,J21>ResmiTatil!$J$2))),ResmiTatil!$J$2-ResmiTatil!$I$2,IF(OR(K21="",L21=""),0,IF(AND(J21>ResmiTatil!$I$2,K21<ResmiTatil!$J$2),J21-ResmiTatil!$I$2)))+IF(AND(J21<ResmiTatil!$I$2,K21<ResmiTatil!$J$2),ResmiTatil!$J$2-K21)+IF(AND(J21=ResmiTatil!$I$3,K21=ResmiTatil!$J$3),ResmiTatil!$I$3-ResmiTatil!$I$2,IF(AND(J21>ResmiTatil!$I$2,K21>ResmiTatil!$J$2),ResmiTatil!$J$2-ResmiTatil!$I$2))+IF(L21>ResmiTatil!$K$2,L21-ResmiTatil!$K$2),0)) -> 0.041666667 | O21: =IF((J21-I21)+(L21-K21)<0,0,(J21-I21)+(L21-K21)) -> 0.33333333 | T21: =IF(R21-Q21<0,0,R21-Q21) -> 0 | U21: =IF(AND(OR(P21="",Q21=""),OR(R21="",S21="")),0,IF(OR(P21<>ResmiTatil!$H$2,Q21<>ResmiTatil!$I$2,R21<>ResmiTatil!$J$2,S21<>ResmiTatil!$K$2),IF(AND(R21="",S21=""),0,IF(P21<ResmiTatil!$H$2,ResmiTatil!$H$2-P21))+IF(AND(R21="",S21="",OR(P21<ResmiTatil!$H$2,AND(Q21<>ResmiTatil!$J$2,Q21>ResmiTatil!$J$2))),ResmiTatil!$J$2-ResmiTatil!$I$2,IF(OR(R21="",S21=""),0,IF(AND(Q21>ResmiTatil!$I$2,R21<ResmiTatil!$J$2),Q21-ResmiTatil!$I$2)))+IF(AND(Q21<ResmiTatil!$I$2,R21<ResmiTatil!$J$2),ResmiTatil!$J$2-R21)+IF(AND(Q21=ResmiTatil!$I$3,R21=ResmiTatil!$J$3),ResmiTatil!$I$3-ResmiTatil!$I$2,IF(AND(Q21>ResmiTatil!$I$2,R21>ResmiTatil!$J$2),ResmiTatil!$J$2-ResmiTatil!$I$2))+IF(S21>ResmiTatil!$K$2,S21-ResmiTatil!$K$2),0)) -> 0 | V21: =IF((Q21-P21)+(S21-R21)<0,0,(Q21-P21)+(S21-R21)) -> 0 | AA21: =IF(Y21-X21<0,0,Y21-X21) -> 0 | AB21: =IF(AND(OR(W21="",X21=""),OR(Y21="",Z21="")),0,IF(OR(W21<>ResmiTatil!$H$2,X21<>ResmiTatil!$I$2,Y21<>ResmiTatil!$J$2,Z21<>ResmiTatil!$K$2),IF(AND(Y21="",Z21=""),0,IF(W21<ResmiTatil!$H$2,ResmiTatil!$H$2-W21))+IF(AND(Y21="",Z21="",OR(W21<ResmiTatil!$H$2,AND(X21<>ResmiTatil!$J$2,X21>ResmiTatil!$J$2))),ResmiTatil!$J$2-ResmiTatil!$I$2,IF(OR(Y21="",Z21=""),0,IF(AND(X21>ResmiTatil!$I$2,Y21<ResmiTatil!$J$2),X21-ResmiTatil!$I$2)))+IF(AND(X21<ResmiTatil!$I$2,Y21<ResmiTatil!$J$2),ResmiTatil!$J$2-Y21)+IF(AND(X21=ResmiTatil!$I$3,Y21=ResmiTatil!$J$3),ResmiTatil!$I$3-ResmiTatil!$I$2,IF(AND(X21>ResmiTatil!$I$2,Y21>ResmiTatil!$J$2),ResmiTatil!$J$2-ResmiTatil!$I$2))+IF(Z21>ResmiTatil!$K$2,Z21-ResmiTatil!$K$2),0)) -> 0 | AC21: =IF((X21-W21)+(Z21-Y21)<0,0,(X21-W21)+(Z21-Y21)) -> 0 | AH21: =IF(AF21-AE21<0,0,AF21-AE21) -> 0 | AI21: =IF(AND(OR(AD21="",AE21=""),OR(AF21="",AG21="")),0,IF(OR(AD21<>ResmiTatil!$H$2,AE21<>ResmiTatil!$I$2,AF21<>ResmiTatil!$J$2,AG21<>ResmiTatil!$K$2),IF(AND(AF21="",AG21=""),0,IF(AD21<ResmiTatil!$H$2,ResmiTatil!$H$2-AD21))+IF(AND(AF21="",AG21="",OR(AD21<ResmiTatil!$H$2,AND(AE21<>ResmiTatil!$J$2,AE21>ResmiTatil!$J$2))),ResmiTatil!$J$2-ResmiTatil!$I$2,IF(OR(AF21="",AG21=""),0,IF(AND(AE21>ResmiTatil!$I$2,AF21<ResmiTatil!$J$2),AE21-ResmiTatil!$I$2)))+IF(AND(AE21<ResmiTatil!$I$2,AF21<ResmiTatil!$J$2),ResmiTatil!$J$2-AF21)+IF(AND(AE21=ResmiTatil!$I$3,AF21=ResmiTatil!$J$3),ResmiTatil!$I$3-ResmiTatil!$I$2,IF(AND(AE21>ResmiTatil!$I$2,AF21>ResmiTatil!$J$2),ResmiTatil!$J$2-ResmiTatil!$I$2))+IF(AG21>ResmiTatil!$K$2,AG21-ResmiTatil!$K$2),0)) -> 0 | AJ21: =IF((AE21-AD21)+(AG21-AF21)<0,0,(AE21-AD21)+(AG21-AF21)) -> 0 | AZ21: 0.5
A22: =A21+1 -> 44756 | B22: 0.35416667 | C22: 0.5625 | D22: 0.60416667 | E22: 0.72916667 | F22: =IF(D22-C22<0,0,D22-C22) -> 0.041666667 | G22: =IF(AND(OR(B22="",C22=""),OR(D22="",E22="")),0,IF(OR(B22<>ResmiTatil!$H$2,C22<>ResmiTatil!$I$2,D22<>ResmiTatil!$J$2,E22<>ResmiTatil!$K$2),IF(AND(D22="",E22=""),0,IF(B22<ResmiTatil!$H$2,ResmiTatil!$H$2-B22))+IF(AND(D22="",E22="",OR(B22<ResmiTatil!$H$2,AND(C22<>ResmiTatil!$J$2,C22>ResmiTatil!$J$2))),ResmiTatil!$J$2-ResmiTatil!$I$2,IF(OR(D22="",E22=""),0,IF(AND(C22>ResmiTatil!$I$2,D22<ResmiTatil!$J$2),C22-ResmiTatil!$I$2)))+IF(AND(C22<ResmiTatil!$I$2,D22<ResmiTatil!$J$2),ResmiTatil!$J$2-D22)+IF(AND(C22=ResmiTatil!$I$3,D22=ResmiTatil!$J$3),ResmiTatil!$I$3-ResmiTatil!$I$2,IF(AND(C22>ResmiTatil!$I$2,D22>ResmiTatil!$J$2),ResmiTatil!$J$2-ResmiTatil!$I$2))+IF(E22>ResmiTatil!$K$2,E22-ResmiTatil!$K$2),0)) -> 0.041666667 | H22: =IF((C22-B22)+(E22-D22)<0,0,(C22-B22)+(E22-D22)) -> 0.33333333 | I22: 0.3125 | J22: 0.52083333 | K22: 0.5625 | L22: 0.6875 | M22: =IF(K22-J22<0,0,K22-J22) -> 0.041666667 | N22: =IF(AND(OR(I22="",J22=""),OR(K22="",L22="")),0,IF(OR(I22<>ResmiTatil!$H$2,J22<>ResmiTatil!$I$2,K22<>ResmiTatil!$J$2,L22<>ResmiTatil!$K$2),IF(AND(K22="",L22=""),0,IF(I22<ResmiTatil!$H$2,ResmiTatil!$H$2-I22))+IF(AND(K22="",L22="",OR(I22<ResmiTatil!$H$2,AND(J22<>ResmiTatil!$J$2,J22>ResmiTatil!$J$2))),ResmiTatil!$J$2-ResmiTatil!$I$2,IF(OR(K22="",L22=""),0,IF(AND(J22>ResmiTatil!$I$2,K22<ResmiTatil!$J$2),J22-ResmiTatil!$I$2)))+IF(AND(J22<ResmiTatil!$I$2,K22<ResmiTatil!$J$2),ResmiTatil!$J$2-K22)+IF(AND(J22=ResmiTatil!$I$3,K22=ResmiTatil!$J$3),ResmiTatil!$I$3-ResmiTatil!$I$2,IF(AND(J22>ResmiTatil!$I$2,K22>ResmiTatil!$J$2),ResmiTatil!$J$2-ResmiTatil!$I$2))+IF(L22>ResmiTatil!$K$2,L22-ResmiTatil!$K$2),0)) -> 0.041666667 | O22: =IF((J22-I22)+(L22-K22)<0,0,(J22-I22)+(L22-K22)) -> 0.33333333 | T22: =IF(R22-Q22<0,0,R22-Q22) -> 0 | U22: =IF(AND(OR(P22="",Q22=""),OR(R22="",S22="")),0,IF(OR(P22<>ResmiTatil!$H$2,Q22<>ResmiTatil!$I$2,R22<>ResmiTatil!$J$2,S22<>ResmiTatil!$K$2),IF(AND(R22="",S22=""),0,IF(P22<ResmiTatil!$H$2,ResmiTatil!$H$2-P22))+IF(AND(R22="",S22="",OR(P22<ResmiTatil!$H$2,AND(Q22<>ResmiTatil!$J$2,Q22>ResmiTatil!$J$2))),ResmiTatil!$J$2-ResmiTatil!$I$2,IF(OR(R22="",S22=""),0,IF(AND(Q22>ResmiTatil!$I$2,R22<ResmiTatil!$J$2),Q22-ResmiTatil!$I$2)))+IF(AND(Q22<ResmiTatil!$I$2,R22<ResmiTatil!$J$2),ResmiTatil!$J$2-R22)+IF(AND(Q22=ResmiTatil!$I$3,R22=ResmiTatil!$J$3),ResmiTatil!$I$3-ResmiTatil!$I$2,IF(AND(Q22>ResmiTatil!$I$2,R22>ResmiTatil!$J$2),ResmiTatil!$J$2-ResmiTatil!$I$2))+IF(S22>ResmiTatil!$K$2,S22-ResmiTatil!$K$2),0)) -> 0 | V22: =IF((Q22-P22)+(S22-R22)<0,0,(Q22-P22)+(S22-R22)) -> 0 | AA22: =IF(Y22-X22<0,0,Y22-X22) -> 0 | AB22: =IF(AND(OR(W22="",X22=""),OR(Y22="",Z22="")),0,IF(OR(W22<>ResmiTatil!$H$2,X22<>ResmiTatil!$I$2,Y22<>ResmiTatil!$J$2,Z22<>ResmiTatil!$K$2),IF(AND(Y22="",Z22=""),0,IF(W22<ResmiTatil!$H$2,ResmiTatil!$H$2-W22))+IF(AND(Y22="",Z22="",OR(W22<ResmiTatil!$H$2,AND(X22<>ResmiTatil!$J$2,X22>ResmiTatil!$J$2))),ResmiTatil!$J$2-ResmiTatil!$I$2,IF(OR(Y22="",Z22=""),0,IF(AND(X22>ResmiTatil!$I$2,Y22<ResmiTatil!$J$2),X22-ResmiTatil!$I$2)))+IF(AND(X22<ResmiTatil!$I$2,Y22<ResmiTatil!$J$2),ResmiTatil!$J$2-Y22)+IF(AND(X22=ResmiTatil!$I$3,Y22=ResmiTatil!$J$3),ResmiTatil!$I$3-ResmiTatil!$I$2,IF(AND(X22>ResmiTatil!$I$2,Y22>ResmiTatil!$J$2),ResmiTatil!$J$2-ResmiTatil!$I$2))+IF(Z22>ResmiTatil!$K$2,Z22-ResmiTatil!$K$2),0)) -> 0 | AC22: =IF((X22-W22)+(Z22-Y22)<0,0,(X22-W22)+(Z22-Y22)) -> 0 | AH22: =IF(AF22-AE22<0,0,AF22-AE22) -> 0 | AI22: =IF(AND(OR(AD22="",AE22=""),OR(AF22="",AG22="")),0,IF(OR(AD22<>ResmiTatil!$H$2,AE22<>ResmiTatil!$I$2,AF22<>ResmiTatil!$J$2,AG22<>ResmiTatil!$K$2),IF(AND(AF22="",AG22=""),0,IF(AD22<ResmiTatil!$H$2,ResmiTatil!$H$2-AD22))+IF(AND(AF22="",AG22="",OR(AD22<ResmiTatil!$H$2,AND(AE22<>ResmiTatil!$J$2,AE22>ResmiTatil!$J$2))),ResmiTatil!$J$2-ResmiTatil!$I$2,IF(OR(AF22="",AG22=""),0,IF(AND(AE22>ResmiTatil!$I$2,AF22<ResmiTatil!$J$2),AE22-ResmiTatil!$I$2)))+IF(AND(AE22<ResmiTatil!$I$2,AF22<ResmiTatil!$J$2),ResmiTatil!$J$2-AF22)+IF(AND(AE22=ResmiTatil!$I$3,AF22=ResmiTatil!$J$3),ResmiTatil!$I$3-ResmiTatil!$I$2,IF(AND(AE22>ResmiTatil!$I$2,AF22>ResmiTatil!$J$2),ResmiTatil!$J$2-ResmiTatil!$I$2))+IF(AG22>ResmiTatil!$K$2,AG22-ResmiTatil!$K$2),0)) -> 0 | AJ22: =IF((AE22-AD22)+(AG22-AF22)<0,0,(AE22-AD22)+(AG22-AF22)) -> 0 | AZ22: 0.51041667
A23: =A22+1 -> 44757 | F23: =IF(D23-C23<0,0,D23-C23) -> 0 | G23: =IF(AND(OR(B23="",C23=""),OR(D23="",E23="")),0,IF(OR(B23<>ResmiTatil!$H$2,C23<>ResmiTatil!$I$2,D23<>ResmiTatil!$J$2,E23<>ResmiTatil!$K$2),IF(AND(D23="",E23=""),0,IF(B23<ResmiTatil!$H$2,ResmiTatil!$H$2-B23))+IF(AND(D23="",E23="",OR(B23<ResmiTatil!$H$2,AND(C23<>ResmiTatil!$J$2,C23>ResmiTatil!$J$2))),ResmiTatil!$J$2-ResmiTatil!$I$2,IF(OR(D23="",E23=""),0,IF(AND(C23>ResmiTatil!$I$2,D23<ResmiTatil!$J$2),C23-ResmiTatil!$I$2)))+IF(AND(C23<ResmiTatil!$I$2,D23<ResmiTatil!$J$2),ResmiTatil!$J$2-D23)+IF(AND(C23=ResmiTatil!$I$3,D23=ResmiTatil!$J$3),ResmiTatil!$I$3-ResmiTatil!$I$2,IF(AND(C23>ResmiTatil!$I$2,D23>ResmiTatil!$J$2),ResmiTatil!$J$2-ResmiTatil!$I$2))+IF(E23>ResmiTatil!$K$2,E23-ResmiTatil!$K$2),0)) -> 0 | H23: =IF((C23-B23)+(E23-D23)<0,0,(C23-B23)+(E23-D23)) -> 0 | M23: =IF(K23-J23<0,0,K23-J23) -> 0 | N23: =IF(AND(OR(I23="",J23=""),OR(K23="",L23="")),0,IF(OR(I23<>ResmiTatil!$H$2,J23<>ResmiTatil!$I$2,K23<>ResmiTatil!$J$2,L23<>ResmiTatil!$K$2),IF(AND(K23="",L23=""),0,IF(I23<ResmiTatil!$H$2,ResmiTatil!$H$2-I23))+IF(AND(K23="",L23="",OR(I23<ResmiTatil!$H$2,AND(J23<>ResmiTatil!$J$2,J23>ResmiTatil!$J$2))),ResmiTatil!$J$2-ResmiTatil!$I$2,IF(OR(K23="",L23=""),0,IF(AND(J23>ResmiTatil!$I$2,K23<ResmiTatil!$J$2),J23-ResmiTatil!$I$2)))+IF(AND(J23<ResmiTatil!$I$2,K23<ResmiTatil!$J$2),ResmiTatil!$J$2-K23)+IF(AND(J23=ResmiTatil!$I$3,K23=ResmiTatil!$J$3),ResmiTatil!$I$3-ResmiTatil!$I$2,IF(AND(J23>ResmiTatil!$I$2,K23>ResmiTatil!$J$2),ResmiTatil!$J$2-ResmiTatil!$I$2))+IF(L23>ResmiTatil!$K$2,L23-ResmiTatil!$K$2),0)) -> 0 | O23: =IF((J23-I23)+(L23-K23)<0,0,(J23-I23)+(L23-K23)) -> 0 | T23: =IF(R23-Q23<0,0,R23-Q23) -> 0 | U23: =IF(AND(OR(P23="",Q23=""),OR(R23="",S23="")),0,IF(OR(P23<>ResmiTatil!$H$2,Q23<>ResmiTatil!$I$2,R23<>ResmiTatil!$J$2,S23<>ResmiTatil!$K$2),IF(AND(R23="",S23=""),0,IF(P23<ResmiTatil!$H$2,ResmiTatil!$H$2-P23))+IF(AND(R23="",S23="",OR(P23<ResmiTatil!$H$2,AND(Q23<>ResmiTatil!$J$2,Q23>ResmiTatil!$J$2))),ResmiTatil!$J$2-ResmiTatil!$I$2,IF(OR(R23="",S23=""),0,IF(AND(Q23>ResmiTatil!$I$2,R23<ResmiTatil!$J$2),Q23-ResmiTatil!$I$2)))+IF(AND(Q23<ResmiTatil!$I$2,R23<ResmiTatil!$J$2),ResmiTatil!$J$2-R23)+IF(AND(Q23=ResmiTatil!$I$3,R23=ResmiTatil!$J$3),ResmiTatil!$I$3-ResmiTatil!$I$2,IF(AND(Q23>ResmiTatil!$I$2,R23>ResmiTatil!$J$2),ResmiTatil!$J$2-ResmiTatil!$I$2))+IF(S23>ResmiTatil!$K$2,S23-ResmiTatil!$K$2),0)) -> 0 | V23: =IF((Q23-P23)+(S23-R23)<0,0,(Q23-P23)+(S23-R23)) -> 0 | AA23: =IF(Y23-X23<0,0,Y23-X23) -> 0 | AB23: =IF(AND(OR(W23="",X23=""),OR(Y23="",Z23="")),0,IF(OR(W23<>ResmiTatil!$H$2,X23<>ResmiTatil!$I$2,Y23<>ResmiTatil!$J$2,Z23<>ResmiTatil!$K$2),IF(AND(Y23="",Z23=""),0,IF(W23<ResmiTatil!$H$2,ResmiTatil!$H$2-W23))+IF(AND(Y23="",Z23="",OR(W23<ResmiTatil!$H$2,AND(X23<>ResmiTatil!$J$2,X23>ResmiTatil!$J$2))),ResmiTatil!$J$2-ResmiTatil!$I$2,IF(OR(Y23="",Z23=""),0,IF(AND(X23>ResmiTatil!$I$2,Y23<ResmiTatil!$J$2),X23-ResmiTatil!$I$2)))+IF(AND(X23<ResmiTatil!$I$2,Y23<ResmiTatil!$J$2),ResmiTatil!$J$2-Y23)+IF(AND(X23=ResmiTatil!$I$3,Y23=ResmiTatil!$J$3),ResmiTatil!$I$3-ResmiTatil!$I$2,IF(AND(X23>ResmiTatil!$I$2,Y23>ResmiTatil!$J$2),ResmiTatil!$J$2-ResmiTatil!$I$2))+IF(Z23>ResmiTatil!$K$2,Z23-ResmiTatil!$K$2),0)) -> 0 | AC23: =IF((X23-W23)+(Z23-Y23)<0,0,(X23-W23)+(Z23-Y23)) -> 0 | AH23: =IF(AF23-AE23<0,0,AF23-AE23) -> 0 | AI23: =IF(AND(OR(AD23="",AE23=""),OR(AF23="",AG23="")),0,IF(OR(AD23<>ResmiTatil!$H$2,AE23<>ResmiTatil!$I$2,AF23<>ResmiTatil!$J$2,AG23<>ResmiTatil!$K$2),IF(AND(AF23="",AG23=""),0,IF(AD23<ResmiTatil!$H$2,ResmiTatil!$H$2-AD23))+IF(AND(AF23="",AG23="",OR(AD23<ResmiTatil!$H$2,AND(AE23<>ResmiTatil!$J$2,AE23>ResmiTatil!$J$2))),ResmiTatil!$J$2-ResmiTatil!$I$2,IF(OR(AF23="",AG23=""),0,IF(AND(AE23>ResmiTatil!$I$2,AF23<ResmiTatil!$J$2),AE23-ResmiTatil!$I$2)))+IF(AND(AE23<ResmiTatil!$I$2,AF23<ResmiTatil!$J$2),ResmiTatil!$J$2-AF23)+IF(AND(AE23=ResmiTatil!$I$3,AF23=ResmiTatil!$J$3),ResmiTatil!$I$3-ResmiTatil!$I$2,IF(AND(AE23>ResmiTatil!$I$2,AF23>ResmiTatil!$J$2),ResmiTatil!$J$2-ResmiTatil!$I$2))+IF(AG23>ResmiTatil!$K$2,AG23-ResmiTatil!$K$2),0)) -> 0 | AJ23: =IF((AE23-AD23)+(AG23-AF23)<0,0,(AE23-AD23)+(AG23-AF23)) -> 0 | AZ23: 0.52083333
A24: HAFTALIK TOPLAM | G24: =SUM(G19:G23) -> 0.083333333 | H24: =SUM(H19:H23) -> 0.66666667 | N24: =SUM(N19:N23) -> 0.083333333 | O24: =SUM(O19:O23) -> 0.66666667 | U24: =SUM(U19:U23) -> 0 | V24: =SUM(V19:V23) -> 0 | AB24: =SUM(AB19:AB23) -> 0 | AC24: =SUM(AC19:AC23) -> 0 | AI24: =SUM(AI19:AI23) -> 0 | AJ24: =SUM(AJ19:AJ23) -> 0 | AZ24: 0.53125
A25: =A23+1 -> 44758 | AZ25: 0.54166667
A26: =A25+1 -> 44759 | AZ26: 0.55208333
A27: =A26+1 -> 44760 | B27: 0.3125 | C27: 0.52083333 | D27: 0.5625 | E27: 0.6875 | F27: =IF(D27-C27<0,0,D27-C27) -> 0.041666667 | G27: =IF(AND(OR(B27="",C27=""),OR(D27="",E27="")),0,IF(OR(B27<>ResmiTatil!$H$2,C27<>ResmiTatil!$I$2,D27<>ResmiTatil!$J$2,E27<>ResmiTatil!$K$2),IF(AND(D27="",E27=""),0,IF(B27<ResmiTatil!$H$2,ResmiTatil!$H$2-B27))+IF(AND(D27="",E27="",OR(B27<ResmiTatil!$H$2,AND(C27<>ResmiTatil!$J$2,C27>ResmiTatil!$J$2))),ResmiTatil!$J$2-ResmiTatil!$I$2,IF(OR(D27="",E27=""),0,IF(AND(C27>ResmiTatil!$I$2,D27<ResmiTatil!$J$2),C27-ResmiTatil!$I$2)))+IF(AND(C27<ResmiTatil!$I$2,D27<ResmiTatil!$J$2),ResmiTatil!$J$2-D27)+IF(AND(C27=ResmiTatil!$I$3,D27=ResmiTatil!$J$3),ResmiTatil!$I$3-ResmiTatil!$I$2,IF(AND(C27>ResmiTatil!$I$2,D27>ResmiTatil!$J$2),ResmiTatil!$J$2-ResmiTatil!$I$2))+IF(E27>ResmiTatil!$K$2,E27-ResmiTatil!$K$2),0)) -> 0.041666667 | H27: =IF((C27-B27)+(E27-D27)<0,0,(C27-B27)+(E27-D27)) -> 0.33333333 | I27: 0.35416667 | J27: 0.5625 | K27: 0.60416667 | L27: 0.72916667 | M27: =IF(K27-J27<0,0,K27-J27) -> 0.041666667 | N27: =IF(AND(OR(I27="",J27=""),OR(K27="",L27="")),0,IF(OR(I27<>ResmiTatil!$H$2,J27<>ResmiTatil!$I$2,K27<>ResmiTatil!$J$2,L27<>ResmiTatil!$K$2),IF(AND(K27="",L27=""),0,IF(I27<ResmiTatil!$H$2,ResmiTatil!$H$2-I27))+IF(AND(K27="",L27="",OR(I27<ResmiTatil!$H$2,AND(J27<>ResmiTatil!$J$2,J27>ResmiTatil!$J$2))),ResmiTatil!$J$2-ResmiTatil!$I$2,IF(OR(K27="",L27=""),0,IF(AND(J27>ResmiTatil!$I$2,K27<ResmiTatil!$J$2),J27-ResmiTatil!$I$2)))+IF(AND(J27<ResmiTatil!$I$2,K27<ResmiTatil!$J$2),ResmiTatil!$J$2-K27)+IF(AND(J27=ResmiTatil!$I$3,K27=ResmiTatil!$J$3),ResmiTatil!$I$3-ResmiTatil!$I$2,IF(AND(J27>ResmiTatil!$I$2,K27>ResmiTatil!$J$2),ResmiTatil!$J$2-ResmiTatil!$I$2))+IF(L27>ResmiTatil!$K$2,L27-ResmiTatil!$K$2),0)) -> 0.041666667 | O27: =IF((J27-I27)+(L27-K27)<0,0,(J27-I27)+(L27-K27)) -> 0.33333333 | T27: =IF(R27-Q27<0,0,R27-Q27) -> 0 | U27: =IF(AND(OR(P27="",Q27=""),OR(R27="",S27="")),0,IF(OR(P27<>ResmiTatil!$H$2,Q27<>ResmiTatil!$I$2,R27<>ResmiTatil!$J$2,S27<>ResmiTatil!$K$2),IF(AND(R27="",S27=""),0,IF(P27<ResmiTatil!$H$2,ResmiTatil!$H$2-P27))+IF(AND(R27="",S27="",OR(P27<ResmiTatil!$H$2,AND(Q27<>ResmiTatil!$J$2,Q27>ResmiTatil!$J$2))),ResmiTatil!$J$2-ResmiTatil!$I$2,IF(OR(R27="",S27=""),0,IF(AND(Q27>ResmiTatil!$I$2,R27<ResmiTatil!$J$2),Q27-ResmiTatil!$I$2)))+IF(AND(Q27<ResmiTatil!$I$2,R27<ResmiTatil!$J$2),ResmiTatil!$J$2-R27)+IF(AND(Q27=ResmiTatil!$I$3,R27=ResmiTatil!$J$3),ResmiTatil!$I$3-ResmiTatil!$I$2,IF(AND(Q27>ResmiTatil!$I$2,R27>ResmiTatil!$J$2),ResmiTatil!$J$2-ResmiTatil!$I$2))+IF(S27>ResmiTatil!$K$2,S27-ResmiTatil!$K$2),0)) -> 0 | V27: =IF((Q27-P27)+(S27-R27)<0,0,(Q27-P27)+(S27-R27)) -> 0 | AA27: =IF(Y27-X27<0,0,Y27-X27) -> 0 | AB27: =IF(AND(OR(W27="",X27=""),OR(Y27="",Z27="")),0,IF(OR(W27<>ResmiTatil!$H$2,X27<>ResmiTatil!$I$2,Y27<>ResmiTatil!$J$2,Z27<>ResmiTatil!$K$2),IF(AND(Y27="",Z27=""),0,IF(W27<ResmiTatil!$H$2,ResmiTatil!$H$2-W27))+IF(AND(Y27="",Z27="",OR(W27<ResmiTatil!$H$2,AND(X27<>ResmiTatil!$J$2,X27>ResmiTatil!$J$2))),ResmiTatil!$J$2-ResmiTatil!$I$2,IF(OR(Y27="",Z27=""),0,IF(AND(X27>ResmiTatil!$I$2,Y27<ResmiTatil!$J$2),X27-ResmiTatil!$I$2)))+IF(AND(X27<ResmiTatil!$I$2,Y27<ResmiTatil!$J$2),ResmiTatil!$J$2-Y27)+IF(AND(X27=ResmiTatil!$I$3,Y27=ResmiTatil!$J$3),ResmiTatil!$I$3-ResmiTatil!$I$2,IF(AND(X27>ResmiTatil!$I$2,Y27>ResmiTatil!$J$2),ResmiTatil!$J$2-ResmiTatil!$I$2))+IF(Z27>ResmiTatil!$K$2,Z27-ResmiTatil!$K$2),0)) -> 0 | AC27: =IF((X27-W27)+(Z27-Y27)<0,0,(X27-W27)+(Z27-Y27)) -> 0 | AH27: =IF(AF27-AE27<0,0,AF27-AE27) -> 0 | AI27: =IF(AND(OR(AD27="",AE27=""),OR(AF27="",AG27="")),0,IF(OR(AD27<>ResmiTatil!$H$2,AE27<>ResmiTatil!$I$2,AF27<>ResmiTatil!$J$2,AG27<>ResmiTatil!$K$2),IF(AND(AF27="",AG27=""),0,IF(AD27<ResmiTatil!$H$2,ResmiTatil!$H$2-AD27))+IF(AND(AF27="",AG27="",OR(AD27<ResmiTatil!$H$2,AND(AE27<>ResmiTatil!$J$2,AE27>ResmiTatil!$J$2))),ResmiTatil!$J$2-ResmiTatil!$I$2,IF(OR(AF27="",AG27=""),0,IF(AND(AE27>ResmiTatil!$I$2,AF27<ResmiTatil!$J$2),AE27-ResmiTatil!$I$2)))+IF(AND(AE27<ResmiTatil!$I$2,AF27<ResmiTatil!$J$2),ResmiTatil!$J$2-AF27)+IF(AND(AE27=ResmiTatil!$I$3,AF27=ResmiTatil!$J$3),ResmiTatil!$I$3-ResmiTatil!$I$2,IF(AND(AE27>ResmiTatil!$I$2,AF27>ResmiTatil!$J$2),ResmiTatil!$J$2-ResmiTatil!$I$2))+IF(AG27>ResmiTatil!$K$2,AG27-ResmiTatil!$K$2),0)) -> 0 | AJ27: =IF((AE27-AD27)+(AG27-AF27)<0,0,(AE27-AD27)+(AG27-AF27)) -> 0 | AZ27: 0.5625
A28: =A27+1 -> 44761 | B28: 0.35416667 | C28: 0.5625 | D28: 0.60416667 | E28: 0.72916667 | F28: =IF(D28-C28<0,0,D28-C28) -> 0.041666667 | G28: =IF(AND(OR(B28="",C28=""),OR(D28="",E28="")),0,IF(OR(B28<>ResmiTatil!$H$2,C28<>ResmiTatil!$I$2,D28<>ResmiTatil!$J$2,E28<>ResmiTatil!$K$2),IF(AND(D28="",E28=""),0,IF(B28<ResmiTatil!$H$2,ResmiTatil!$H$2-B28))+IF(AND(D28="",E28="",OR(B28<ResmiTatil!$H$2,AND(C28<>ResmiTatil!$J$2,C28>ResmiTatil!$J$2))),ResmiTatil!$J$2-ResmiTatil!$I$2,IF(OR(D28="",E28=""),0,IF(AND(C28>ResmiTatil!$I$2,D28<ResmiTatil!$J$2),C28-ResmiTatil!$I$2)))+IF(AND(C28<ResmiTatil!$I$2,D28<ResmiTatil!$J$2),ResmiTatil!$J$2-D28)+IF(AND(C28=ResmiTatil!$I$3,D28=ResmiTatil!$J$3),ResmiTatil!$I$3-ResmiTatil!$I$2,IF(AND(C28>ResmiTatil!$I$2,D28>ResmiTatil!$J$2),ResmiTatil!$J$2-ResmiTatil!$I$2))+IF(E28>ResmiTatil!$K$2,E28-ResmiTatil!$K$2),0)) -> 0.041666667 | H28: =IF((C28-B28)+(E28-D28)<0,0,(C28-B28)+(E28-D28)) -> 0.33333333 | I28: 0.35416667 | J28: 0.52083333 | K28: 0.5625 | L28: 0.72916667 | M28: =IF(K28-J28<0,0,K28-J28) -> 0.041666667 | N28: =IF(AND(OR(I28="",J28=""),OR(K28="",L28="")),0,IF(OR(I28<>ResmiTatil!$H$2,J28<>ResmiTatil!$I$2,K28<>ResmiTatil!$J$2,L28<>ResmiTatil!$K$2),IF(AND(K28="",L28=""),0,IF(I28<ResmiTatil!$H$2,ResmiTatil!$H$2-I28))+IF(AND(K28="",L28="",OR(I28<ResmiTatil!$H$2,AND(J28<>ResmiTatil!$J$2,J28>ResmiTatil!$J$2))),ResmiTatil!$J$2-ResmiTatil!$I$2,IF(OR(K28="",L28=""),0,IF(AND(J28>ResmiTatil!$I$2,K28<ResmiTatil!$J$2),J28-ResmiTatil!$I$2)))+IF(AND(J28<ResmiTatil!$I$2,K28<ResmiTatil!$J$2),ResmiTatil!$J$2-K28)+IF(AND(J28=ResmiTatil!$I$3,K28=ResmiTatil!$J$3),ResmiTatil!$I$3-ResmiTatil!$I$2,IF(AND(J28>ResmiTatil!$I$2,K28>ResmiTatil!$J$2),ResmiTatil!$J$2-ResmiTatil!$I$2))+IF(L28>ResmiTatil!$K$2,L28-ResmiTatil!$K$2),0)) -> 2.1649349e-14 | O28: =IF((J28-I28)+(L28-K28)<0,0,(J28-I28)+(L28-K28)) -> 0.33333333 | T28: =IF(R28-Q28<0,0,R28-Q28) -> 0 | U28: =IF(AND(OR(P28="",Q28=""),OR(R28="",S28="")),0,IF(OR(P28<>ResmiTatil!$H$2,Q28<>ResmiTatil!$I$2,R28<>ResmiTatil!$J$2,S28<>ResmiTatil!$K$2),IF(AND(R28="",S28=""),0,IF(P28<ResmiTatil!$H$2,ResmiTatil!$H$2-P28))+IF(AND(R28="",S28="",OR(P28<ResmiTatil!$H$2,AND(Q28<>ResmiTatil!$J$2,Q28>ResmiTatil!$J$2))),ResmiTatil!$J$2-ResmiTatil!$I$2,IF(OR(R28="",S28=""),0,IF(AND(Q28>ResmiTatil!$I$2,R28<ResmiTatil!$J$2),Q28-ResmiTatil!$I$2)))+IF(AND(Q28<ResmiTatil!$I$2,R28<ResmiTatil!$J$2),ResmiTatil!$J$2-R28)+IF(AND(Q28=ResmiTatil!$I$3,R28=ResmiTatil!$J$3),ResmiTatil!$I$3-ResmiTatil!$I$2,IF(AND(Q28>ResmiTatil!$I$2,R28>ResmiTatil!$J$2),ResmiTatil!$J$2-ResmiTatil!$I$2))+IF(S28>ResmiTatil!$K$2,S28-ResmiTatil!$K$2),0)) -> 0 | V28: =IF((Q28-P28)+(S28-R28)<0,0,(Q28-P28)+(S28-R28)) -> 0 | AA28: =IF(Y28-X28<0,0,Y28-X28) -> 0 | AB28: =IF(AND(OR(W28="",X28=""),OR(Y28="",Z28="")),0,IF(OR(W28<>ResmiTatil!$H$2,X28<>ResmiTatil!$I$2,Y28<>ResmiTatil!$J$2,Z28<>ResmiTatil!$K$2),IF(AND(Y28="",Z28=""),0,IF(W28<ResmiTatil!$H$2,ResmiTatil!$H$2-W28))+IF(AND(Y28="",Z28="",OR(W28<ResmiTatil!$H$2,AND(X28<>ResmiTatil!$J$2,X28>ResmiTatil!$J$2))),ResmiTatil!$J$2-ResmiTatil!$I$2,IF(OR(Y28="",Z28=""),0,IF(AND(X28>ResmiTatil!$I$2,Y28<ResmiTatil!$J$2),X28-ResmiTatil!$I$2)))+IF(AND(X28<ResmiTatil!$I$2,Y28<ResmiTatil!$J$2),ResmiTatil!$J$2-Y28)+IF(AND(X28=ResmiTatil!$I$3,Y28=ResmiTatil!$J$3),ResmiTatil!$I$3-ResmiTatil!$I$2,IF(AND(X28>ResmiTatil!$I$2,Y28>ResmiTatil!$J$2),ResmiTatil!$J$2-ResmiTatil!$I$2))+IF(Z28>ResmiTatil!$K$2,Z28-ResmiTatil!$K$2),0)) -> 0 | AC28: =IF((X28-W28)+(Z28-Y28)<0,0,(X28-W28)+(Z28-Y28)) -> 0 | AH28: =IF(AF28-AE28<0,0,AF28-AE28) -> 0 | AI28: =IF(AND(OR(AD28="",AE28=""),OR(AF28="",AG28="")),0,IF(OR(AD28<>ResmiTatil!$H$2,AE28<>ResmiTatil!$I$2,AF28<>ResmiTatil!$J$2,AG28<>ResmiTatil!$K$2),IF(AND(AF28="",AG28=""),0,IF(AD28<ResmiTatil!$H$2,ResmiTatil!$H$2-AD28))+IF(AND(AF28="",AG28="",OR(AD28<ResmiTatil!$H$2,AND(AE28<>ResmiTatil!$J$2,AE28>ResmiTatil!$J$2))),ResmiTatil!$J$2-ResmiTatil!$I$2,IF(OR(AF28="",AG28=""),0,IF(AND(AE28>ResmiTatil!$I$2,AF28<ResmiTatil!$J$2),AE28-ResmiTatil!$I$2)))+IF(AND(AE28<ResmiTatil!$I$2,AF28<ResmiTatil!$J$2),ResmiTatil!$J$2-AF28)+IF(AND(AE28=ResmiTatil!$I$3,AF28=ResmiTatil!$J$3),ResmiTatil!$I$3-ResmiTatil!$I$2,IF(AND(AE28>ResmiTatil!$I$2,AF28>ResmiTatil!$J$2),ResmiTatil!$J$2-ResmiTatil!$I$2))+IF(AG28>ResmiTatil!$K$2,AG28-ResmiTatil!$K$2),0)) -> 0 | AJ28: =IF((AE28-AD28)+(AG28-AF28)<0,0,(AE28-AD28)+(AG28-AF28)) -> 0 | AZ28: 0.57291667
A29: =A28+1 -> 44762 | B29: 0.35416667 | C29: 0.52083333 | D29: 0.5625 | E29: 0.72916667 | F29: =IF(D29-C29<0,0,D29-C29) -> 0.041666667 | G29: =IF(AND(OR(B29="",C29=""),OR(D29="",E29="")),0,IF(OR(B29<>ResmiTatil!$H$2,C29<>ResmiTatil!$I$2,D29<>ResmiTatil!$J$2,E29<>ResmiTatil!$K$2),IF(AND(D29="",E29=""),0,IF(B29<ResmiTatil!$H$2,ResmiTatil!$H$2-B29))+IF(AND(D29="",E29="",OR(B29<ResmiTatil!$H$2,AND(C29<>ResmiTatil!$J$2,C29>ResmiTatil!$J$2))),ResmiTatil!$J$2-ResmiTatil!$I$2,IF(OR(D29="",E29=""),0,IF(AND(C29>ResmiTatil!$I$2,D29<ResmiTatil!$J$2),C29-ResmiTatil!$I$2)))+IF(AND(C29<ResmiTatil!$I$2,D29<ResmiTatil!$J$2),ResmiTatil!$J$2-D29)+IF(AND(C29=ResmiTatil!$I$3,D29=ResmiTatil!$J$3),ResmiTatil!$I$3-ResmiTatil!$I$2,IF(AND(C29>ResmiTatil!$I$2,D29>ResmiTatil!$J$2),ResmiTatil!$J$2-ResmiTatil!$I$2))+IF(E29>ResmiTatil!$K$2,E29-ResmiTatil!$K$2),0)) -> 2.1649349e-14 | H29: =IF((C29-B29)+(E29-D29)<0,0,(C29-B29)+(E29-D29)) -> 0.33333333 | I29: 0.35416667 | J29: 0.5625 | K29: 0.60416667 | L29: 0.72916667 | M29: =IF(K29-J29<0,0,K29-J29) -> 0.041666667 | N29: =IF(AND(OR(I29="",J29=""),OR(K29="",L29="")),0,IF(OR(I29<>ResmiTatil!$H$2,J29<>ResmiTatil!$I$2,K29<>ResmiTatil!$J$2,L29<>ResmiTatil!$K$2),IF(AND(K29="",L29=""),0,IF(I29<ResmiTatil!$H$2,ResmiTatil!$H$2-I29))+IF(AND(K29="",L29="",OR(I29<ResmiTatil!$H$2,AND(J29<>ResmiTatil!$J$2,J29>ResmiTatil!$J$2))),ResmiTatil!$J$2-ResmiTatil!$I$2,IF(OR(K29="",L29=""),0,IF(AND(J29>ResmiTatil!$I$2,K29<ResmiTatil!$J$2),J29-ResmiTatil!$I$2)))+IF(AND(J29<ResmiTatil!$I$2,K29<ResmiTatil!$J$2),ResmiTatil!$J$2-K29)+IF(AND(J29=ResmiTatil!$I$3,K29=ResmiTatil!$J$3),ResmiTatil!$I$3-ResmiTatil!$I$2,IF(AND(J29>ResmiTatil!$I$2,K29>ResmiTatil!$J$2),ResmiTatil!$J$2-ResmiTatil!$I$2))+IF(L29>ResmiTatil!$K$2,L29-ResmiTatil!$K$2),0)) -> 0.041666667 | O29: =IF((J29-I29)+(L29-K29)<0,0,(J29-I29)+(L29-K29)) -> 0.33333333 | T29: =IF(R29-Q29<0,0,R29-Q29) -> 0 | U29: =IF(AND(OR(P29="",Q29=""),OR(R29="",S29="")),0,IF(OR(P29<>ResmiTatil!$H$2,Q29<>ResmiTatil!$I$2,R29<>ResmiTatil!$J$2,S29<>ResmiTatil!$K$2),IF(AND(R29="",S29=""),0,IF(P29<ResmiTatil!$H$2,ResmiTatil!$H$2-P29))+IF(AND(R29="",S29="",OR(P29<ResmiTatil!$H$2,AND(Q29<>ResmiTatil!$J$2,Q29>ResmiTatil!$J$2))),ResmiTatil!$J$2-ResmiTatil!$I$2,IF(OR(R29="",S29=""),0,IF(AND(Q29>ResmiTatil!$I$2,R29<ResmiTatil!$J$2),Q29-ResmiTatil!$I$2)))+IF(AND(Q29<ResmiTatil!$I$2,R29<ResmiTatil!$J$2),ResmiTatil!$J$2-R29)+IF(AND(Q29=ResmiTatil!$I$3,R29=ResmiTatil!$J$3),ResmiTatil!$I$3-ResmiTatil!$I$2,IF(AND(Q29>ResmiTatil!$I$2,R29>ResmiTatil!$J$2),ResmiTatil!$J$2-ResmiTatil!$I$2))+IF(S29>ResmiTatil!$K$2,S29-ResmiTatil!$K$2),0)) -> 0 | V29: =IF((Q29-P29)+(S29-R29)<0,0,(Q29-P29)+(S29-R29)) -> 0 | AA29: =IF(Y29-X29<0,0,Y29-X29) -> 0 | AB29: =IF(AND(OR(W29="",X29=""),OR(Y29="",Z29="")),0,IF(OR(W29<>ResmiTatil!$H$2,X29<>ResmiTatil!$I$2,Y29<>ResmiTatil!$J$2,Z29<>ResmiTatil!$K$2),IF(AND(Y29="",Z29=""),0,IF(W29<ResmiTatil!$H$2,ResmiTatil!$H$2-W29))+IF(AND(Y29="",Z29="",OR(W29<ResmiTatil!$H$2,AND(X29<>ResmiTatil!$J$2,X29>ResmiTatil!$J$2))),ResmiTatil!$J$2-ResmiTatil!$I$2,IF(OR(Y29="",Z29=""),0,IF(AND(X29>ResmiTatil!$I$2,Y29<ResmiTatil!$J$2),X29-ResmiTatil!$I$2)))+IF(AND(X29<ResmiTatil!$I$2,Y29<ResmiTatil!$J$2),ResmiTatil!$J$2-Y29)+IF(AND(X29=ResmiTatil!$I$3,Y29=ResmiTatil!$J$3),ResmiTatil!$I$3-ResmiTatil!$I$2,IF(AND(X29>ResmiTatil!$I$2,Y29>ResmiTatil!$J$2),ResmiTatil!$J$2-ResmiTatil!$I$2))+IF(Z29>ResmiTatil!$K$2,Z29-ResmiTatil!$K$2),0)) -> 0 | AC29: =IF((X29-W29)+(Z29-Y29)<0,0,(X29-W29)+(Z29-Y29)) -> 0 | AH29: =IF(AF29-AE29<0,0,AF29-AE29) -> 0 | AI29: =IF(AND(OR(AD29="",AE29=""),OR(AF29="",AG29="")),0,IF(OR(AD29<>ResmiTatil!$H$2,AE29<>ResmiTatil!$I$2,AF29<>ResmiTatil!$J$2,AG29<>ResmiTatil!$K$2),IF(AND(AF29="",AG29=""),0,IF(AD29<ResmiTatil!$H$2,ResmiTatil!$H$2-AD29))+IF(AND(AF29="",AG29="",OR(AD29<ResmiTatil!$H$2,AND(AE29<>ResmiTatil!$J$2,AE29>ResmiTatil!$J$2))),ResmiTatil!$J$2-ResmiTatil!$I$2,IF(OR(AF29="",AG29=""),0,IF(AND(AE29>ResmiTatil!$I$2,AF29<ResmiTatil!$J$2),AE29-ResmiTatil!$I$2)))+IF(AND(AE29<ResmiTatil!$I$2,AF29<ResmiTatil!$J$2),ResmiTatil!$J$2-AF29)+IF(AND(AE29=ResmiTatil!$I$3,AF29=ResmiTatil!$J$3),ResmiTatil!$I$3-ResmiTatil!$I$2,IF(AND(AE29>ResmiTatil!$I$2,AF29>ResmiTatil!$J$2),ResmiTatil!$J$2-ResmiTatil!$I$2))+IF(AG29>ResmiTatil!$K$2,AG29-ResmiTatil!$K$2),0)) -> 0 | AJ29: =IF((AE29-AD29)+(AG29-AF29)<0,0,(AE29-AD29)+(AG29-AF29)) -> 0 | AZ29: 0.58333333
A30: =A29+1 -> 44763 | B30: 0.35416667 | C30: 0.5625 | D30: 0.60416667 | E30: 0.72916667 | F30: =IF(D30-C30<0,0,D30-C30) -> 0.041666667 | G30: =IF(AND(OR(B30="",C30=""),OR(D30="",E30="")),0,IF(OR(B30<>ResmiTatil!$H$2,C30<>ResmiTatil!$I$2,D30<>ResmiTatil!$J$2,E30<>ResmiTatil!$K$2),IF(AND(D30="",E30=""),0,IF(B30<ResmiTatil!$H$2,ResmiTatil!$H$2-B30))+IF(AND(D30="",E30="",OR(B30<ResmiTatil!$H$2,AND(C30<>ResmiTatil!$J$2,C30>ResmiTatil!$J$2))),ResmiTatil!$J$2-ResmiTatil!$I$2,IF(OR(D30="",E30=""),0,IF(AND(C30>ResmiTatil!$I$2,D30<ResmiTatil!$J$2),C30-ResmiTatil!$I$2)))+IF(AND(C30<ResmiTatil!$I$2,D30<ResmiTatil!$J$2),ResmiTatil!$J$2-D30)+IF(AND(C30=ResmiTatil!$I$3,D30=ResmiTatil!$J$3),ResmiTatil!$I$3-ResmiTatil!$I$2,IF(AND(C30>ResmiTatil!$I$2,D30>ResmiTatil!$J$2),ResmiTatil!$J$2-ResmiTatil!$I$2))+IF(E30>ResmiTatil!$K$2,E30-ResmiTatil!$K$2),0)) -> 0.041666667 | H30: =IF((C30-B30)+(E30-D30)<0,0,(C30-B30)+(E30-D30)) -> 0.33333333 | I30: 0.35416667 | J30: 0.52083333 | K30: 0.5625 | L30: 0.72916667 | M30: =IF(K30-J30<0,0,K30-J30) -> 0.041666667 | N30: =IF(AND(OR(I30="",J30=""),OR(K30="",L30="")),0,IF(OR(I30<>ResmiTatil!$H$2,J30<>ResmiTatil!$I$2,K30<>ResmiTatil!$J$2,L30<>ResmiTatil!$K$2),IF(AND(K30="",L30=""),0,IF(I30<ResmiTatil!$H$2,ResmiTatil!$H$2-I30))+IF(AND(K30="",L30="",OR(I30<ResmiTatil!$H$2,AND(J30<>ResmiTatil!$J$2,J30>ResmiTatil!$J$2))),ResmiTatil!$J$2-ResmiTatil!$I$2,IF(OR(K30="",L30=""),0,IF(AND(J30>ResmiTatil!$I$2,K30<ResmiTatil!$J$2),J30-ResmiTatil!$I$2)))+IF(AND(J30<ResmiTatil!$I$2,K30<ResmiTatil!$J$2),ResmiTatil!$J$2-K30)+IF(AND(J30=ResmiTatil!$I$3,K30=ResmiTatil!$J$3),ResmiTatil!$I$3-ResmiTatil!$I$2,IF(AND(J30>ResmiTatil!$I$2,K30>ResmiTatil!$J$2),ResmiTatil!$J$2-ResmiTatil!$I$2))+IF(L30>ResmiTatil!$K$2,L30-ResmiTatil!$K$2),0)) -> 2.1649349e-14 | O30: =IF((J30-I30)+(L30-K30)<0,0,(J30-I30)+(L30-K30)) -> 0.33333333 | T30: =IF(R30-Q30<0,0,R30-Q30) -> 0 | U30: =IF(AND(OR(P30="",Q30=""),OR(R30="",S30="")),0,IF(OR(P30<>ResmiTatil!$H$2,Q30<>ResmiTatil!$I$2,R30<>ResmiTatil!$J$2,S30<>ResmiTatil!$K$2),IF(AND(R30="",S30=""),0,IF(P30<ResmiTatil!$H$2,ResmiTatil!$H$2-P30))+IF(AND(R30="",S30="",OR(P30<ResmiTatil!$H$2,AND(Q30<>ResmiTatil!$J$2,Q30>ResmiTatil!$J$2))),ResmiTatil!$J$2-ResmiTatil!$I$2,IF(OR(R30="",S30=""),0,IF(AND(Q30>ResmiTatil!$I$2,R30<ResmiTatil!$J$2),Q30-ResmiTatil!$I$2)))+IF(AND(Q30<ResmiTatil!$I$2,R30<ResmiTatil!$J$2),ResmiTatil!$J$2-R30)+IF(AND(Q30=ResmiTatil!$I$3,R30=ResmiTatil!$J$3),ResmiTatil!$I$3-ResmiTatil!$I$2,IF(AND(Q30>ResmiTatil!$I$2,R30>ResmiTatil!$J$2),ResmiTatil!$J$2-ResmiTatil!$I$2))+IF(S30>ResmiTatil!$K$2,S30-ResmiTatil!$K$2),0)) -> 0 | V30: =IF((Q30-P30)+(S30-R30)<0,0,(Q30-P30)+(S30-R30)) -> 0 | AA30: =IF(Y30-X30<0,0,Y30-X30) -> 0 | AB30: =IF(AND(OR(W30="",X30=""),OR(Y30="",Z30="")),0,IF(OR(W30<>ResmiTatil!$H$2,X30<>ResmiTatil!$I$2,Y30<>ResmiTatil!$J$2,Z30<>ResmiTatil!$K$2),IF(AND(Y30="",Z30=""),0,IF(W30<ResmiTatil!$H$2,ResmiTatil!$H$2-W30))+IF(AND(Y30="",Z30="",OR(W30<ResmiTatil!$H$2,AND(X30<>ResmiTatil!$J$2,X30>ResmiTatil!$J$2))),ResmiTatil!$J$2-ResmiTatil!$I$2,IF(OR(Y30="",Z30=""),0,IF(AND(X30>ResmiTatil!$I$2,Y30<ResmiTatil!$J$2),X30-ResmiTatil!$I$2)))+IF(AND(X30<ResmiTatil!$I$2,Y30<ResmiTatil!$J$2),ResmiTatil!$J$2-Y30)+IF(AND(X30=ResmiTatil!$I$3,Y30=ResmiTatil!$J$3),ResmiTatil!$I$3-ResmiTatil!$I$2,IF(AND(X30>ResmiTatil!$I$2,Y30>ResmiTatil!$J$2),ResmiTatil!$J$2-ResmiTatil!$I$2))+IF(Z30>ResmiTatil!$K$2,Z30-ResmiTatil!$K$2),0)) -> 0 | AC30: =IF((X30-W30)+(Z30-Y30)<0,0,(X30-W30)+(Z30-Y30)) -> 0 | AH30: =IF(AF30-AE30<0,0,AF30-AE30) -> 0 | AI30: =IF(AND(OR(AD30="",AE30=""),OR(AF30="",AG30="")),0,IF(OR(AD30<>ResmiTatil!$H$2,AE30<>ResmiTatil!$I$2,AF30<>ResmiTatil!$J$2,AG30<>ResmiTatil!$K$2),IF(AND(AF30="",AG30=""),0,IF(AD30<ResmiTatil!$H$2,ResmiTatil!$H$2-AD30))+IF(AND(AF30="",AG30="",OR(AD30<ResmiTatil!$H$2,AND(AE30<>ResmiTatil!$J$2,AE30>ResmiTatil!$J$2))),ResmiTatil!$J$2-ResmiTatil!$I$2,IF(OR(AF30="",AG30=""),0,IF(AND(AE30>ResmiTatil!$I$2,AF30<ResmiTatil!$J$2),AE30-ResmiTatil!$I$2)))+IF(AND(AE30<ResmiTatil!$I$2,AF30<ResmiTatil!$J$2),ResmiTatil!$J$2-AF30)+IF(AND(AE30=ResmiTatil!$I$3,AF30=ResmiTatil!$J$3),ResmiTatil!$I$3-ResmiTatil!$I$2,IF(AND(AE30>ResmiTatil!$I$2,AF30>ResmiTatil!$J$2),ResmiTatil!$J$2-ResmiTatil!$I$2))+IF(AG30>ResmiTatil!$K$2,AG30-ResmiTatil!$K$2),0)) -> 0 | AJ30: =IF((AE30-AD30)+(AG30-AF30)<0,0,(AE30-AD30)+(AG30-AF30)) -> 0 | AZ30: 0.59375
A31: =A30+1 -> 44764 | B31: 0.35416667 | C31: 0.52083333 | D31: 0.5625 | E31: 0.72916667 | F31: =IF(D31-C31<0,0,D31-C31) -> 0.041666667 | G31: =IF(AND(OR(B31="",C31=""),OR(D31="",E31="")),0,IF(OR(B31<>ResmiTatil!$H$2,C31<>ResmiTatil!$I$2,D31<>ResmiTatil!$J$2,E31<>ResmiTatil!$K$2),IF(AND(D31="",E31=""),0,IF(B31<ResmiTatil!$H$2,ResmiTatil!$H$2-B31))+IF(AND(D31="",E31="",OR(B31<ResmiTatil!$H$2,AND(C31<>ResmiTatil!$J$2,C31>ResmiTatil!$J$2))),ResmiTatil!$J$2-ResmiTatil!$I$2,IF(OR(D31="",E31=""),0,IF(AND(C31>ResmiTatil!$I$2,D31<ResmiTatil!$J$2),C31-ResmiTatil!$I$2)))+IF(AND(C31<ResmiTatil!$I$2,D31<ResmiTatil!$J$2),ResmiTatil!$J$2-D31)+IF(AND(C31=ResmiTatil!$I$3,D31=ResmiTatil!$J$3),ResmiTatil!$I$3-ResmiTatil!$I$2,IF(AND(C31>ResmiTatil!$I$2,D31>ResmiTatil!$J$2),ResmiTatil!$J$2-ResmiTatil!$I$2))+IF(E31>ResmiTatil!$K$2,E31-ResmiTatil!$K$2),0)) -> 2.1649349e-14 | H31: =IF((C31-B31)+(E31-D31)<0,0,(C31-B31)+(E31-D31)) -> 0.33333333 | I31: 0.35416667 | J31: 0.5625 | K31: 0.60416667 | L31: 0.72916667 | M31: =IF(K31-J31<0,0,K31-J31) -> 0.041666667 | N31: =IF(AND(OR(I31="",J31=""),OR(K31="",L31="")),0,IF(OR(I31<>ResmiTatil!$H$2,J31<>ResmiTatil!$I$2,K31<>ResmiTatil!$J$2,L31<>ResmiTatil!$K$2),IF(AND(K31="",L31=""),0,IF(I31<ResmiTatil!$H$2,ResmiTatil!$H$2-I31))+IF(AND(K31="",L31="",OR(I31<ResmiTatil!$H$2,AND(J31<>ResmiTatil!$J$2,J31>ResmiTatil!$J$2))),ResmiTatil!$J$2-ResmiTatil!$I$2,IF(OR(K31="",L31=""),0,IF(AND(J31>ResmiTatil!$I$2,K31<ResmiTatil!$J$2),J31-ResmiTatil!$I$2)))+IF(AND(J31<ResmiTatil!$I$2,K31<ResmiTatil!$J$2),ResmiTatil!$J$2-K31)+IF(AND(J31=ResmiTatil!$I$3,K31=ResmiTatil!$J$3),ResmiTatil!$I$3-ResmiTatil!$I$2,IF(AND(J31>ResmiTatil!$I$2,K31>ResmiTatil!$J$2),ResmiTatil!$J$2-ResmiTatil!$I$2))+IF(L31>ResmiTatil!$K$2,L31-ResmiTatil!$K$2),0)) -> 0.041666667 | O31: =IF((J31-I31)+(L31-K31)<0,0,(J31-I31)+(L31-K31)) -> 0.33333333 | T31: =IF(R31-Q31<0,0,R31-Q31) -> 0 | U31: =IF(AND(OR(P31="",Q31=""),OR(R31="",S31="")),0,IF(OR(P31<>ResmiTatil!$H$2,Q31<>ResmiTatil!$I$2,R31<>ResmiTatil!$J$2,S31<>ResmiTatil!$K$2),IF(AND(R31="",S31=""),0,IF(P31<ResmiTatil!$H$2,ResmiTatil!$H$2-P31))+IF(AND(R31="",S31="",OR(P31<ResmiTatil!$H$2,AND(Q31<>ResmiTatil!$J$2,Q31>ResmiTatil!$J$2))),ResmiTatil!$J$2-ResmiTatil!$I$2,IF(OR(R31="",S31=""),0,IF(AND(Q31>ResmiTatil!$I$2,R31<ResmiTatil!$J$2),Q31-ResmiTatil!$I$2)))+IF(AND(Q31<ResmiTatil!$I$2,R31<ResmiTatil!$J$2),ResmiTatil!$J$2-R31)+IF(AND(Q31=ResmiTatil!$I$3,R31=ResmiTatil!$J$3),ResmiTatil!$I$3-ResmiTatil!$I$2,IF(AND(Q31>ResmiTatil!$I$2,R31>ResmiTatil!$J$2),ResmiTatil!$J$2-ResmiTatil!$I$2))+IF(S31>ResmiTatil!$K$2,S31-ResmiTatil!$K$2),0)) -> 0 | V31: =IF((Q31-P31)+(S31-R31)<0,0,(Q31-P31)+(S31-R31)) -> 0 | AA31: =IF(Y31-X31<0,0,Y31-X31) -> 0 | AB31: =IF(AND(OR(W31="",X31=""),OR(Y31="",Z31="")),0,IF(OR(W31<>ResmiTatil!$H$2,X31<>ResmiTatil!$I$2,Y31<>ResmiTatil!$J$2,Z31<>ResmiTatil!$K$2),IF(AND(Y31="",Z31=""),0,IF(W31<ResmiTatil!$H$2,ResmiTatil!$H$2-W31))+IF(AND(Y31="",Z31="",OR(W31<ResmiTatil!$H$2,AND(X31<>ResmiTatil!$J$2,X31>ResmiTatil!$J$2))),ResmiTatil!$J$2-ResmiTatil!$I$2,IF(OR(Y31="",Z31=""),0,IF(AND(X31>ResmiTatil!$I$2,Y31<ResmiTatil!$J$2),X31-ResmiTatil!$I$2)))+IF(AND(X31<ResmiTatil!$I$2,Y31<ResmiTatil!$J$2),ResmiTatil!$J$2-Y31)+IF(AND(X31=ResmiTatil!$I$3,Y31=ResmiTatil!$J$3),ResmiTatil!$I$3-ResmiTatil!$I$2,IF(AND(X31>ResmiTatil!$I$2,Y31>ResmiTatil!$J$2),ResmiTatil!$J$2-ResmiTatil!$I$2))+IF(Z31>ResmiTatil!$K$2,Z31-ResmiTatil!$K$2),0)) -> 0 | AC31: =IF((X31-W31)+(Z31-Y31)<0,0,(X31-W31)+(Z31-Y31)) -> 0 | AH31: =IF(AF31-AE31<0,0,AF31-AE31) -> 0 | AI31: =IF(AND(OR(AD31="",AE31=""),OR(AF31="",AG31="")),0,IF(OR(AD31<>ResmiTatil!$H$2,AE31<>ResmiTatil!$I$2,AF31<>ResmiTatil!$J$2,AG31<>ResmiTatil!$K$2),IF(AND(AF31="",AG31=""),0,IF(AD31<ResmiTatil!$H$2,ResmiTatil!$H$2-AD31))+IF(AND(AF31="",AG31="",OR(AD31<ResmiTatil!$H$2,AND(AE31<>ResmiTatil!$J$2,AE31>ResmiTatil!$J$2))),ResmiTatil!$J$2-ResmiTatil!$I$2,IF(OR(AF31="",AG31=""),0,IF(AND(AE31>ResmiTatil!$I$2,AF31<ResmiTatil!$J$2),AE31-ResmiTatil!$I$2)))+IF(AND(AE31<ResmiTatil!$I$2,AF31<ResmiTatil!$J$2),ResmiTatil!$J$2-AF31)+IF(AND(AE31=ResmiTatil!$I$3,AF31=ResmiTatil!$J$3),ResmiTatil!$I$3-ResmiTatil!$I$2,IF(AND(AE31>ResmiTatil!$I$2,AF31>ResmiTatil!$J$2),ResmiTatil!$J$2-ResmiTatil!$I$2))+IF(AG31>ResmiTatil!$K$2,AG31-ResmiTatil!$K$2),0)) -> 0 | AJ31: =IF((AE31-AD31)+(AG31-AF31)<0,0,(AE31-AD31)+(AG31-AF31)) -> 0 | AZ31: 0.60416667
A32: HAFTALIK TOPLAM | G32: =SUM(G27:G31) -> 0.125 | H32: =SUM(H27:H31) -> 1.6666667 | N32: =SUM(N27:N31) -> 0.125 | O32: =SUM(O27:O31) -> 1.6666667 | U32: =SUM(U27:U31) -> 0 | V32: =SUM(V27:V31) -> 0 | AB32: =SUM(AB27:AB31) -> 0 | AC32: =SUM(AC27:AC31) -> 0 | AI32: =SUM(AI27:AI31) -> 0 | AJ32: =SUM(AJ27:AJ31) -> 0 | AZ32: 0.61458333
A33: =A31+1 -> 44765 | AZ33: 0.625
A34: =A33+1 -> 44766 | AZ34: 0.63541667
A35: =A34+1 -> 44767 | B35: 0.35416667 | C35: 0.5625 | D35: 0.60416667 | E35: 0.72916667 | F35: =IF(D35-C35<0,0,D35-C35) -> 0.041666667 | G35: =IF(AND(OR(B35="",C35=""),OR(D35="",E35="")),0,IF(OR(B35<>ResmiTatil!$H$2,C35<>ResmiTatil!$I$2,D35<>ResmiTatil!$J$2,E35<>ResmiTatil!$K$2),IF(AND(D35="",E35=""),0,IF(B35<ResmiTatil!$H$2,ResmiTatil!$H$2-B35))+IF(AND(D35="",E35="",OR(B35<ResmiTatil!$H$2,AND(C35<>ResmiTatil!$J$2,C35>ResmiTatil!$J$2))),ResmiTatil!$J$2-ResmiTatil!$I$2,IF(OR(D35="",E35=""),0,IF(AND(C35>ResmiTatil!$I$2,D35<ResmiTatil!$J$2),C35-ResmiTatil!$I$2)))+IF(AND(C35<ResmiTatil!$I$2,D35<ResmiTatil!$J$2),ResmiTatil!$J$2-D35)+IF(AND(C35=ResmiTatil!$I$3,D35=ResmiTatil!$J$3),ResmiTatil!$I$3-ResmiTatil!$I$2,IF(AND(C35>ResmiTatil!$I$2,D35>ResmiTatil!$J$2),ResmiTatil!$J$2-ResmiTatil!$I$2))+IF(E35>ResmiTatil!$K$2,E35-ResmiTatil!$K$2),0)) -> 0.041666667 | H35: =IF((C35-B35)+(E35-D35)<0,0,(C35-B35)+(E35-D35)) -> 0.33333333 | I35: 0.3125 | J35: 0.52083333 | K35: 0.5625 | L35: 0.6875 | M35: =IF(K35-J35<0,0,K35-J35) -> 0.041666667 | N35: =IF(AND(OR(I35="",J35=""),OR(K35="",L35="")),0,IF(OR(I35<>ResmiTatil!$H$2,J35<>ResmiTatil!$I$2,K35<>ResmiTatil!$J$2,L35<>ResmiTatil!$K$2),IF(AND(K35="",L35=""),0,IF(I35<ResmiTatil!$H$2,ResmiTatil!$H$2-I35))+IF(AND(K35="",L35="",OR(I35<ResmiTatil!$H$2,AND(J35<>ResmiTatil!$J$2,J35>ResmiTatil!$J$2))),ResmiTatil!$J$2-ResmiTatil!$I$2,IF(OR(K35="",L35=""),0,IF(AND(J35>ResmiTatil!$I$2,K35<ResmiTatil!$J$2),J35-ResmiTatil!$I$2)))+IF(AND(J35<ResmiTatil!$I$2,K35<ResmiTatil!$J$2),ResmiTatil!$J$2-K35)+IF(AND(J35=ResmiTatil!$I$3,K35=ResmiTatil!$J$3),ResmiTatil!$I$3-ResmiTatil!$I$2,IF(AND(J35>ResmiTatil!$I$2,K35>ResmiTatil!$J$2),ResmiTatil!$J$2-ResmiTatil!$I$2))+IF(L35>ResmiTatil!$K$2,L35-ResmiTatil!$K$2),0)) -> 0.041666667 | O35: =IF((J35-I35)+(L35-K35)<0,0,(J35-I35)+(L35-K35)) -> 0.33333333 | T35: =IF(R35-Q35<0,0,R35-Q35) -> 0 | U35: =IF(AND(OR(P35="",Q35=""),OR(R35="",S35="")),0,IF(OR(P35<>ResmiTatil!$H$2,Q35<>ResmiTatil!$I$2,R35<>ResmiTatil!$J$2,S35<>ResmiTatil!$K$2),IF(AND(R35="",S35=""),0,IF(P35<ResmiTatil!$H$2,ResmiTatil!$H$2-P35))+IF(AND(R35="",S35="",OR(P35<ResmiTatil!$H$2,AND(Q35<>ResmiTatil!$J$2,Q35>ResmiTatil!$J$2))),ResmiTatil!$J$2-ResmiTatil!$I$2,IF(OR(R35="",S35=""),0,IF(AND(Q35>ResmiTatil!$I$2,R35<ResmiTatil!$J$2),Q35-ResmiTatil!$I$2)))+IF(AND(Q35<ResmiTatil!$I$2,R35<ResmiTatil!$J$2),ResmiTatil!$J$2-R35)+IF(AND(Q35=ResmiTatil!$I$3,R35=ResmiTatil!$J$3),ResmiTatil!$I$3-ResmiTatil!$I$2,IF(AND(Q35>ResmiTatil!$I$2,R35>ResmiTatil!$J$2),ResmiTatil!$J$2-ResmiTatil!$I$2))+IF(S35>ResmiTatil!$K$2,S35-ResmiTatil!$K$2),0)) -> 0 | V35: =IF((Q35-P35)+(S35-R35)<0,0,(Q35-P35)+(S35-R35)) -> 0 | AA35: =IF(Y35-X35<0,0,Y35-X35) -> 0 | AB35: =IF(AND(OR(W35="",X35=""),OR(Y35="",Z35="")),0,IF(OR(W35<>ResmiTatil!$H$2,X35<>ResmiTatil!$I$2,Y35<>ResmiTatil!$J$2,Z35<>ResmiTatil!$K$2),IF(AND(Y35="",Z35=""),0,IF(W35<ResmiTatil!$H$2,ResmiTatil!$H$2-W35))+IF(AND(Y35="",Z35="",OR(W35<ResmiTatil!$H$2,AND(X35<>ResmiTatil!$J$2,X35>ResmiTatil!$J$2))),ResmiTatil!$J$2-ResmiTatil!$I$2,IF(OR(Y35="",Z35=""),0,IF(AND(X35>ResmiTatil!$I$2,Y35<ResmiTatil!$J$2),X35-ResmiTatil!$I$2)))+IF(AND(X35<ResmiTatil!$I$2,Y35<ResmiTatil!$J$2),ResmiTatil!$J$2-Y35)+IF(AND(X35=ResmiTatil!$I$3,Y35=ResmiTatil!$J$3),ResmiTatil!$I$3-ResmiTatil!$I$2,IF(AND(X35>ResmiTatil!$I$2,Y35>ResmiTatil!$J$2),ResmiTatil!$J$2-ResmiTatil!$I$2))+IF(Z35>ResmiTatil!$K$2,Z35-ResmiTatil!$K$2),0)) -> 0 | AC35: =IF((X35-W35)+(Z35-Y35)<0,0,(X35-W35)+(Z35-Y35)) -> 0 | AH35: =IF(AF35-AE35<0,0,AF35-AE35) -> 0 | AI35: =IF(AND(OR(AD35="",AE35=""),OR(AF35="",AG35="")),0,IF(OR(AD35<>ResmiTatil!$H$2,AE35<>ResmiTatil!$I$2,AF35<>ResmiTatil!$J$2,AG35<>ResmiTatil!$K$2),IF(AND(AF35="",AG35=""),0,IF(AD35<ResmiTatil!$H$2,ResmiTatil!$H$2-AD35))+IF(AND(AF35="",AG35="",OR(AD35<ResmiTatil!$H$2,AND(AE35<>ResmiTatil!$J$2,AE35>ResmiTatil!$J$2))),ResmiTatil!$J$2-ResmiTatil!$I$2,IF(OR(AF35="",AG35=""),0,IF(AND(AE35>ResmiTatil!$I$2,AF35<ResmiTatil!$J$2),AE35-ResmiTatil!$I$2)))+IF(AND(AE35<ResmiTatil!$I$2,AF35<ResmiTatil!$J$2),ResmiTatil!$J$2-AF35)+IF(AND(AE35=ResmiTatil!$I$3,AF35=ResmiTatil!$J$3),ResmiTatil!$I$3-ResmiTatil!$I$2,IF(AND(AE35>ResmiTatil!$I$2,AF35>ResmiTatil!$J$2),ResmiTatil!$J$2-ResmiTatil!$I$2))+IF(AG35>ResmiTatil!$K$2,AG35-ResmiTatil!$K$2),0)) -> 0 | AJ35: =IF((AE35-AD35)+(AG35-AF35)<0,0,(AE35-AD35)+(AG35-AF35)) -> 0 | AZ35: 0.64583333
A36: =A35+1 -> 44768 | B36: 0.35416667 | C36: 0.52083333 | D36: 0.5625 | E36: 0.72916667 | F36: =IF(D36-C36<0,0,D36-C36) -> 0.041666667 | G36: =IF(AND(OR(B36="",C36=""),OR(D36="",E36="")),0,IF(OR(B36<>ResmiTatil!$H$2,C36<>ResmiTatil!$I$2,D36<>ResmiTatil!$J$2,E36<>ResmiTatil!$K$2),IF(AND(D36="",E36=""),0,IF(B36<ResmiTatil!$H$2,ResmiTatil!$H$2-B36))+IF(AND(D36="",E36="",OR(B36<ResmiTatil!$H$2,AND(C36<>ResmiTatil!$J$2,C36>ResmiTatil!$J$2))),ResmiTatil!$J$2-ResmiTatil!$I$2,IF(OR(D36="",E36=""),0,IF(AND(C36>ResmiTatil!$I$2,D36<ResmiTatil!$J$2),C36-ResmiTatil!$I$2)))+IF(AND(C36<ResmiTatil!$I$2,D36<ResmiTatil!$J$2),ResmiTatil!$J$2-D36)+IF(AND(C36=ResmiTatil!$I$3,D36=ResmiTatil!$J$3),ResmiTatil!$I$3-ResmiTatil!$I$2,IF(AND(C36>ResmiTatil!$I$2,D36>ResmiTatil!$J$2),ResmiTatil!$J$2-ResmiTatil!$I$2))+IF(E36>ResmiTatil!$K$2,E36-ResmiTatil!$K$2),0)) -> 2.1649349e-14 | H36: =IF((C36-B36)+(E36-D36)<0,0,(C36-B36)+(E36-D36)) -> 0.33333333 | I36: 0.35416667 | J36: 0.5625 | K36: 0.60416667 | L36: 0.72916667 | M36: =IF(K36-J36<0,0,K36-J36) -> 0.041666667 | N36: =IF(AND(OR(I36="",J36=""),OR(K36="",L36="")),0,IF(OR(I36<>ResmiTatil!$H$2,J36<>ResmiTatil!$I$2,K36<>ResmiTatil!$J$2,L36<>ResmiTatil!$K$2),IF(AND(K36="",L36=""),0,IF(I36<ResmiTatil!$H$2,ResmiTatil!$H$2-I36))+IF(AND(K36="",L36="",OR(I36<ResmiTatil!$H$2,AND(J36<>ResmiTatil!$J$2,J36>ResmiTatil!$J$2))),ResmiTatil!$J$2-ResmiTatil!$I$2,IF(OR(K36="",L36=""),0,IF(AND(J36>ResmiTatil!$I$2,K36<ResmiTatil!$J$2),J36-ResmiTatil!$I$2)))+IF(AND(J36<ResmiTatil!$I$2,K36<ResmiTatil!$J$2),ResmiTatil!$J$2-K36)+IF(AND(J36=ResmiTatil!$I$3,K36=ResmiTatil!$J$3),ResmiTatil!$I$3-ResmiTatil!$I$2,IF(AND(J36>ResmiTatil!$I$2,K36>ResmiTatil!$J$2),ResmiTatil!$J$2-ResmiTatil!$I$2))+IF(L36>ResmiTatil!$K$2,L36-ResmiTatil!$K$2),0)) -> 0.041666667 | O36: =IF((J36-I36)+(L36-K36)<0,0,(J36-I36)+(L36-K36)) -> 0.33333333 | T36: =IF(R36-Q36<0,0,R36-Q36) -> 0 | U36: =IF(AND(OR(P36="",Q36=""),OR(R36="",S36="")),0,IF(OR(P36<>ResmiTatil!$H$2,Q36<>ResmiTatil!$I$2,R36<>ResmiTatil!$J$2,S36<>ResmiTatil!$K$2),IF(AND(R36="",S36=""),0,IF(P36<ResmiTatil!$H$2,ResmiTatil!$H$2-P36))+IF(AND(R36="",S36="",OR(P36<ResmiTatil!$H$2,AND(Q36<>ResmiTatil!$J$2,Q36>ResmiTatil!$J$2))),ResmiTatil!$J$2-ResmiTatil!$I$2,IF(OR(R36="",S36=""),0,IF(AND(Q36>ResmiTatil!$I$2,R36<ResmiTatil!$J$2),Q36-ResmiTatil!$I$2)))+IF(AND(Q36<ResmiTatil!$I$2,R36<ResmiTatil!$J$2),ResmiTatil!$J$2-R36)+IF(AND(Q36=ResmiTatil!$I$3,R36=ResmiTatil!$J$3),ResmiTatil!$I$3-ResmiTatil!$I$2,IF(AND(Q36>ResmiTatil!$I$2,R36>ResmiTatil!$J$2),ResmiTatil!$J$2-ResmiTatil!$I$2))+IF(S36>ResmiTatil!$K$2,S36-ResmiTatil!$K$2),0)) -> 0 | V36: =IF((Q36-P36)+(S36-R36)<0,0,(Q36-P36)+(S36-R36)) -> 0 | AA36: =IF(Y36-X36<0,0,Y36-X36) -> 0 | AB36: =IF(AND(OR(W36="",X36=""),OR(Y36="",Z36="")),0,IF(OR(W36<>ResmiTatil!$H$2,X36<>ResmiTatil!$I$2,Y36<>ResmiTatil!$J$2,Z36<>ResmiTatil!$K$2),IF(AND(Y36="",Z36=""),0,IF(W36<ResmiTatil!$H$2,ResmiTatil!$H$2-W36))+IF(AND(Y36="",Z36="",OR(W36<ResmiTatil!$H$2,AND(X36<>ResmiTatil!$J$2,X36>ResmiTatil!$J$2))),ResmiTatil!$J$2-ResmiTatil!$I$2,IF(OR(Y36="",Z36=""),0,IF(AND(X36>ResmiTatil!$I$2,Y36<ResmiTatil!$J$2),X36-ResmiTatil!$I$2)))+IF(AND(X36<ResmiTatil!$I$2,Y36<ResmiTatil!$J$2),ResmiTatil!$J$2-Y36)+IF(AND(X36=ResmiTatil!$I$3,Y36=ResmiTatil!$J$3),ResmiTatil!$I$3-ResmiTatil!$I$2,IF(AND(X36>ResmiTatil!$I$2,Y36>ResmiTatil!$J$2),ResmiTatil!$J$2-ResmiTatil!$I$2))+IF(Z36>ResmiTatil!$K$2,Z36-ResmiTatil!$K$2),0)) -> 0 | AC36: =IF((X36-W36)+(Z36-Y36)<0,0,(X36-W36)+(Z36-Y36)) -> 0 | AH36: =IF(AF36-AE36<0,0,AF36-AE36) -> 0 | AI36: =IF(AND(OR(AD36="",AE36=""),OR(AF36="",AG36="")),0,IF(OR(AD36<>ResmiTatil!$H$2,AE36<>ResmiTatil!$I$2,AF36<>ResmiTatil!$J$2,AG36<>ResmiTatil!$K$2),IF(AND(AF36="",AG36=""),0,IF(AD36<ResmiTatil!$H$2,ResmiTatil!$H$2-AD36))+IF(AND(AF36="",AG36="",OR(AD36<ResmiTatil!$H$2,AND(AE36<>ResmiTatil!$J$2,AE36>ResmiTatil!$J$2))),ResmiTatil!$J$2-ResmiTatil!$I$2,IF(OR(AF36="",AG36=""),0,IF(AND(AE36>ResmiTatil!$I$2,AF36<ResmiTatil!$J$2),AE36-ResmiTatil!$I$2)))+IF(AND(AE36<ResmiTatil!$I$2,AF36<ResmiTatil!$J$2),ResmiTatil!$J$2-AF36)+IF(AND(AE36=ResmiTatil!$I$3,AF36=ResmiTatil!$J$3),ResmiTatil!$I$3-ResmiTatil!$I$2,IF(AND(AE36>ResmiTatil!$I$2,AF36>ResmiTatil!$J$2),ResmiTatil!$J$2-ResmiTatil!$I$2))+IF(AG36>ResmiTatil!$K$2,AG36-ResmiTatil!$K$2),0)) -> 0 | AJ36: =IF((AE36-AD36)+(AG36-AF36)<0,0,(AE36-AD36)+(AG36-AF36)) -> 0 | AZ36: 0.65625
A37: =A36+1 -> 44769 | B37: 0.35416667 | C37: 0.5625 | D37: 0.60416667 | E37: 0.72916667 | F37: =IF(D37-C37<0,0,D37-C37) -> 0.041666667 | G37: =IF(AND(OR(B37="",C37=""),OR(D37="",E37="")),0,IF(OR(B37<>ResmiTatil!$H$2,C37<>ResmiTatil!$I$2,D37<>ResmiTatil!$J$2,E37<>ResmiTatil!$K$2),IF(AND(D37="",E37=""),0,IF(B37<ResmiTatil!$H$2,ResmiTatil!$H$2-B37))+IF(AND(D37="",E37="",OR(B37<ResmiTatil!$H$2,AND(C37<>ResmiTatil!$J$2,C37>ResmiTatil!$J$2))),ResmiTatil!$J$2-ResmiTatil!$I$2,IF(OR(D37="",E37=""),0,IF(AND(C37>ResmiTatil!$I$2,D37<ResmiTatil!$J$2),C37-ResmiTatil!$I$2)))+IF(AND(C37<ResmiTatil!$I$2,D37<ResmiTatil!$J$2),ResmiTatil!$J$2-D37)+IF(AND(C37=ResmiTatil!$I$3,D37=ResmiTatil!$J$3),ResmiTatil!$I$3-ResmiTatil!$I$2,IF(AND(C37>ResmiTatil!$I$2,D37>ResmiTatil!$J$2),ResmiTatil!$J$2-ResmiTatil!$I$2))+IF(E37>ResmiTatil!$K$2,E37-ResmiTatil!$K$2),0)) -> 0.041666667 | H37: =IF((C37-B37)+(E37-D37)<0,0,(C37-B37)+(E37-D37)) -> 0.33333333 | I37: 0.35416667 | J37: 0.52083333 | K37: 0.5625 | L37: 0.72916667 | M37: =IF(K37-J37<0,0,K37-J37) -> 0.041666667 | N37: =IF(AND(OR(I37="",J37=""),OR(K37="",L37="")),0,IF(OR(I37<>ResmiTatil!$H$2,J37<>ResmiTatil!$I$2,K37<>ResmiTatil!$J$2,L37<>ResmiTatil!$K$2),IF(AND(K37="",L37=""),0,IF(I37<ResmiTatil!$H$2,ResmiTatil!$H$2-I37))+IF(AND(K37="",L37="",OR(I37<ResmiTatil!$H$2,AND(J37<>ResmiTatil!$J$2,J37>ResmiTatil!$J$2))),ResmiTatil!$J$2-ResmiTatil!$I$2,IF(OR(K37="",L37=""),0,IF(AND(J37>ResmiTatil!$I$2,K37<ResmiTatil!$J$2),J37-ResmiTatil!$I$2)))+IF(AND(J37<ResmiTatil!$I$2,K37<ResmiTatil!$J$2),ResmiTatil!$J$2-K37)+IF(AND(J37=ResmiTatil!$I$3,K37=ResmiTatil!$J$3),ResmiTatil!$I$3-ResmiTatil!$I$2,IF(AND(J37>ResmiTatil!$I$2,K37>ResmiTatil!$J$2),ResmiTatil!$J$2-ResmiTatil!$I$2))+IF(L37>ResmiTatil!$K$2,L37-ResmiTatil!$K$2),0)) -> 2.1649349e-14 | O37: =IF((J37-I37)+(L37-K37)<0,0,(J37-I37)+(L37-K37)) -> 0.33333333 | T37: =IF(R37-Q37<0,0,R37-Q37) -> 0 | U37: =IF(AND(OR(P37="",Q37=""),OR(R37="",S37="")),0,IF(OR(P37<>ResmiTatil!$H$2,Q37<>ResmiTatil!$I$2,R37<>ResmiTatil!$J$2,S37<>ResmiTatil!$K$2),IF(AND(R37="",S37=""),0,IF(P37<ResmiTatil!$H$2,ResmiTatil!$H$2-P37))+IF(AND(R37="",S37="",OR(P37<ResmiTatil!$H$2,AND(Q37<>ResmiTatil!$J$2,Q37>ResmiTatil!$J$2))),ResmiTatil!$J$2-ResmiTatil!$I$2,IF(OR(R37="",S37=""),0,IF(AND(Q37>ResmiTatil!$I$2,R37<ResmiTatil!$J$2),Q37-ResmiTatil!$I$2)))+IF(AND(Q37<ResmiTatil!$I$2,R37<ResmiTatil!$J$2),ResmiTatil!$J$2-R37)+IF(AND(Q37=ResmiTatil!$I$3,R37=ResmiTatil!$J$3),ResmiTatil!$I$3-ResmiTatil!$I$2,IF(AND(Q37>ResmiTatil!$I$2,R37>ResmiTatil!$J$2),ResmiTatil!$J$2-ResmiTatil!$I$2))+IF(S37>ResmiTatil!$K$2,S37-ResmiTatil!$K$2),0)) -> 0 | V37: =IF((Q37-P37)+(S37-R37)<0,0,(Q37-P37)+(S37-R37)) -> 0 | AA37: =IF(Y37-X37<0,0,Y37-X37) -> 0 | AB37: =IF(AND(OR(W37="",X37=""),OR(Y37="",Z37="")),0,IF(OR(W37<>ResmiTatil!$H$2,X37<>ResmiTatil!$I$2,Y37<>ResmiTatil!$J$2,Z37<>ResmiTatil!$K$2),IF(AND(Y37="",Z37=""),0,IF(W37<ResmiTatil!$H$2,ResmiTatil!$H$2-W37))+IF(AND(Y37="",Z37="",OR(W37<ResmiTatil!$H$2,AND(X37<>ResmiTatil!$J$2,X37>ResmiTatil!$J$2))),ResmiTatil!$J$2-ResmiTatil!$I$2,IF(OR(Y37="",Z37=""),0,IF(AND(X37>ResmiTatil!$I$2,Y37<ResmiTatil!$J$2),X37-ResmiTatil!$I$2)))+IF(AND(X37<ResmiTatil!$I$2,Y37<ResmiTatil!$J$2),ResmiTatil!$J$2-Y37)+IF(AND(X37=ResmiTatil!$I$3,Y37=ResmiTatil!$J$3),ResmiTatil!$I$3-ResmiTatil!$I$2,IF(AND(X37>ResmiTatil!$I$2,Y37>ResmiTatil!$J$2),ResmiTatil!$J$2-ResmiTatil!$I$2))+IF(Z37>ResmiTatil!$K$2,Z37-ResmiTatil!$K$2),0)) -> 0 | AC37: =IF((X37-W37)+(Z37-Y37)<0,0,(X37-W37)+(Z37-Y37)) -> 0 | AH37: =IF(AF37-AE37<0,0,AF37-AE37) -> 0 | AI37: =IF(AND(OR(AD37="",AE37=""),OR(AF37="",AG37="")),0,IF(OR(AD37<>ResmiTatil!$H$2,AE37<>ResmiTatil!$I$2,AF37<>ResmiTatil!$J$2,AG37<>ResmiTatil!$K$2),IF(AND(AF37="",AG37=""),0,IF(AD37<ResmiTatil!$H$2,ResmiTatil!$H$2-AD37))+IF(AND(AF37="",AG37="",OR(AD37<ResmiTatil!$H$2,AND(AE37<>ResmiTatil!$J$2,AE37>ResmiTatil!$J$2))),ResmiTatil!$J$2-ResmiTatil!$I$2,IF(OR(AF37="",AG37=""),0,IF(AND(AE37>ResmiTatil!$I$2,AF37<ResmiTatil!$J$2),AE37-ResmiTatil!$I$2)))+IF(AND(AE37<ResmiTatil!$I$2,AF37<ResmiTatil!$J$2),ResmiTatil!$J$2-AF37)+IF(AND(AE37=ResmiTatil!$I$3,AF37=ResmiTatil!$J$3),ResmiTatil!$I$3-ResmiTatil!$I$2,IF(AND(AE37>ResmiTatil!$I$2,AF37>ResmiTatil!$J$2),ResmiTatil!$J$2-ResmiTatil!$I$2))+IF(AG37>ResmiTatil!$K$2,AG37-ResmiTatil!$K$2),0)) -> 0 | AJ37: =IF((AE37-AD37)+(AG37-AF37)<0,0,(AE37-AD37)+(AG37-AF37)) -> 0 | AZ37: 0.66666667
A38: =A37+1 -> 44770 | B38: 0.35416667 | C38: 0.52083333 | D38: 0.5625 | E38: 0.72916667 | F38: =IF(D38-C38<0,0,D38-C38) -> 0.041666667 | G38: =IF(AND(OR(B38="",C38=""),OR(D38="",E38="")),0,IF(OR(B38<>ResmiTatil!$H$2,C38<>ResmiTatil!$I$2,D38<>ResmiTatil!$J$2,E38<>ResmiTatil!$K$2),IF(AND(D38="",E38=""),0,IF(B38<ResmiTatil!$H$2,ResmiTatil!$H$2-B38))+IF(AND(D38="",E38="",OR(B38<ResmiTatil!$H$2,AND(C38<>ResmiTatil!$J$2,C38>ResmiTatil!$J$2))),ResmiTatil!$J$2-ResmiTatil!$I$2,IF(OR(D38="",E38=""),0,IF(AND(C38>ResmiTatil!$I$2,D38<ResmiTatil!$J$2),C38-ResmiTatil!$I$2)))+IF(AND(C38<ResmiTatil!$I$2,D38<ResmiTatil!$J$2),ResmiTatil!$J$2-D38)+IF(AND(C38=ResmiTatil!$I$3,D38=ResmiTatil!$J$3),ResmiTatil!$I$3-ResmiTatil!$I$2,IF(AND(C38>ResmiTatil!$I$2,D38>ResmiTatil!$J$2),ResmiTatil!$J$2-ResmiTatil!$I$2))+IF(E38>ResmiTatil!$K$2,E38-ResmiTatil!$K$2),0)) -> 2.1649349e-14 | H38: =IF((C38-B38)+(E38-D38)<0,0,(C38-B38)+(E38-D38)) -> 0.33333333 | I38: 0.35416667 | J38: 0.5625 | K38: 0.60416667 | L38: 0.72916667 | M38: =IF(K38-J38<0,0,K38-J38) -> 0.041666667 | N38: =IF(AND(OR(I38="",J38=""),OR(K38="",L38="")),0,IF(OR(I38<>ResmiTatil!$H$2,J38<>ResmiTatil!$I$2,K38<>ResmiTatil!$J$2,L38<>ResmiTatil!$K$2),IF(AND(K38="",L38=""),0,IF(I38<ResmiTatil!$H$2,ResmiTatil!$H$2-I38))+IF(AND(K38="",L38="",OR(I38<ResmiTatil!$H$2,AND(J38<>ResmiTatil!$J$2,J38>ResmiTatil!$J$2))),ResmiTatil!$J$2-ResmiTatil!$I$2,IF(OR(K38="",L38=""),0,IF(AND(J38>ResmiTatil!$I$2,K38<ResmiTatil!$J$2),J38-ResmiTatil!$I$2)))+IF(AND(J38<ResmiTatil!$I$2,K38<ResmiTatil!$J$2),ResmiTatil!$J$2-K38)+IF(AND(J38=ResmiTatil!$I$3,K38=ResmiTatil!$J$3),ResmiTatil!$I$3-ResmiTatil!$I$2,IF(AND(J38>ResmiTatil!$I$2,K38>ResmiTatil!$J$2),ResmiTatil!$J$2-ResmiTatil!$I$2))+IF(L38>ResmiTatil!$K$2,L38-ResmiTatil!$K$2),0)) -> 0.041666667 | O38: =IF((J38-I38)+(L38-K38)<0,0,(J38-I38)+(L38-K38)) -> 0.33333333 | T38: =IF(R38-Q38<0,0,R38-Q38) -> 0 | U38: =IF(AND(OR(P38="",Q38=""),OR(R38="",S38="")),0,IF(OR(P38<>ResmiTatil!$H$2,Q38<>ResmiTatil!$I$2,R38<>ResmiTatil!$J$2,S38<>ResmiTatil!$K$2),IF(AND(R38="",S38=""),0,IF(P38<ResmiTatil!$H$2,ResmiTatil!$H$2-P38))+IF(AND(R38="",S38="",OR(P38<ResmiTatil!$H$2,AND(Q38<>ResmiTatil!$J$2,Q38>ResmiTatil!$J$2))),ResmiTatil!$J$2-ResmiTatil!$I$2,IF(OR(R38="",S38=""),0,IF(AND(Q38>ResmiTatil!$I$2,R38<ResmiTatil!$J$2),Q38-ResmiTatil!$I$2)))+IF(AND(Q38<ResmiTatil!$I$2,R38<ResmiTatil!$J$2),ResmiTatil!$J$2-R38)+IF(AND(Q38=ResmiTatil!$I$3,R38=ResmiTatil!$J$3),ResmiTatil!$I$3-ResmiTatil!$I$2,IF(AND(Q38>ResmiTatil!$I$2,R38>ResmiTatil!$J$2),ResmiTatil!$J$2-ResmiTatil!$I$2))+IF(S38>ResmiTatil!$K$2,S38-ResmiTatil!$K$2),0)) -> 0 | V38: =IF((Q38-P38)+(S38-R38)<0,0,(Q38-P38)+(S38-R38)) -> 0 | AA38: =IF(Y38-X38<0,0,Y38-X38) -> 0 | AB38: =IF(AND(OR(W38="",X38=""),OR(Y38="",Z38="")),0,IF(OR(W38<>ResmiTatil!$H$2,X38<>ResmiTatil!$I$2,Y38<>ResmiTatil!$J$2,Z38<>ResmiTatil!$K$2),IF(AND(Y38="",Z38=""),0,IF(W38<ResmiTatil!$H$2,ResmiTatil!$H$2-W38))+IF(AND(Y38="",Z38="",OR(W38<ResmiTatil!$H$2,AND(X38<>ResmiTatil!$J$2,X38>ResmiTatil!$J$2))),ResmiTatil!$J$2-ResmiTatil!$I$2,IF(OR(Y38="",Z38=""),0,IF(AND(X38>ResmiTatil!$I$2,Y38<ResmiTatil!$J$2),X38-ResmiTatil!$I$2)))+IF(AND(X38<ResmiTatil!$I$2,Y38<ResmiTatil!$J$2),ResmiTatil!$J$2-Y38)+IF(AND(X38=ResmiTatil!$I$3,Y38=ResmiTatil!$J$3),ResmiTatil!$I$3-ResmiTatil!$I$2,IF(AND(X38>ResmiTatil!$I$2,Y38>ResmiTatil!$J$2),ResmiTatil!$J$2-ResmiTatil!$I$2))+IF(Z38>ResmiTatil!$K$2,Z38-ResmiTatil!$K$2),0)) -> 0 | AC38: =IF((X38-W38)+(Z38-Y38)<0,0,(X38-W38)+(Z38-Y38)) -> 0 | AH38: =IF(AF38-AE38<0,0,AF38-AE38) -> 0 | AI38: =IF(AND(OR(AD38="",AE38=""),OR(AF38="",AG38="")),0,IF(OR(AD38<>ResmiTatil!$H$2,AE38<>ResmiTatil!$I$2,AF38<>ResmiTatil!$J$2,AG38<>ResmiTatil!$K$2),IF(AND(AF38="",AG38=""),0,IF(AD38<ResmiTatil!$H$2,ResmiTatil!$H$2-AD38))+IF(AND(AF38="",AG38="",OR(AD38<ResmiTatil!$H$2,AND(AE38<>ResmiTatil!$J$2,AE38>ResmiTatil!$J$2))),ResmiTatil!$J$2-ResmiTatil!$I$2,IF(OR(AF38="",AG38=""),0,IF(AND(AE38>ResmiTatil!$I$2,AF38<ResmiTatil!$J$2),AE38-ResmiTatil!$I$2)))+IF(AND(AE38<ResmiTatil!$I$2,AF38<ResmiTatil!$J$2),ResmiTatil!$J$2-AF38)+IF(AND(AE38=ResmiTatil!$I$3,AF38=ResmiTatil!$J$3),ResmiTatil!$I$3-ResmiTatil!$I$2,IF(AND(AE38>ResmiTatil!$I$2,AF38>ResmiTatil!$J$2),ResmiTatil!$J$2-ResmiTatil!$I$2))+IF(AG38>ResmiTatil!$K$2,AG38-ResmiTatil!$K$2),0)) -> 0 | AJ38: =IF((AE38-AD38)+(AG38-AF38)<0,0,(AE38-AD38)+(AG38-AF38)) -> 0 | AZ38: 0.67708333
A39: =A38+1 -> 44771 | B39: 0.35416667 | C39: 0.5625 | D39: 0.60416667 | E39: 0.72916667 | F39: =IF(D39-C39<0,0,D39-C39) -> 0.041666667 | G39: =IF(AND(OR(B39="",C39=""),OR(D39="",E39="")),0,IF(OR(B39<>ResmiTatil!$H$2,C39<>ResmiTatil!$I$2,D39<>ResmiTatil!$J$2,E39<>ResmiTatil!$K$2),IF(AND(D39="",E39=""),0,IF(B39<ResmiTatil!$H$2,ResmiTatil!$H$2-B39))+IF(AND(D39="",E39="",OR(B39<ResmiTatil!$H$2,AND(C39<>ResmiTatil!$J$2,C39>ResmiTatil!$J$2))),ResmiTatil!$J$2-ResmiTatil!$I$2,IF(OR(D39="",E39=""),0,IF(AND(C39>ResmiTatil!$I$2,D39<ResmiTatil!$J$2),C39-ResmiTatil!$I$2)))+IF(AND(C39<ResmiTatil!$I$2,D39<ResmiTatil!$J$2),ResmiTatil!$J$2-D39)+IF(AND(C39=ResmiTatil!$I$3,D39=ResmiTatil!$J$3),ResmiTatil!$I$3-ResmiTatil!$I$2,IF(AND(C39>ResmiTatil!$I$2,D39>ResmiTatil!$J$2),ResmiTatil!$J$2-ResmiTatil!$I$2))+IF(E39>ResmiTatil!$K$2,E39-ResmiTatil!$K$2),0)) -> 0.041666667 | H39: =IF((C39-B39)+(E39-D39)<0,0,(C39-B39)+(E39-D39)) -> 0.33333333 | I39: 0.35416667 | J39: 0.52083333 | K39: 0.5625 | L39: 0.72916667 | M39: =IF(K39-J39<0,0,K39-J39) -> 0.041666667 | N39: =IF(AND(OR(I39="",J39=""),OR(K39="",L39="")),0,IF(OR(I39<>ResmiTatil!$H$2,J39<>ResmiTatil!$I$2,K39<>ResmiTatil!$J$2,L39<>ResmiTatil!$K$2),IF(AND(K39="",L39=""),0,IF(I39<ResmiTatil!$H$2,ResmiTatil!$H$2-I39))+IF(AND(K39="",L39="",OR(I39<ResmiTatil!$H$2,AND(J39<>ResmiTatil!$J$2,J39>ResmiTatil!$J$2))),ResmiTatil!$J$2-ResmiTatil!$I$2,IF(OR(K39="",L39=""),0,IF(AND(J39>ResmiTatil!$I$2,K39<ResmiTatil!$J$2),J39-ResmiTatil!$I$2)))+IF(AND(J39<ResmiTatil!$I$2,K39<ResmiTatil!$J$2),ResmiTatil!$J$2-K39)+IF(AND(J39=ResmiTatil!$I$3,K39=ResmiTatil!$J$3),ResmiTatil!$I$3-ResmiTatil!$I$2,IF(AND(J39>ResmiTatil!$I$2,K39>ResmiTatil!$J$2),ResmiTatil!$J$2-ResmiTatil!$I$2))+IF(L39>ResmiTatil!$K$2,L39-ResmiTatil!$K$2),0)) -> 2.1649349e-14 | O39: =IF((J39-I39)+(L39-K39)<0,0,(J39-I39)+(L39-K39)) -> 0.33333333 | T39: =IF(R39-Q39<0,0,R39-Q39) -> 0 | U39: =IF(AND(OR(P39="",Q39=""),OR(R39="",S39="")),0,IF(OR(P39<>ResmiTatil!$H$2,Q39<>ResmiTatil!$I$2,R39<>ResmiTatil!$J$2,S39<>ResmiTatil!$K$2),IF(AND(R39="",S39=""),0,IF(P39<ResmiTatil!$H$2,ResmiTatil!$H$2-P39))+IF(AND(R39="",S39="",OR(P39<ResmiTatil!$H$2,AND(Q39<>ResmiTatil!$J$2,Q39>ResmiTatil!$J$2))),ResmiTatil!$J$2-ResmiTatil!$I$2,IF(OR(R39="",S39=""),0,IF(AND(Q39>ResmiTatil!$I$2,R39<ResmiTatil!$J$2),Q39-ResmiTatil!$I$2)))+IF(AND(Q39<ResmiTatil!$I$2,R39<ResmiTatil!$J$2),ResmiTatil!$J$2-R39)+IF(AND(Q39=ResmiTatil!$I$3,R39=ResmiTatil!$J$3),ResmiTatil!$I$3-ResmiTatil!$I$2,IF(AND(Q39>ResmiTatil!$I$2,R39>ResmiTatil!$J$2),ResmiTatil!$J$2-ResmiTatil!$I$2))+IF(S39>ResmiTatil!$K$2,S39-ResmiTatil!$K$2),0)) -> 0 | V39: =IF((Q39-P39)+(S39-R39)<0,0,(Q39-P39)+(S39-R39)) -> 0 | AA39: =IF(Y39-X39<0,0,Y39-X39) -> 0 | AB39: =IF(AND(OR(W39="",X39=""),OR(Y39="",Z39="")),0,IF(OR(W39<>ResmiTatil!$H$2,X39<>ResmiTatil!$I$2,Y39<>ResmiTatil!$J$2,Z39<>ResmiTatil!$K$2),IF(AND(Y39="",Z39=""),0,IF(W39<ResmiTatil!$H$2,ResmiTatil!$H$2-W39))+IF(AND(Y39="",Z39="",OR(W39<ResmiTatil!$H$2,AND(X39<>ResmiTatil!$J$2,X39>ResmiTatil!$J$2))),ResmiTatil!$J$2-ResmiTatil!$I$2,IF(OR(Y39="",Z39=""),0,IF(AND(X39>ResmiTatil!$I$2,Y39<ResmiTatil!$J$2),X39-ResmiTatil!$I$2)))+IF(AND(X39<ResmiTatil!$I$2,Y39<ResmiTatil!$J$2),ResmiTatil!$J$2-Y39)+IF(AND(X39=ResmiTatil!$I$3,Y39=ResmiTatil!$J$3),ResmiTatil!$I$3-ResmiTatil!$I$2,IF(AND(X39>ResmiTatil!$I$2,Y39>ResmiTatil!$J$2),ResmiTatil!$J$2-ResmiTatil!$I$2))+IF(Z39>ResmiTatil!$K$2,Z39-ResmiTatil!$K$2),0)) -> 0 | AC39: =IF((X39-W39)+(Z39-Y39)<0,0,(X39-W39)+(Z39-Y39)) -> 0 | AH39: =IF(AF39-AE39<0,0,AF39-AE39) -> 0 | AI39: =IF(AND(OR(AD39="",AE39=""),OR(AF39="",AG39="")),0,IF(OR(AD39<>ResmiTatil!$H$2,AE39<>ResmiTatil!$I$2,AF39<>ResmiTatil!$J$2,AG39<>ResmiTatil!$K$2),IF(AND(AF39="",AG39=""),0,IF(AD39<ResmiTatil!$H$2,ResmiTatil!$H$2-AD39))+IF(AND(AF39="",AG39="",OR(AD39<ResmiTatil!$H$2,AND(AE39<>ResmiTatil!$J$2,AE39>ResmiTatil!$J$2))),ResmiTatil!$J$2-ResmiTatil!$I$2,IF(OR(AF39="",AG39=""),0,IF(AND(AE39>ResmiTatil!$I$2,AF39<ResmiTatil!$J$2),AE39-ResmiTatil!$I$2)))+IF(AND(AE39<ResmiTatil!$I$2,AF39<ResmiTatil!$J$2),ResmiTatil!$J$2-AF39)+IF(AND(AE39=ResmiTatil!$I$3,AF39=ResmiTatil!$J$3),ResmiTatil!$I$3-ResmiTatil!$I$2,IF(AND(AE39>ResmiTatil!$I$2,AF39>ResmiTatil!$J$2),ResmiTatil!$J$2-ResmiTatil!$I$2))+IF(AG39>ResmiTatil!$K$2,AG39-ResmiTatil!$K$2),0)) -> 0 | AJ39: =IF((AE39-AD39)+(AG39-AF39)<0,0,(AE39-AD39)+(AG39-AF39)) -> 0 | AZ39: 0.6875
A40: HAFTALIK TOPLAM | G40: =SUM(G35:G39) -> 0.125 | H40: =SUM(H35:H39) -> 1.6666667 | N40: =SUM(N35:N39) -> 0.125 | O40: =SUM(O35:O39) -> 1.6666667 | U40: =SUM(U35:U39) -> 0 | V40: =SUM(V35:V39) -> 0 | AB40: =SUM(AB35:AB39) -> 0 | AC40: =SUM(AC35:AC39) -> 0 | AI40: =SUM(AI35:AI39) -> 0 | AJ40: =SUM(AJ35:AJ39) -> 0 | AZ40: 0.69791667
A41: =A39+1 -> 44772 | AZ41: 0.70833333
A42: =A41+1 -> 44773 | AZ42: 0.71875
A43: =A42+1 -> 44774 | B43: 0.3125 | C43: 0.52083333 | D43: 0.5625 | E43: 0.6875 | F43: =IF(D43-C43<0,0,D43-C43) -> 0.041666667 | G43: =IF(AND(OR(B43="",C43=""),OR(D43="",E43="")),0,IF(OR(B43<>ResmiTatil!$H$2,C43<>ResmiTatil!$I$2,D43<>ResmiTatil!$J$2,E43<>ResmiTatil!$K$2),IF(AND(D43="",E43=""),0,IF(B43<ResmiTatil!$H$2,ResmiTatil!$H$2-B43))+IF(AND(D43="",E43="",OR(B43<ResmiTatil!$H$2,AND(C43<>ResmiTatil!$J$2,C43>ResmiTatil!$J$2))),ResmiTatil!$J$2-ResmiTatil!$I$2,IF(OR(D43="",E43=""),0,IF(AND(C43>ResmiTatil!$I$2,D43<ResmiTatil!$J$2),C43-ResmiTatil!$I$2)))+IF(AND(C43<ResmiTatil!$I$2,D43<ResmiTatil!$J$2),ResmiTatil!$J$2-D43)+IF(AND(C43=ResmiTatil!$I$3,D43=ResmiTatil!$J$3),ResmiTatil!$I$3-ResmiTatil!$I$2,IF(AND(C43>ResmiTatil!$I$2,D43>ResmiTatil!$J$2),ResmiTatil!$J$2-ResmiTatil!$I$2))+IF(E43>ResmiTatil!$K$2,E43-ResmiTatil!$K$2),0)) -> 0.041666667 | H43: =IF((C43-B43)+(E43-D43)<0,0,(C43-B43)+(E43-D43)) -> 0.33333333 | I43: 0.35416667 | J43: 0.5625 | K43: 0.60416667 | L43: 0.72916667 | M43: =IF(K43-J43<0,0,K43-J43) -> 0.041666667 | N43: =IF(AND(OR(I43="",J43=""),OR(K43="",L43="")),0,IF(OR(I43<>ResmiTatil!$H$2,J43<>ResmiTatil!$I$2,K43<>ResmiTatil!$J$2,L43<>ResmiTatil!$K$2),IF(AND(K43="",L43=""),0,IF(I43<ResmiTatil!$H$2,ResmiTatil!$H$2-I43))+IF(AND(K43="",L43="",OR(I43<ResmiTatil!$H$2,AND(J43<>ResmiTatil!$J$2,J43>ResmiTatil!$J$2))),ResmiTatil!$J$2-ResmiTatil!$I$2,IF(OR(K43="",L43=""),0,IF(AND(J43>ResmiTatil!$I$2,K43<ResmiTatil!$J$2),J43-ResmiTatil!$I$2)))+IF(AND(J43<ResmiTatil!$I$2,K43<ResmiTatil!$J$2),ResmiTatil!$J$2-K43)+IF(AND(J43=ResmiTatil!$I$3,K43=ResmiTatil!$J$3),ResmiTatil!$I$3-ResmiTatil!$I$2,IF(AND(J43>ResmiTatil!$I$2,K43>ResmiTatil!$J$2),ResmiTatil!$J$2-ResmiTatil!$I$2))+IF(L43>ResmiTatil!$K$2,L43-ResmiTatil!$K$2),0)) -> 0.041666667 | O43: =IF((J43-I43)+(L43-K43)<0,0,(J43-I43)+(L43-K43)) -> 0.33333333 | T43: =IF(R43-Q43<0,0,R43-Q43) -> 0 | U43: =IF(AND(OR(P43="",Q43=""),OR(R43="",S43="")),0,IF(OR(P43<>ResmiTatil!$H$2,Q43<>ResmiTatil!$I$2,R43<>ResmiTatil!$J$2,S43<>ResmiTatil!$K$2),IF(AND(R43="",S43=""),0,IF(P43<ResmiTatil!$H$2,ResmiTatil!$H$2-P43))+IF(AND(R43="",S43="",OR(P43<ResmiTatil!$H$2,AND(Q43<>ResmiTatil!$J$2,Q43>ResmiTatil!$J$2))),ResmiTatil!$J$2-ResmiTatil!$I$2,IF(OR(R43="",S43=""),0,IF(AND(Q43>ResmiTatil!$I$2,R43<ResmiTatil!$J$2),Q43-ResmiTatil!$I$2)))+IF(AND(Q43<ResmiTatil!$I$2,R43<ResmiTatil!$J$2),ResmiTatil!$J$2-R43)+IF(AND(Q43=ResmiTatil!$I$3,R43=ResmiTatil!$J$3),ResmiTatil!$I$3-ResmiTatil!$I$2,IF(AND(Q43>ResmiTatil!$I$2,R43>ResmiTatil!$J$2),ResmiTatil!$J$2-ResmiTatil!$I$2))+IF(S43>ResmiTatil!$K$2,S43-ResmiTatil!$K$2),0)) -> 0 | V43: =IF((Q43-P43)+(S43-R43)<0,0,(Q43-P43)+(S43-R43)) -> 0 | AA43: =IF(Y43-X43<0,0,Y43-X43) -> 0 | AB43: =IF(AND(OR(W43="",X43=""),OR(Y43="",Z43="")),0,IF(OR(W43<>ResmiTatil!$H$2,X43<>ResmiTatil!$I$2,Y43<>ResmiTatil!$J$2,Z43<>ResmiTatil!$K$2),IF(AND(Y43="",Z43=""),0,IF(W43<ResmiTatil!$H$2,ResmiTatil!$H$2-W43))+IF(AND(Y43="",Z43="",OR(W43<ResmiTatil!$H$2,AND(X43<>ResmiTatil!$J$2,X43>ResmiTatil!$J$2))),ResmiTatil!$J$2-ResmiTatil!$I$2,IF(OR(Y43="",Z43=""),0,IF(AND(X43>ResmiTatil!$I$2,Y43<ResmiTatil!$J$2),X43-ResmiTatil!$I$2)))+IF(AND(X43<ResmiTatil!$I$2,Y43<ResmiTatil!$J$2),ResmiTatil!$J$2-Y43)+IF(AND(X43=ResmiTatil!$I$3,Y43=ResmiTatil!$J$3),ResmiTatil!$I$3-ResmiTatil!$I$2,IF(AND(X43>ResmiTatil!$I$2,Y43>ResmiTatil!$J$2),ResmiTatil!$J$2-ResmiTatil!$I$2))+IF(Z43>ResmiTatil!$K$2,Z43-ResmiTatil!$K$2),0)) -> 0 | AC43: =IF((X43-W43)+(Z43-Y43)<0,0,(X43-W43)+(Z43-Y43)) -> 0 | AH43: =IF(AF43-AE43<0,0,AF43-AE43) -> 0 | AI43: =IF(AND(OR(AD43="",AE43=""),OR(AF43="",AG43="")),0,IF(OR(AD43<>ResmiTatil!$H$2,AE43<>ResmiTatil!$I$2,AF43<>ResmiTatil!$J$2,AG43<>ResmiTatil!$K$2),IF(AND(AF43="",AG43=""),0,IF(AD43<ResmiTatil!$H$2,ResmiTatil!$H$2-AD43))+IF(AND(AF43="",AG43="",OR(AD43<ResmiTatil!$H$2,AND(AE43<>ResmiTatil!$J$2,AE43>ResmiTatil!$J$2))),ResmiTatil!$J$2-ResmiTatil!$I$2,IF(OR(AF43="",AG43=""),0,IF(AND(AE43>ResmiTatil!$I$2,AF43<ResmiTatil!$J$2),AE43-ResmiTatil!$I$2)))+IF(AND(AE43<ResmiTatil!$I$2,AF43<ResmiTatil!$J$2),ResmiTatil!$J$2-AF43)+IF(AND(AE43=ResmiTatil!$I$3,AF43=ResmiTatil!$J$3),ResmiTatil!$I$3-ResmiTatil!$I$2,IF(AND(AE43>ResmiTatil!$I$2,AF43>ResmiTatil!$J$2),ResmiTatil!$J$2-ResmiTatil!$I$2))+IF(AG43>ResmiTatil!$K$2,AG43-ResmiTatil!$K$2),0)) -> 0 | AJ43: =IF((AE43-AD43)+(AG43-AF43)<0,0,(AE43-AD43)+(AG43-AF43)) -> 0 | AZ43: 0.72916667
A44: =A43+1 -> 44775 | B44: 0.35416667 | C44: 0.5625 | D44: 0.60416667 | E44: 0.72916667 | F44: =IF(D44-C44<0,0,D44-C44) -> 0.041666667 | G44: =IF(AND(OR(B44="",C44=""),OR(D44="",E44="")),0,IF(OR(B44<>ResmiTatil!$H$2,C44<>ResmiTatil!$I$2,D44<>ResmiTatil!$J$2,E44<>ResmiTatil!$K$2),IF(AND(D44="",E44=""),0,IF(B44<ResmiTatil!$H$2,ResmiTatil!$H$2-B44))+IF(AND(D44="",E44="",OR(B44<ResmiTatil!$H$2,AND(C44<>ResmiTatil!$J$2,C44>ResmiTatil!$J$2))),ResmiTatil!$J$2-ResmiTatil!$I$2,IF(OR(D44="",E44=""),0,IF(AND(C44>ResmiTatil!$I$2,D44<ResmiTatil!$J$2),C44-ResmiTatil!$I$2)))+IF(AND(C44<ResmiTatil!$I$2,D44<ResmiTatil!$J$2),ResmiTatil!$J$2-D44)+IF(AND(C44=ResmiTatil!$I$3,D44=ResmiTatil!$J$3),ResmiTatil!$I$3-ResmiTatil!$I$2,IF(AND(C44>ResmiTatil!$I$2,D44>ResmiTatil!$J$2),ResmiTatil!$J$2-ResmiTatil!$I$2))+IF(E44>ResmiTatil!$K$2,E44-ResmiTatil!$K$2),0)) -> 0.041666667 | H44: =IF((C44-B44)+(E44-D44)<0,0,(C44-B44)+(E44-D44)) -> 0.33333333 | I44: 0.35416667 | J44: 0.52083333 | K44: 0.5625 | L44: 0.72916667 | M44: =IF(K44-J44<0,0,K44-J44) -> 0.041666667 | N44: =IF(AND(OR(I44="",J44=""),OR(K44="",L44="")),0,IF(OR(I44<>ResmiTatil!$H$2,J44<>ResmiTatil!$I$2,K44<>ResmiTatil!$J$2,L44<>ResmiTatil!$K$2),IF(AND(K44="",L44=""),0,IF(I44<ResmiTatil!$H$2,ResmiTatil!$H$2-I44))+IF(AND(K44="",L44="",OR(I44<ResmiTatil!$H$2,AND(J44<>ResmiTatil!$J$2,J44>ResmiTatil!$J$2))),ResmiTatil!$J$2-ResmiTatil!$I$2,IF(OR(K44="",L44=""),0,IF(AND(J44>ResmiTatil!$I$2,K44<ResmiTatil!$J$2),J44-ResmiTatil!$I$2)))+IF(AND(J44<ResmiTatil!$I$2,K44<ResmiTatil!$J$2),ResmiTatil!$J$2-K44)+IF(AND(J44=ResmiTatil!$I$3,K44=ResmiTatil!$J$3),ResmiTatil!$I$3-ResmiTatil!$I$2,IF(AND(J44>ResmiTatil!$I$2,K44>ResmiTatil!$J$2),ResmiTatil!$J$2-ResmiTatil!$I$2))+IF(L44>ResmiTatil!$K$2,L44-ResmiTatil!$K$2),0)) -> 2.1649349e-14 | O44: =IF((J44-I44)+(L44-K44)<0,0,(J44-I44)+(L44-K44)) -> 0.33333333 | T44: =IF(R44-Q44<0,0,R44-Q44) -> 0 | U44: =IF(AND(OR(P44="",Q44=""),OR(R44="",S44="")),0,IF(OR(P44<>ResmiTatil!$H$2,Q44<>ResmiTatil!$I$2,R44<>ResmiTatil!$J$2,S44<>ResmiTatil!$K$2),IF(AND(R44="",S44=""),0,IF(P44<ResmiTatil!$H$2,ResmiTatil!$H$2-P44))+IF(AND(R44="",S44="",OR(P44<ResmiTatil!$H$2,AND(Q44<>ResmiTatil!$J$2,Q44>ResmiTatil!$J$2))),ResmiTatil!$J$2-ResmiTatil!$I$2,IF(OR(R44="",S44=""),0,IF(AND(Q44>ResmiTatil!$I$2,R44<ResmiTatil!$J$2),Q44-ResmiTatil!$I$2)))+IF(AND(Q44<ResmiTatil!$I$2,R44<ResmiTatil!$J$2),ResmiTatil!$J$2-R44)+IF(AND(Q44=ResmiTatil!$I$3,R44=ResmiTatil!$J$3),ResmiTatil!$I$3-ResmiTatil!$I$2,IF(AND(Q44>ResmiTatil!$I$2,R44>ResmiTatil!$J$2),ResmiTatil!$J$2-ResmiTatil!$I$2))+IF(S44>ResmiTatil!$K$2,S44-ResmiTatil!$K$2),0)) -> 0 | V44: =IF((Q44-P44)+(S44-R44)<0,0,(Q44-P44)+(S44-R44)) -> 0 | AA44: =IF(Y44-X44<0,0,Y44-X44) -> 0 | AB44: =IF(AND(OR(W44="",X44=""),OR(Y44="",Z44="")),0,IF(OR(W44<>ResmiTatil!$H$2,X44<>ResmiTatil!$I$2,Y44<>ResmiTatil!$J$2,Z44<>ResmiTatil!$K$2),IF(AND(Y44="",Z44=""),0,IF(W44<ResmiTatil!$H$2,ResmiTatil!$H$2-W44))+IF(AND(Y44="",Z44="",OR(W44<ResmiTatil!$H$2,AND(X44<>ResmiTatil!$J$2,X44>ResmiTatil!$J$2))),ResmiTatil!$J$2-ResmiTatil!$I$2,IF(OR(Y44="",Z44=""),0,IF(AND(X44>ResmiTatil!$I$2,Y44<ResmiTatil!$J$2),X44-ResmiTatil!$I$2)))+IF(AND(X44<ResmiTatil!$I$2,Y44<ResmiTatil!$J$2),ResmiTatil!$J$2-Y44)+IF(AND(X44=ResmiTatil!$I$3,Y44=ResmiTatil!$J$3),ResmiTatil!$I$3-ResmiTatil!$I$2,IF(AND(X44>ResmiTatil!$I$2,Y44>ResmiTatil!$J$2),ResmiTatil!$J$2-ResmiTatil!$I$2))+IF(Z44>ResmiTatil!$K$2,Z44-ResmiTatil!$K$2),0)) -> 0 | AC44: =IF((X44-W44)+(Z44-Y44)<0,0,(X44-W44)+(Z44-Y44)) -> 0 | AH44: =IF(AF44-AE44<0,0,AF44-AE44) -> 0 | AI44: =IF(AND(OR(AD44="",AE44=""),OR(AF44="",AG44="")),0,IF(OR(AD44<>ResmiTatil!$H$2,AE44<>ResmiTatil!$I$2,AF44<>ResmiTatil!$J$2,AG44<>ResmiTatil!$K$2),IF(AND(AF44="",AG44=""),0,IF(AD44<ResmiTatil!$H$2,ResmiTatil!$H$2-AD44))+IF(AND(AF44="",AG44="",OR(AD44<ResmiTatil!$H$2,AND(AE44<>ResmiTatil!$J$2,AE44>ResmiTatil!$J$2))),ResmiTatil!$J$2-ResmiTatil!$I$2,IF(OR(AF44="",AG44=""),0,IF(AND(AE44>ResmiTatil!$I$2,AF44<ResmiTatil!$J$2),AE44-ResmiTatil!$I$2)))+IF(AND(AE44<ResmiTatil!$I$2,AF44<ResmiTatil!$J$2),ResmiTatil!$J$2-AF44)+IF(AND(AE44=ResmiTatil!$I$3,AF44=ResmiTatil!$J$3),ResmiTatil!$I$3-ResmiTatil!$I$2,IF(AND(AE44>ResmiTatil!$I$2,AF44>ResmiTatil!$J$2),ResmiTatil!$J$2-ResmiTatil!$I$2))+IF(AG44>ResmiTatil!$K$2,AG44-ResmiTatil!$K$2),0)) -> 0 | AJ44: =IF((AE44-AD44)+(AG44-AF44)<0,0,(AE44-AD44)+(AG44-AF44)) -> 0 | AZ44: 0.73958333
A45: =A44+1 -> 44776 | B45: 0.35416667 | C45: 0.52083333 | D45: 0.5625 | E45: 0.72916667 | F45: =IF(D45-C45<0,0,D45-C45) -> 0.041666667 | G45: =IF(AND(OR(B45="",C45=""),OR(D45="",E45="")),0,IF(OR(B45<>ResmiTatil!$H$2,C45<>ResmiTatil!$I$2,D45<>ResmiTatil!$J$2,E45<>ResmiTatil!$K$2),IF(AND(D45="",E45=""),0,IF(B45<ResmiTatil!$H$2,ResmiTatil!$H$2-B45))+IF(AND(D45="",E45="",OR(B45<ResmiTatil!$H$2,AND(C45<>ResmiTatil!$J$2,C45>ResmiTatil!$J$2))),ResmiTatil!$J$2-ResmiTatil!$I$2,IF(OR(D45="",E45=""),0,IF(AND(C45>ResmiTatil!$I$2,D45<ResmiTatil!$J$2),C45-ResmiTatil!$I$2)))+IF(AND(C45<ResmiTatil!$I$2,D45<ResmiTatil!$J$2),ResmiTatil!$J$2-D45)+IF(AND(C45=ResmiTatil!$I$3,D45=ResmiTatil!$J$3),ResmiTatil!$I$3-ResmiTatil!$I$2,IF(AND(C45>ResmiTatil!$I$2,D45>ResmiTatil!$J$2),ResmiTatil!$J$2-ResmiTatil!$I$2))+IF(E45>ResmiTatil!$K$2,E45-ResmiTatil!$K$2),0)) -> 2.1649349e-14 | H45: =IF((C45-B45)+(E45-D45)<0,0,(C45-B45)+(E45-D45)) -> 0.33333333 | I45: 0.35416667 | J45: 0.5625 | K45: 0.60416667 | L45: 0.72916667 | M45: =IF(K45-J45<0,0,K45-J45) -> 0.041666667 | N45: =IF(AND(OR(I45="",J45=""),OR(K45="",L45="")),0,IF(OR(I45<>ResmiTatil!$H$2,J45<>ResmiTatil!$I$2,K45<>ResmiTatil!$J$2,L45<>ResmiTatil!$K$2),IF(AND(K45="",L45=""),0,IF(I45<ResmiTatil!$H$2,ResmiTatil!$H$2-I45))+IF(AND(K45="",L45="",OR(I45<ResmiTatil!$H$2,AND(J45<>ResmiTatil!$J$2,J45>ResmiTatil!$J$2))),ResmiTatil!$J$2-ResmiTatil!$I$2,IF(OR(K45="",L45=""),0,IF(AND(J45>ResmiTatil!$I$2,K45<ResmiTatil!$J$2),J45-ResmiTatil!$I$2)))+IF(AND(J45<ResmiTatil!$I$2,K45<ResmiTatil!$J$2),ResmiTatil!$J$2-K45)+IF(AND(J45=ResmiTatil!$I$3,K45=ResmiTatil!$J$3),ResmiTatil!$I$3-ResmiTatil!$I$2,IF(AND(J45>ResmiTatil!$I$2,K45>ResmiTatil!$J$2),ResmiTatil!$J$2-ResmiTatil!$I$2))+IF(L45>ResmiTatil!$K$2,L45-ResmiTatil!$K$2),0)) -> 0.041666667 | O45: =IF((J45-I45)+(L45-K45)<0,0,(J45-I45)+(L45-K45)) -> 0.33333333 | T45: =IF(R45-Q45<0,0,R45-Q45) -> 0 | U45: =IF(AND(OR(P45="",Q45=""),OR(R45="",S45="")),0,IF(OR(P45<>ResmiTatil!$H$2,Q45<>ResmiTatil!$I$2,R45<>ResmiTatil!$J$2,S45<>ResmiTatil!$K$2),IF(AND(R45="",S45=""),0,IF(P45<ResmiTatil!$H$2,ResmiTatil!$H$2-P45))+IF(AND(R45="",S45="",OR(P45<ResmiTatil!$H$2,AND(Q45<>ResmiTatil!$J$2,Q45>ResmiTatil!$J$2))),ResmiTatil!$J$2-ResmiTatil!$I$2,IF(OR(R45="",S45=""),0,IF(AND(Q45>ResmiTatil!$I$2,R45<ResmiTatil!$J$2),Q45-ResmiTatil!$I$2)))+IF(AND(Q45<ResmiTatil!$I$2,R45<ResmiTatil!$J$2),ResmiTatil!$J$2-R45)+IF(AND(Q45=ResmiTatil!$I$3,R45=ResmiTatil!$J$3),ResmiTatil!$I$3-ResmiTatil!$I$2,IF(AND(Q45>ResmiTatil!$I$2,R45>ResmiTatil!$J$2),ResmiTatil!$J$2-ResmiTatil!$I$2))+IF(S45>ResmiTatil!$K$2,S45-ResmiTatil!$K$2),0)) -> 0 | V45: =IF((Q45-P45)+(S45-R45)<0,0,(Q45-P45)+(S45-R45)) -> 0 | AA45: =IF(Y45-X45<0,0,Y45-X45) -> 0 | AB45: =IF(AND(OR(W45="",X45=""),OR(Y45="",Z45="")),0,IF(OR(W45<>ResmiTatil!$H$2,X45<>ResmiTatil!$I$2,Y45<>ResmiTatil!$J$2,Z45<>ResmiTatil!$K$2),IF(AND(Y45="",Z45=""),0,IF(W45<ResmiTatil!$H$2,ResmiTatil!$H$2-W45))+IF(AND(Y45="",Z45="",OR(W45<ResmiTatil!$H$2,AND(X45<>ResmiTatil!$J$2,X45>ResmiTatil!$J$2))),ResmiTatil!$J$2-ResmiTatil!$I$2,IF(OR(Y45="",Z45=""),0,IF(AND(X45>ResmiTatil!$I$2,Y45<ResmiTatil!$J$2),X45-ResmiTatil!$I$2)))+IF(AND(X45<ResmiTatil!$I$2,Y45<ResmiTatil!$J$2),ResmiTatil!$J$2-Y45)+IF(AND(X45=ResmiTatil!$I$3,Y45=ResmiTatil!$J$3),ResmiTatil!$I$3-ResmiTatil!$I$2,IF(AND(X45>ResmiTatil!$I$2,Y45>ResmiTatil!$J$2),ResmiTatil!$J$2-ResmiTatil!$I$2))+IF(Z45>ResmiTatil!$K$2,Z45-ResmiTatil!$K$2),0)) -> 0 | AC45: =IF((X45-W45)+(Z45-Y45)<0,0,(X45-W45)+(Z45-Y45)) -> 0 | AH45: =IF(AF45-AE45<0,0,AF45-AE45) -> 0 | AI45: =IF(AND(OR(AD45="",AE45=""),OR(AF45="",AG45="")),0,IF(OR(AD45<>ResmiTatil!$H$2,AE45<>ResmiTatil!$I$2,AF45<>ResmiTatil!$J$2,AG45<>ResmiTatil!$K$2),IF(AND(AF45="",AG45=""),0,IF(AD45<ResmiTatil!$H$2,ResmiTatil!$H$2-AD45))+IF(AND(AF45="",AG45="",OR(AD45<ResmiTatil!$H$2,AND(AE45<>ResmiTatil!$J$2,AE45>ResmiTatil!$J$2))),ResmiTatil!$J$2-ResmiTatil!$I$2,IF(OR(AF45="",AG45=""),0,IF(AND(AE45>ResmiTatil!$I$2,AF45<ResmiTatil!$J$2),AE45-ResmiTatil!$I$2)))+IF(AND(AE45<ResmiTatil!$I$2,AF45<ResmiTatil!$J$2),ResmiTatil!$J$2-AF45)+IF(AND(AE45=ResmiTatil!$I$3,AF45=ResmiTatil!$J$3),ResmiTatil!$I$3-ResmiTatil!$I$2,IF(AND(AE45>ResmiTatil!$I$2,AF45>ResmiTatil!$J$2),ResmiTatil!$J$2-ResmiTatil!$I$2))+IF(AG45>ResmiTatil!$K$2,AG45-ResmiTatil!$K$2),0)) -> 0 | AJ45: =IF((AE45-AD45)+(AG45-AF45)<0,0,(AE45-AD45)+(AG45-AF45)) -> 0 | AZ45: 0.75
A46: =A45+1 -> 44777 | B46: 0.35416667 | C46: 0.5625 | D46: 0.60416667 | E46: 0.72916667 | F46: =IF(D46-C46<0,0,D46-C46) -> 0.041666667 | G46: =IF(AND(OR(B46="",C46=""),OR(D46="",E46="")),0,IF(OR(B46<>ResmiTatil!$H$2,C46<>ResmiTatil!$I$2,D46<>ResmiTatil!$J$2,E46<>ResmiTatil!$K$2),IF(AND(D46="",E46=""),0,IF(B46<ResmiTatil!$H$2,ResmiTatil!$H$2-B46))+IF(AND(D46="",E46="",OR(B46<ResmiTatil!$H$2,AND(C46<>ResmiTatil!$J$2,C46>ResmiTatil!$J$2))),ResmiTatil!$J$2-ResmiTatil!$I$2,IF(OR(D46="",E46=""),0,IF(AND(C46>ResmiTatil!$I$2,D46<ResmiTatil!$J$2),C46-ResmiTatil!$I$2)))+IF(AND(C46<ResmiTatil!$I$2,D46<ResmiTatil!$J$2),ResmiTatil!$J$2-D46)+IF(AND(C46=ResmiTatil!$I$3,D46=ResmiTatil!$J$3),ResmiTatil!$I$3-ResmiTatil!$I$2,IF(AND(C46>ResmiTatil!$I$2,D46>ResmiTatil!$J$2),ResmiTatil!$J$2-ResmiTatil!$I$2))+IF(E46>ResmiTatil!$K$2,E46-ResmiTatil!$K$2),0)) -> 0.041666667 | H46: =IF((C46-B46)+(E46-D46)<0,0,(C46-B46)+(E46-D46)) -> 0.33333333 | I46: 0.35416667 | J46: 0.52083333 | K46: 0.5625 | L46: 0.72916667 | M46: =IF(K46-J46<0,0,K46-J46) -> 0.041666667 | N46: =IF(AND(OR(I46="",J46=""),OR(K46="",L46="")),0,IF(OR(I46<>ResmiTatil!$H$2,J46<>ResmiTatil!$I$2,K46<>ResmiTatil!$J$2,L46<>ResmiTatil!$K$2),IF(AND(K46="",L46=""),0,IF(I46<ResmiTatil!$H$2,ResmiTatil!$H$2-I46))+IF(AND(K46="",L46="",OR(I46<ResmiTatil!$H$2,AND(J46<>ResmiTatil!$J$2,J46>ResmiTatil!$J$2))),ResmiTatil!$J$2-ResmiTatil!$I$2,IF(OR(K46="",L46=""),0,IF(AND(J46>ResmiTatil!$I$2,K46<ResmiTatil!$J$2),J46-ResmiTatil!$I$2)))+IF(AND(J46<ResmiTatil!$I$2,K46<ResmiTatil!$J$2),ResmiTatil!$J$2-K46)+IF(AND(J46=ResmiTatil!$I$3,K46=ResmiTatil!$J$3),ResmiTatil!$I$3-ResmiTatil!$I$2,IF(AND(J46>ResmiTatil!$I$2,K46>ResmiTatil!$J$2),ResmiTatil!$J$2-ResmiTatil!$I$2))+IF(L46>ResmiTatil!$K$2,L46-ResmiTatil!$K$2),0)) -> 2.1649349e-14 | O46: =IF((J46-I46)+(L46-K46)<0,0,(J46-I46)+(L46-K46)) -> 0.33333333 | T46: =IF(R46-Q46<0,0,R46-Q46) -> 0 | U46: =IF(AND(OR(P46="",Q46=""),OR(R46="",S46="")),0,IF(OR(P46<>ResmiTatil!$H$2,Q46<>ResmiTatil!$I$2,R46<>ResmiTatil!$J$2,S46<>ResmiTatil!$K$2),IF(AND(R46="",S46=""),0,IF(P46<ResmiTatil!$H$2,ResmiTatil!$H$2-P46))+IF(AND(R46="",S46="",OR(P46<ResmiTatil!$H$2,AND(Q46<>ResmiTatil!$J$2,Q46>ResmiTatil!$J$2))),ResmiTatil!$J$2-ResmiTatil!$I$2,IF(OR(R46="",S46=""),0,IF(AND(Q46>ResmiTatil!$I$2,R46<ResmiTatil!$J$2),Q46-ResmiTatil!$I$2)))+IF(AND(Q46<ResmiTatil!$I$2,R46<ResmiTatil!$J$2),ResmiTatil!$J$2-R46)+IF(AND(Q46=ResmiTatil!$I$3,R46=ResmiTatil!$J$3),ResmiTatil!$I$3-ResmiTatil!$I$2,IF(AND(Q46>ResmiTatil!$I$2,R46>ResmiTatil!$J$2),ResmiTatil!$J$2-ResmiTatil!$I$2))+IF(S46>ResmiTatil!$K$2,S46-ResmiTatil!$K$2),0)) -> 0 | V46: =IF((Q46-P46)+(S46-R46)<0,0,(Q46-P46)+(S46-R46)) -> 0 | AA46: =IF(Y46-X46<0,0,Y46-X46) -> 0 | AB46: =IF(AND(OR(W46="",X46=""),OR(Y46="",Z46="")),0,IF(OR(W46<>ResmiTatil!$H$2,X46<>ResmiTatil!$I$2,Y46<>ResmiTatil!$J$2,Z46<>ResmiTatil!$K$2),IF(AND(Y46="",Z46=""),0,IF(W46<ResmiTatil!$H$2,ResmiTatil!$H$2-W46))+IF(AND(Y46="",Z46="",OR(W46<ResmiTatil!$H$2,AND(X46<>ResmiTatil!$J$2,X46>ResmiTatil!$J$2))),ResmiTatil!$J$2-ResmiTatil!$I$2,IF(OR(Y46="",Z46=""),0,IF(AND(X46>ResmiTatil!$I$2,Y46<ResmiTatil!$J$2),X46-ResmiTatil!$I$2)))+IF(AND(X46<ResmiTatil!$I$2,Y46<ResmiTatil!$J$2),ResmiTatil!$J$2-Y46)+IF(AND(X46=ResmiTatil!$I$3,Y46=ResmiTatil!$J$3),ResmiTatil!$I$3-ResmiTatil!$I$2,IF(AND(X46>ResmiTatil!$I$2,Y46>ResmiTatil!$J$2),ResmiTatil!$J$2-ResmiTatil!$I$2))+IF(Z46>ResmiTatil!$K$2,Z46-ResmiTatil!$K$2),0)) -> 0 | AC46: =IF((X46-W46)+(Z46-Y46)<0,0,(X46-W46)+(Z46-Y46)) -> 0 | AH46: =IF(AF46-AE46<0,0,AF46-AE46) -> 0 | AI46: =IF(AND(OR(AD46="",AE46=""),OR(AF46="",AG46="")),0,IF(OR(AD46<>ResmiTatil!$H$2,AE46<>ResmiTatil!$I$2,AF46<>ResmiTatil!$J$2,AG46<>ResmiTatil!$K$2),IF(AND(AF46="",AG46=""),0,IF(AD46<ResmiTatil!$H$2,ResmiTatil!$H$2-AD46))+IF(AND(AF46="",AG46="",OR(AD46<ResmiTatil!$H$2,AND(AE46<>ResmiTatil!$J$2,AE46>ResmiTatil!$J$2))),ResmiTatil!$J$2-ResmiTatil!$I$2,IF(OR(AF46="",AG46=""),0,IF(AND(AE46>ResmiTatil!$I$2,AF46<ResmiTatil!$J$2),AE46-ResmiTatil!$I$2)))+IF(AND(AE46<ResmiTatil!$I$2,AF46<ResmiTatil!$J$2),ResmiTatil!$J$2-AF46)+IF(AND(AE46=ResmiTatil!$I$3,AF46=ResmiTatil!$J$3),ResmiTatil!$I$3-ResmiTatil!$I$2,IF(AND(AE46>ResmiTatil!$I$2,AF46>ResmiTatil!$J$2),ResmiTatil!$J$2-ResmiTatil!$I$2))+IF(AG46>ResmiTatil!$K$2,AG46-ResmiTatil!$K$2),0)) -> 0 | AJ46: =IF((AE46-AD46)+(AG46-AF46)<0,0,(AE46-AD46)+(AG46-AF46)) -> 0 | AZ46: 0.76041667
A47: =A46+1 -> 44778 | B47: 0.35416667 | C47: 0.52083333 | D47: 0.5625 | E47: 0.72916667 | F47: =IF(D47-C47<0,0,D47-C47) -> 0.041666667 | G47: =IF(AND(OR(B47="",C47=""),OR(D47="",E47="")),0,IF(OR(B47<>ResmiTatil!$H$2,C47<>ResmiTatil!$I$2,D47<>ResmiTatil!$J$2,E47<>ResmiTatil!$K$2),IF(AND(D47="",E47=""),0,IF(B47<ResmiTatil!$H$2,ResmiTatil!$H$2-B47))+IF(AND(D47="",E47="",OR(B47<ResmiTatil!$H$2,AND(C47<>ResmiTatil!$J$2,C47>ResmiTatil!$J$2))),ResmiTatil!$J$2-ResmiTatil!$I$2,IF(OR(D47="",E47=""),0,IF(AND(C47>ResmiTatil!$I$2,D47<ResmiTatil!$J$2),C47-ResmiTatil!$I$2)))+IF(AND(C47<ResmiTatil!$I$2,D47<ResmiTatil!$J$2),ResmiTatil!$J$2-D47)+IF(AND(C47=ResmiTatil!$I$3,D47=ResmiTatil!$J$3),ResmiTatil!$I$3-ResmiTatil!$I$2,IF(AND(C47>ResmiTatil!$I$2,D47>ResmiTatil!$J$2),ResmiTatil!$J$2-ResmiTatil!$I$2))+IF(E47>ResmiTatil!$K$2,E47-ResmiTatil!$K$2),0)) -> 2.1649349e-14 | H47: =IF((C47-B47)+(E47-D47)<0,0,(C47-B47)+(E47-D47)) -> 0.33333333 | I47: 0.35416667 | J47: 0.5625 | K47: 0.60416667 | L47: 0.72916667 | M47: =IF(K47-J47<0,0,K47-J47) -> 0.041666667 | N47: =IF(AND(OR(I47="",J47=""),OR(K47="",L47="")),0,IF(OR(I47<>ResmiTatil!$H$2,J47<>ResmiTatil!$I$2,K47<>ResmiTatil!$J$2,L47<>ResmiTatil!$K$2),IF(AND(K47="",L47=""),0,IF(I47<ResmiTatil!$H$2,ResmiTatil!$H$2-I47))+IF(AND(K47="",L47="",OR(I47<ResmiTatil!$H$2,AND(J47<>ResmiTatil!$J$2,J47>ResmiTatil!$J$2))),ResmiTatil!$J$2-ResmiTatil!$I$2,IF(OR(K47="",L47=""),0,IF(AND(J47>ResmiTatil!$I$2,K47<ResmiTatil!$J$2),J47-ResmiTatil!$I$2)))+IF(AND(J47<ResmiTatil!$I$2,K47<ResmiTatil!$J$2),ResmiTatil!$J$2-K47)+IF(AND(J47=ResmiTatil!$I$3,K47=ResmiTatil!$J$3),ResmiTatil!$I$3-ResmiTatil!$I$2,IF(AND(J47>ResmiTatil!$I$2,K47>ResmiTatil!$J$2),ResmiTatil!$J$2-ResmiTatil!$I$2))+IF(L47>ResmiTatil!$K$2,L47-ResmiTatil!$K$2),0)) -> 0.041666667 | O47: =IF((J47-I47)+(L47-K47)<0,0,(J47-I47)+(L47-K47)) -> 0.33333333 | T47: =IF(R47-Q47<0,0,R47-Q47) -> 0 | U47: =IF(AND(OR(P47="",Q47=""),OR(R47="",S47="")),0,IF(OR(P47<>ResmiTatil!$H$2,Q47<>ResmiTatil!$I$2,R47<>ResmiTatil!$J$2,S47<>ResmiTatil!$K$2),IF(AND(R47="",S47=""),0,IF(P47<ResmiTatil!$H$2,ResmiTatil!$H$2-P47))+IF(AND(R47="",S47="",OR(P47<ResmiTatil!$H$2,AND(Q47<>ResmiTatil!$J$2,Q47>ResmiTatil!$J$2))),ResmiTatil!$J$2-ResmiTatil!$I$2,IF(OR(R47="",S47=""),0,IF(AND(Q47>ResmiTatil!$I$2,R47<ResmiTatil!$J$2),Q47-ResmiTatil!$I$2)))+IF(AND(Q47<ResmiTatil!$I$2,R47<ResmiTatil!$J$2),ResmiTatil!$J$2-R47)+IF(AND(Q47=ResmiTatil!$I$3,R47=ResmiTatil!$J$3),ResmiTatil!$I$3-ResmiTatil!$I$2,IF(AND(Q47>ResmiTatil!$I$2,R47>ResmiTatil!$J$2),ResmiTatil!$J$2-ResmiTatil!$I$2))+IF(S47>ResmiTatil!$K$2,S47-ResmiTatil!$K$2),0)) -> 0 | V47: =IF((Q47-P47)+(S47-R47)<0,0,(Q47-P47)+(S47-R47)) -> 0 | AA47: =IF(Y47-X47<0,0,Y47-X47) -> 0 | AB47: =IF(AND(OR(W47="",X47=""),OR(Y47="",Z47="")),0,IF(OR(W47<>ResmiTatil!$H$2,X47<>ResmiTatil!$I$2,Y47<>ResmiTatil!$J$2,Z47<>ResmiTatil!$K$2),IF(AND(Y47="",Z47=""),0,IF(W47<ResmiTatil!$H$2,ResmiTatil!$H$2-W47))+IF(AND(Y47="",Z47="",OR(W47<ResmiTatil!$H$2,AND(X47<>ResmiTatil!$J$2,X47>ResmiTatil!$J$2))),ResmiTatil!$J$2-ResmiTatil!$I$2,IF(OR(Y47="",Z47=""),0,IF(AND(X47>ResmiTatil!$I$2,Y47<ResmiTatil!$J$2),X47-ResmiTatil!$I$2)))+IF(AND(X47<ResmiTatil!$I$2,Y47<ResmiTatil!$J$2),ResmiTatil!$J$2-Y47)+IF(AND(X47=ResmiTatil!$I$3,Y47=ResmiTatil!$J$3),ResmiTatil!$I$3-ResmiTatil!$I$2,IF(AND(X47>ResmiTatil!$I$2,Y47>ResmiTatil!$J$2),ResmiTatil!$J$2-ResmiTatil!$I$2))+IF(Z47>ResmiTatil!$K$2,Z47-ResmiTatil!$K$2),0)) -> 0 | AC47: =IF((X47-W47)+(Z47-Y47)<0,0,(X47-W47)+(Z47-Y47)) -> 0 | AH47: =IF(AF47-AE47<0,0,AF47-AE47) -> 0 | AI47: =IF(AND(OR(AD47="",AE47=""),OR(AF47="",AG47="")),0,IF(OR(AD47<>ResmiTatil!$H$2,AE47<>ResmiTatil!$I$2,AF47<>ResmiTatil!$J$2,AG47<>ResmiTatil!$K$2),IF(AND(AF47="",AG47=""),0,IF(AD47<ResmiTatil!$H$2,ResmiTatil!$H$2-AD47))+IF(AND(AF47="",AG47="",OR(AD47<ResmiTatil!$H$2,AND(AE47<>ResmiTatil!$J$2,AE47>ResmiTatil!$J$2))),ResmiTatil!$J$2-ResmiTatil!$I$2,IF(OR(AF47="",AG47=""),0,IF(AND(AE47>ResmiTatil!$I$2,AF47<ResmiTatil!$J$2),AE47-ResmiTatil!$I$2)))+IF(AND(AE47<ResmiTatil!$I$2,AF47<ResmiTatil!$J$2),ResmiTatil!$J$2-AF47)+IF(AND(AE47=ResmiTatil!$I$3,AF47=ResmiTatil!$J$3),ResmiTatil!$I$3-ResmiTatil!$I$2,IF(AND(AE47>ResmiTatil!$I$2,AF47>ResmiTatil!$J$2),ResmiTatil!$J$2-ResmiTatil!$I$2))+IF(AG47>ResmiTatil!$K$2,AG47-ResmiTatil!$K$2),0)) -> 0 | AJ47: =IF((AE47-AD47)+(AG47-AF47)<0,0,(AE47-AD47)+(AG47-AF47)) -> 0 | AZ47: 0.77083333
A48: HAFTALIK TOPLAM | G48: =SUM(G43:G47) -> 0.125 | H48: =SUM(H43:H47) -> 1.6666667 | N48: =SUM(N43:N47) -> 0.125 | O48: =SUM(O43:O47) -> 1.6666667 | U48: =SUM(U43:U47) -> 0 | V48: =SUM(V43:V47) -> 0 | AB48: =SUM(AB43:AB47) -> 0 | AC48: =SUM(AC43:AC47) -> 0 | AI48: =SUM(AI43:AI47) -> 0 | AJ48: =SUM(AJ43:AJ47) -> 0 | AZ48: 0.78125
A49: =A47+1 -> 44779 | AZ49: 0.79166667
A50: =A49+1 -> 44780 | AZ50: 0.80208333
A51: =A50+1 -> 44781 | B51: 0.35416667 | C51: 0.5625 | D51: 0.60416667 | E51: 0.72916667 | F51: =IF(D51-C51<0,0,D51-C51) -> 0.041666667 | G51: =IF(AND(OR(B51="",C51=""),OR(D51="",E51="")),0,IF(OR(B51<>ResmiTatil!$H$2,C51<>ResmiTatil!$I$2,D51<>ResmiTatil!$J$2,E51<>ResmiTatil!$K$2),IF(AND(D51="",E51=""),0,IF(B51<ResmiTatil!$H$2,ResmiTatil!$H$2-B51))+IF(AND(D51="",E51="",OR(B51<ResmiTatil!$H$2,AND(C51<>ResmiTatil!$J$2,C51>ResmiTatil!$J$2))),ResmiTatil!$J$2-ResmiTatil!$I$2,IF(OR(D51="",E51=""),0,IF(AND(C51>ResmiTatil!$I$2,D51<ResmiTatil!$J$2),C51-ResmiTatil!$I$2)))+IF(AND(C51<ResmiTatil!$I$2,D51<ResmiTatil!$J$2),ResmiTatil!$J$2-D51)+IF(AND(C51=ResmiTatil!$I$3,D51=ResmiTatil!$J$3),ResmiTatil!$I$3-ResmiTatil!$I$2,IF(AND(C51>ResmiTatil!$I$2,D51>ResmiTatil!$J$2),ResmiTatil!$J$2-ResmiTatil!$I$2))+IF(E51>ResmiTatil!$K$2,E51-ResmiTatil!$K$2),0)) -> 0.041666667 | H51: =IF((C51-B51)+(E51-D51)<0,0,(C51-B51)+(E51-D51)) -> 0.33333333 | I51: 0.3125 | J51: 0.52083333 | K51: 0.5625 | L51: 0.6875 | M51: =IF(K51-J51<0,0,K51-J51) -> 0.041666667 | N51: =IF(AND(OR(I51="",J51=""),OR(K51="",L51="")),0,IF(OR(I51<>ResmiTatil!$H$2,J51<>ResmiTatil!$I$2,K51<>ResmiTatil!$J$2,L51<>ResmiTatil!$K$2),IF(AND(K51="",L51=""),0,IF(I51<ResmiTatil!$H$2,ResmiTatil!$H$2-I51))+IF(AND(K51="",L51="",OR(I51<ResmiTatil!$H$2,AND(J51<>ResmiTatil!$J$2,J51>ResmiTatil!$J$2))),ResmiTatil!$J$2-ResmiTatil!$I$2,IF(OR(K51="",L51=""),0,IF(AND(J51>ResmiTatil!$I$2,K51<ResmiTatil!$J$2),J51-ResmiTatil!$I$2)))+IF(AND(J51<ResmiTatil!$I$2,K51<ResmiTatil!$J$2),ResmiTatil!$J$2-K51)+IF(AND(J51=ResmiTatil!$I$3,K51=ResmiTatil!$J$3),ResmiTatil!$I$3-ResmiTatil!$I$2,IF(AND(J51>ResmiTatil!$I$2,K51>ResmiTatil!$J$2),ResmiTatil!$J$2-ResmiTatil!$I$2))+IF(L51>ResmiTatil!$K$2,L51-ResmiTatil!$K$2),0)) -> 0.041666667 | O51: =IF((J51-I51)+(L51-K51)<0,0,(J51-I51)+(L51-K51)) -> 0.33333333 | T51: =IF(R51-Q51<0,0,R51-Q51) -> 0 | U51: =IF(AND(OR(P51="",Q51=""),OR(R51="",S51="")),0,IF(OR(P51<>ResmiTatil!$H$2,Q51<>ResmiTatil!$I$2,R51<>ResmiTatil!$J$2,S51<>ResmiTatil!$K$2),IF(AND(R51="",S51=""),0,IF(P51<ResmiTatil!$H$2,ResmiTatil!$H$2-P51))+IF(AND(R51="",S51="",OR(P51<ResmiTatil!$H$2,AND(Q51<>ResmiTatil!$J$2,Q51>ResmiTatil!$J$2))),ResmiTatil!$J$2-ResmiTatil!$I$2,IF(OR(R51="",S51=""),0,IF(AND(Q51>ResmiTatil!$I$2,R51<ResmiTatil!$J$2),Q51-ResmiTatil!$I$2)))+IF(AND(Q51<ResmiTatil!$I$2,R51<ResmiTatil!$J$2),ResmiTatil!$J$2-R51)+IF(AND(Q51=ResmiTatil!$I$3,R51=ResmiTatil!$J$3),ResmiTatil!$I$3-ResmiTatil!$I$2,IF(AND(Q51>ResmiTatil!$I$2,R51>ResmiTatil!$J$2),ResmiTatil!$J$2-ResmiTatil!$I$2))+IF(S51>ResmiTatil!$K$2,S51-ResmiTatil!$K$2),0)) -> 0 | V51: =IF((Q51-P51)+(S51-R51)<0,0,(Q51-P51)+(S51-R51)) -> 0 | AA51: =IF(Y51-X51<0,0,Y51-X51) -> 0 | AB51: =IF(AND(OR(W51="",X51=""),OR(Y51="",Z51="")),0,IF(OR(W51<>ResmiTatil!$H$2,X51<>ResmiTatil!$I$2,Y51<>ResmiTatil!$J$2,Z51<>ResmiTatil!$K$2),IF(AND(Y51="",Z51=""),0,IF(W51<ResmiTatil!$H$2,ResmiTatil!$H$2-W51))+IF(AND(Y51="",Z51="",OR(W51<ResmiTatil!$H$2,AND(X51<>ResmiTatil!$J$2,X51>ResmiTatil!$J$2))),ResmiTatil!$J$2-ResmiTatil!$I$2,IF(OR(Y51="",Z51=""),0,IF(AND(X51>ResmiTatil!$I$2,Y51<ResmiTatil!$J$2),X51-ResmiTatil!$I$2)))+IF(AND(X51<ResmiTatil!$I$2,Y51<ResmiTatil!$J$2),ResmiTatil!$J$2-Y51)+IF(AND(X51=ResmiTatil!$I$3,Y51=ResmiTatil!$J$3),ResmiTatil!$I$3-ResmiTatil!$I$2,IF(AND(X51>ResmiTatil!$I$2,Y51>ResmiTatil!$J$2),ResmiTatil!$J$2-ResmiTatil!$I$2))+IF(Z51>ResmiTatil!$K$2,Z51-ResmiTatil!$K$2),0)) -> 0 | AC51: =IF((X51-W51)+(Z51-Y51)<0,0,(X51-W51)+(Z51-Y51)) -> 0 | AH51: =IF(AF51-AE51<0,0,AF51-AE51) -> 0 | AI51: =IF(AND(OR(AD51="",AE51=""),OR(AF51="",AG51="")),0,IF(OR(AD51<>ResmiTatil!$H$2,AE51<>ResmiTatil!$I$2,AF51<>ResmiTatil!$J$2,AG51<>ResmiTatil!$K$2),IF(AND(AF51="",AG51=""),0,IF(AD51<ResmiTatil!$H$2,ResmiTatil!$H$2-AD51))+IF(AND(AF51="",AG51="",OR(AD51<ResmiTatil!$H$2,AND(AE51<>ResmiTatil!$J$2,AE51>ResmiTatil!$J$2))),ResmiTatil!$J$2-ResmiTatil!$I$2,IF(OR(AF51="",AG51=""),0,IF(AND(AE51>ResmiTatil!$I$2,AF51<ResmiTatil!$J$2),AE51-ResmiTatil!$I$2)))+IF(AND(AE51<ResmiTatil!$I$2,AF51<ResmiTatil!$J$2),ResmiTatil!$J$2-AF51)+IF(AND(AE51=ResmiTatil!$I$3,AF51=ResmiTatil!$J$3),ResmiTatil!$I$3-ResmiTatil!$I$2,IF(AND(AE51>ResmiTatil!$I$2,AF51>ResmiTatil!$J$2),ResmiTatil!$J$2-ResmiTatil!$I$2))+IF(AG51>ResmiTatil!$K$2,AG51-ResmiTatil!$K$2),0)) -> 0 | AJ51: =IF((AE51-AD51)+(AG51-AF51)<0,0,(AE51-AD51)+(AG51-AF51)) -> 0 | AZ51: 0.8125
A52: =A51+1 -> 44782 | B52: 0.35416667 | C52: 0.52083333 | D52: 0.5625 | E52: 0.72916667 | F52: =IF(D52-C52<0,0,D52-C52) -> 0.041666667 | G52: =IF(AND(OR(B52="",C52=""),OR(D52="",E52="")),0,IF(OR(B52<>ResmiTatil!$H$2,C52<>ResmiTatil!$I$2,D52<>ResmiTatil!$J$2,E52<>ResmiTatil!$K$2),IF(AND(D52="",E52=""),0,IF(B52<ResmiTatil!$H$2,ResmiTatil!$H$2-B52))+IF(AND(D52="",E52="",OR(B52<ResmiTatil!$H$2,AND(C52<>ResmiTatil!$J$2,C52>ResmiTatil!$J$2))),ResmiTatil!$J$2-ResmiTatil!$I$2,IF(OR(D52="",E52=""),0,IF(AND(C52>ResmiTatil!$I$2,D52<ResmiTatil!$J$2),C52-ResmiTatil!$I$2)))+IF(AND(C52<ResmiTatil!$I$2,D52<ResmiTatil!$J$2),ResmiTatil!$J$2-D52)+IF(AND(C52=ResmiTatil!$I$3,D52=ResmiTatil!$J$3),ResmiTatil!$I$3-ResmiTatil!$I$2,IF(AND(C52>ResmiTatil!$I$2,D52>ResmiTatil!$J$2),ResmiTatil!$J$2-ResmiTatil!$I$2))+IF(E52>ResmiTatil!$K$2,E52-ResmiTatil!$K$2),0)) -> 2.1649349e-14 | H52: =IF((C52-B52)+(E52-D52)<0,0,(C52-B52)+(E52-D52)) -> 0.33333333 | I52: 0.35416667 | J52: 0.5625 | K52: 0.60416667 | L52: 0.72916667 | M52: =IF(K52-J52<0,0,K52-J52) -> 0.041666667 | N52: =IF(AND(OR(I52="",J52=""),OR(K52="",L52="")),0,IF(OR(I52<>ResmiTatil!$H$2,J52<>ResmiTatil!$I$2,K52<>ResmiTatil!$J$2,L52<>ResmiTatil!$K$2),IF(AND(K52="",L52=""),0,IF(I52<ResmiTatil!$H$2,ResmiTatil!$H$2-I52))+IF(AND(K52="",L52="",OR(I52<ResmiTatil!$H$2,AND(J52<>ResmiTatil!$J$2,J52>ResmiTatil!$J$2))),ResmiTatil!$J$2-ResmiTatil!$I$2,IF(OR(K52="",L52=""),0,IF(AND(J52>ResmiTatil!$I$2,K52<ResmiTatil!$J$2),J52-ResmiTatil!$I$2)))+IF(AND(J52<ResmiTatil!$I$2,K52<ResmiTatil!$J$2),ResmiTatil!$J$2-K52)+IF(AND(J52=ResmiTatil!$I$3,K52=ResmiTatil!$J$3),ResmiTatil!$I$3-ResmiTatil!$I$2,IF(AND(J52>ResmiTatil!$I$2,K52>ResmiTatil!$J$2),ResmiTatil!$J$2-ResmiTatil!$I$2))+IF(L52>ResmiTatil!$K$2,L52-ResmiTatil!$K$2),0)) -> 0.041666667 | O52: =IF((J52-I52)+(L52-K52)<0,0,(J52-I52)+(L52-K52)) -> 0.33333333 | T52: =IF(R52-Q52<0,0,R52-Q52) -> 0 | U52: =IF(AND(OR(P52="",Q52=""),OR(R52="",S52="")),0,IF(OR(P52<>ResmiTatil!$H$2,Q52<>ResmiTatil!$I$2,R52<>ResmiTatil!$J$2,S52<>ResmiTatil!$K$2),IF(AND(R52="",S52=""),0,IF(P52<ResmiTatil!$H$2,ResmiTatil!$H$2-P52))+IF(AND(R52="",S52="",OR(P52<ResmiTatil!$H$2,AND(Q52<>ResmiTatil!$J$2,Q52>ResmiTatil!$J$2))),ResmiTatil!$J$2-ResmiTatil!$I$2,IF(OR(R52="",S52=""),0,IF(AND(Q52>ResmiTatil!$I$2,R52<ResmiTatil!$J$2),Q52-ResmiTatil!$I$2)))+IF(AND(Q52<ResmiTatil!$I$2,R52<ResmiTatil!$J$2),ResmiTatil!$J$2-R52)+IF(AND(Q52=ResmiTatil!$I$3,R52=ResmiTatil!$J$3),ResmiTatil!$I$3-ResmiTatil!$I$2,IF(AND(Q52>ResmiTatil!$I$2,R52>ResmiTatil!$J$2),ResmiTatil!$J$2-ResmiTatil!$I$2))+IF(S52>ResmiTatil!$K$2,S52-ResmiTatil!$K$2),0)) -> 0 | V52: =IF((Q52-P52)+(S52-R52)<0,0,(Q52-P52)+(S52-R52)) -> 0 | AA52: =IF(Y52-X52<0,0,Y52-X52) -> 0 | AB52: =IF(AND(OR(W52="",X52=""),OR(Y52="",Z52="")),0,IF(OR(W52<>ResmiTatil!$H$2,X52<>ResmiTatil!$I$2,Y52<>ResmiTatil!$J$2,Z52<>ResmiTatil!$K$2),IF(AND(Y52="",Z52=""),0,IF(W52<ResmiTatil!$H$2,ResmiTatil!$H$2-W52))+IF(AND(Y52="",Z52="",OR(W52<ResmiTatil!$H$2,AND(X52<>ResmiTatil!$J$2,X52>ResmiTatil!$J$2))),ResmiTatil!$J$2-ResmiTatil!$I$2,IF(OR(Y52="",Z52=""),0,IF(AND(X52>ResmiTatil!$I$2,Y52<ResmiTatil!$J$2),X52-ResmiTatil!$I$2)))+IF(AND(X52<ResmiTatil!$I$2,Y52<ResmiTatil!$J$2),ResmiTatil!$J$2-Y52)+IF(AND(X52=ResmiTatil!$I$3,Y52=ResmiTatil!$J$3),ResmiTatil!$I$3-ResmiTatil!$I$2,IF(AND(X52>ResmiTatil!$I$2,Y52>ResmiTatil!$J$2),ResmiTatil!$J$2-ResmiTatil!$I$2))+IF(Z52>ResmiTatil!$K$2,Z52-ResmiTatil!$K$2),0)) -> 0 | AC52: =IF((X52-W52)+(Z52-Y52)<0,0,(X52-W52)+(Z52-Y52)) -> 0 | AH52: =IF(AF52-AE52<0,0,AF52-AE52) -> 0 | AI52: =IF(AND(OR(AD52="",AE52=""),OR(AF52="",AG52="")),0,IF(OR(AD52<>ResmiTatil!$H$2,AE52<>ResmiTatil!$I$2,AF52<>ResmiTatil!$J$2,AG52<>ResmiTatil!$K$2),IF(AND(AF52="",AG52=""),0,IF(AD52<ResmiTatil!$H$2,ResmiTatil!$H$2-AD52))+IF(AND(AF52="",AG52="",OR(AD52<ResmiTatil!$H$2,AND(AE52<>ResmiTatil!$J$2,AE52>ResmiTatil!$J$2))),ResmiTatil!$J$2-ResmiTatil!$I$2,IF(OR(AF52="",AG52=""),0,IF(AND(AE52>ResmiTatil!$I$2,AF52<ResmiTatil!$J$2),AE52-ResmiTatil!$I$2)))+IF(AND(AE52<ResmiTatil!$I$2,AF52<ResmiTatil!$J$2),ResmiTatil!$J$2-AF52)+IF(AND(AE52=ResmiTatil!$I$3,AF52=ResmiTatil!$J$3),ResmiTatil!$I$3-ResmiTatil!$I$2,IF(AND(AE52>ResmiTatil!$I$2,AF52>ResmiTatil!$J$2),ResmiTatil!$J$2-ResmiTatil!$I$2))+IF(AG52>ResmiTatil!$K$2,AG52-ResmiTatil!$K$2),0)) -> 0 | AJ52: =IF((AE52-AD52)+(AG52-AF52)<0,0,(AE52-AD52)+(AG52-AF52)) -> 0 | AZ52: 0.82291667
A53: =A52+1 -> 44783 | B53: 0.35416667 | C53: 0.5625 | D53: 0.60416667 | E53: 0.72916667 | F53: =IF(D53-C53<0,0,D53-C53) -> 0.041666667 | G53: =IF(AND(OR(B53="",C53=""),OR(D53="",E53="")),0,IF(OR(B53<>ResmiTatil!$H$2,C53<>ResmiTatil!$I$2,D53<>ResmiTatil!$J$2,E53<>ResmiTatil!$K$2),IF(AND(D53="",E53=""),0,IF(B53<ResmiTatil!$H$2,ResmiTatil!$H$2-B53))+IF(AND(D53="",E53="",OR(B53<ResmiTatil!$H$2,AND(C53<>ResmiTatil!$J$2,C53>ResmiTatil!$J$2))),ResmiTatil!$J$2-ResmiTatil!$I$2,IF(OR(D53="",E53=""),0,IF(AND(C53>ResmiTatil!$I$2,D53<ResmiTatil!$J$2),C53-ResmiTatil!$I$2)))+IF(AND(C53<ResmiTatil!$I$2,D53<ResmiTatil!$J$2),ResmiTatil!$J$2-D53)+IF(AND(C53=ResmiTatil!$I$3,D53=ResmiTatil!$J$3),ResmiTatil!$I$3-ResmiTatil!$I$2,IF(AND(C53>ResmiTatil!$I$2,D53>ResmiTatil!$J$2),ResmiTatil!$J$2-ResmiTatil!$I$2))+IF(E53>ResmiTatil!$K$2,E53-ResmiTatil!$K$2),0)) -> 0.041666667 | H53: =IF((C53-B53)+(E53-D53)<0,0,(C53-B53)+(E53-D53)) -> 0.33333333 | I53: 0.35416667 | J53: 0.52083333 | K53: 0.5625 | L53: 0.72916667 | M53: =IF(K53-J53<0,0,K53-J53) -> 0.041666667 | N53: =IF(AND(OR(I53="",J53=""),OR(K53="",L53="")),0,IF(OR(I53<>ResmiTatil!$H$2,J53<>ResmiTatil!$I$2,K53<>ResmiTatil!$J$2,L53<>ResmiTatil!$K$2),IF(AND(K53="",L53=""),0,IF(I53<ResmiTatil!$H$2,ResmiTatil!$H$2-I53))+IF(AND(K53="",L53="",OR(I53<ResmiTatil!$H$2,AND(J53<>ResmiTatil!$J$2,J53>ResmiTatil!$J$2))),ResmiTatil!$J$2-ResmiTatil!$I$2,IF(OR(K53="",L53=""),0,IF(AND(J53>ResmiTatil!$I$2,K53<ResmiTatil!$J$2),J53-ResmiTatil!$I$2)))+IF(AND(J53<ResmiTatil!$I$2,K53<ResmiTatil!$J$2),ResmiTatil!$J$2-K53)+IF(AND(J53=ResmiTatil!$I$3,K53=ResmiTatil!$J$3),ResmiTatil!$I$3-ResmiTatil!$I$2,IF(AND(J53>ResmiTatil!$I$2,K53>ResmiTatil!$J$2),ResmiTatil!$J$2-ResmiTatil!$I$2))+IF(L53>ResmiTatil!$K$2,L53-ResmiTatil!$K$2),0)) -> 2.1649349e-14 | O53: =IF((J53-I53)+(L53-K53)<0,0,(J53-I53)+(L53-K53)) -> 0.33333333 | T53: =IF(R53-Q53<0,0,R53-Q53) -> 0 | U53: =IF(AND(OR(P53="",Q53=""),OR(R53="",S53="")),0,IF(OR(P53<>ResmiTatil!$H$2,Q53<>ResmiTatil!$I$2,R53<>ResmiTatil!$J$2,S53<>ResmiTatil!$K$2),IF(AND(R53="",S53=""),0,IF(P53<ResmiTatil!$H$2,ResmiTatil!$H$2-P53))+IF(AND(R53="",S53="",OR(P53<ResmiTatil!$H$2,AND(Q53<>ResmiTatil!$J$2,Q53>ResmiTatil!$J$2))),ResmiTatil!$J$2-ResmiTatil!$I$2,IF(OR(R53="",S53=""),0,IF(AND(Q53>ResmiTatil!$I$2,R53<ResmiTatil!$J$2),Q53-ResmiTatil!$I$2)))+IF(AND(Q53<ResmiTatil!$I$2,R53<ResmiTatil!$J$2),ResmiTatil!$J$2-R53)+IF(AND(Q53=ResmiTatil!$I$3,R53=ResmiTatil!$J$3),ResmiTatil!$I$3-ResmiTatil!$I$2,IF(AND(Q53>ResmiTatil!$I$2,R53>ResmiTatil!$J$2),ResmiTatil!$J$2-ResmiTatil!$I$2))+IF(S53>ResmiTatil!$K$2,S53-ResmiTatil!$K$2),0)) -> 0 | V53: =IF((Q53-P53)+(S53-R53)<0,0,(Q53-P53)+(S53-R53)) -> 0 | AA53: =IF(Y53-X53<0,0,Y53-X53) -> 0 | AB53: =IF(AND(OR(W53="",X53=""),OR(Y53="",Z53="")),0,IF(OR(W53<>ResmiTatil!$H$2,X53<>ResmiTatil!$I$2,Y53<>ResmiTatil!$J$2,Z53<>ResmiTatil!$K$2),IF(AND(Y53="",Z53=""),0,IF(W53<ResmiTatil!$H$2,ResmiTatil!$H$2-W53))+IF(AND(Y53="",Z53="",OR(W53<ResmiTatil!$H$2,AND(X53<>ResmiTatil!$J$2,X53>ResmiTatil!$J$2))),ResmiTatil!$J$2-ResmiTatil!$I$2,IF(OR(Y53="",Z53=""),0,IF(AND(X53>ResmiTatil!$I$2,Y53<ResmiTatil!$J$2),X53-ResmiTatil!$I$2)))+IF(AND(X53<ResmiTatil!$I$2,Y53<ResmiTatil!$J$2),ResmiTatil!$J$2-Y53)+IF(AND(X53=ResmiTatil!$I$3,Y53=ResmiTatil!$J$3),ResmiTatil!$I$3-ResmiTatil!$I$2,IF(AND(X53>ResmiTatil!$I$2,Y53>ResmiTatil!$J$2),ResmiTatil!$J$2-ResmiTatil!$I$2))+IF(Z53>ResmiTatil!$K$2,Z53-ResmiTatil!$K$2),0)) -> 0 | AC53: =IF((X53-W53)+(Z53-Y53)<0,0,(X53-W53)+(Z53-Y53)) -> 0 | AH53: =IF(AF53-AE53<0,0,AF53-AE53) -> 0 | AI53: =IF(AND(OR(AD53="",AE53=""),OR(AF53="",AG53="")),0,IF(OR(AD53<>ResmiTatil!$H$2,AE53<>ResmiTatil!$I$2,AF53<>ResmiTatil!$J$2,AG53<>ResmiTatil!$K$2),IF(AND(AF53="",AG53=""),0,IF(AD53<ResmiTatil!$H$2,ResmiTatil!$H$2-AD53))+IF(AND(AF53="",AG53="",OR(AD53<ResmiTatil!$H$2,AND(AE53<>ResmiTatil!$J$2,AE53>ResmiTatil!$J$2))),ResmiTatil!$J$2-ResmiTatil!$I$2,IF(OR(AF53="",AG53=""),0,IF(AND(AE53>ResmiTatil!$I$2,AF53<ResmiTatil!$J$2),AE53-ResmiTatil!$I$2)))+IF(AND(AE53<ResmiTatil!$I$2,AF53<ResmiTatil!$J$2),ResmiTatil!$J$2-AF53)+IF(AND(AE53=ResmiTatil!$I$3,AF53=ResmiTatil!$J$3),ResmiTatil!$I$3-ResmiTatil!$I$2,IF(AND(AE53>ResmiTatil!$I$2,AF53>ResmiTatil!$J$2),ResmiTatil!$J$2-ResmiTatil!$I$2))+IF(AG53>ResmiTatil!$K$2,AG53-ResmiTatil!$K$2),0)) -> 0 | AJ53: =IF((AE53-AD53)+(AG53-AF53)<0,0,(AE53-AD53)+(AG53-AF53)) -> 0 | AZ53: 0.83333333
A54: =A53+1 -> 44784 | B54: 0.35416667 | C54: 0.52083333 | D54: 0.5625 | E54: 0.72916667 | F54: =IF(D54-C54<0,0,D54-C54) -> 0.041666667 | G54: =IF(AND(OR(B54="",C54=""),OR(D54="",E54="")),0,IF(OR(B54<>ResmiTatil!$H$2,C54<>ResmiTatil!$I$2,D54<>ResmiTatil!$J$2,E54<>ResmiTatil!$K$2),IF(AND(D54="",E54=""),0,IF(B54<ResmiTatil!$H$2,ResmiTatil!$H$2-B54))+IF(AND(D54="",E54="",OR(B54<ResmiTatil!$H$2,AND(C54<>ResmiTatil!$J$2,C54>ResmiTatil!$J$2))),ResmiTatil!$J$2-ResmiTatil!$I$2,IF(OR(D54="",E54=""),0,IF(AND(C54>ResmiTatil!$I$2,D54<ResmiTatil!$J$2),C54-ResmiTatil!$I$2)))+IF(AND(C54<ResmiTatil!$I$2,D54<ResmiTatil!$J$2),ResmiTatil!$J$2-D54)+IF(AND(C54=ResmiTatil!$I$3,D54=ResmiTatil!$J$3),ResmiTatil!$I$3-ResmiTatil!$I$2,IF(AND(C54>ResmiTatil!$I$2,D54>ResmiTatil!$J$2),ResmiTatil!$J$2-ResmiTatil!$I$2))+IF(E54>ResmiTatil!$K$2,E54-ResmiTatil!$K$2),0)) -> 2.1649349e-14 | H54: =IF((C54-B54)+(E54-D54)<0,0,(C54-B54)+(E54-D54)) -> 0.33333333 | I54: 0.35416667 | J54: 0.5625 | K54: 0.60416667 | L54: 0.72916667 | M54: =IF(K54-J54<0,0,K54-J54) -> 0.041666667 | N54: =IF(AND(OR(I54="",J54=""),OR(K54="",L54="")),0,IF(OR(I54<>ResmiTatil!$H$2,J54<>ResmiTatil!$I$2,K54<>ResmiTatil!$J$2,L54<>ResmiTatil!$K$2),IF(AND(K54="",L54=""),0,IF(I54<ResmiTatil!$H$2,ResmiTatil!$H$2-I54))+IF(AND(K54="",L54="",OR(I54<ResmiTatil!$H$2,AND(J54<>ResmiTatil!$J$2,J54>ResmiTatil!$J$2))),ResmiTatil!$J$2-ResmiTatil!$I$2,IF(OR(K54="",L54=""),0,IF(AND(J54>ResmiTatil!$I$2,K54<ResmiTatil!$J$2),J54-ResmiTatil!$I$2)))+IF(AND(J54<ResmiTatil!$I$2,K54<ResmiTatil!$J$2),ResmiTatil!$J$2-K54)+IF(AND(J54=ResmiTatil!$I$3,K54=ResmiTatil!$J$3),ResmiTatil!$I$3-ResmiTatil!$I$2,IF(AND(J54>ResmiTatil!$I$2,K54>ResmiTatil!$J$2),ResmiTatil!$J$2-ResmiTatil!$I$2))+IF(L54>ResmiTatil!$K$2,L54-ResmiTatil!$K$2),0)) -> 0.041666667 | O54: =IF((J54-I54)+(L54-K54)<0,0,(J54-I54)+(L54-K54)) -> 0.33333333 | T54: =IF(R54-Q54<0,0,R54-Q54) -> 0 | U54: =IF(AND(OR(P54="",Q54=""),OR(R54="",S54="")),0,IF(OR(P54<>ResmiTatil!$H$2,Q54<>ResmiTatil!$I$2,R54<>ResmiTatil!$J$2,S54<>ResmiTatil!$K$2),IF(AND(R54="",S54=""),0,IF(P54<ResmiTatil!$H$2,ResmiTatil!$H$2-P54))+IF(AND(R54="",S54="",OR(P54<ResmiTatil!$H$2,AND(Q54<>ResmiTatil!$J$2,Q54>ResmiTatil!$J$2))),ResmiTatil!$J$2-ResmiTatil!$I$2,IF(OR(R54="",S54=""),0,IF(AND(Q54>ResmiTatil!$I$2,R54<ResmiTatil!$J$2),Q54-ResmiTatil!$I$2)))+IF(AND(Q54<ResmiTatil!$I$2,R54<ResmiTatil!$J$2),ResmiTatil!$J$2-R54)+IF(AND(Q54=ResmiTatil!$I$3,R54=ResmiTatil!$J$3),ResmiTatil!$I$3-ResmiTatil!$I$2,IF(AND(Q54>ResmiTatil!$I$2,R54>ResmiTatil!$J$2),ResmiTatil!$J$2-ResmiTatil!$I$2))+IF(S54>ResmiTatil!$K$2,S54-ResmiTatil!$K$2),0)) -> 0 | V54: =IF((Q54-P54)+(S54-R54)<0,0,(Q54-P54)+(S54-R54)) -> 0 | AA54: =IF(Y54-X54<0,0,Y54-X54) -> 0 | AB54: =IF(AND(OR(W54="",X54=""),OR(Y54="",Z54="")),0,IF(OR(W54<>ResmiTatil!$H$2,X54<>ResmiTatil!$I$2,Y54<>ResmiTatil!$J$2,Z54<>ResmiTatil!$K$2),IF(AND(Y54="",Z54=""),0,IF(W54<ResmiTatil!$H$2,ResmiTatil!$H$2-W54))+IF(AND(Y54="",Z54="",OR(W54<ResmiTatil!$H$2,AND(X54<>ResmiTatil!$J$2,X54>ResmiTatil!$J$2))),ResmiTatil!$J$2-ResmiTatil!$I$2,IF(OR(Y54="",Z54=""),0,IF(AND(X54>ResmiTatil!$I$2,Y54<ResmiTatil!$J$2),X54-ResmiTatil!$I$2)))+IF(AND(X54<ResmiTatil!$I$2,Y54<ResmiTatil!$J$2),ResmiTatil!$J$2-Y54)+IF(AND(X54=ResmiTatil!$I$3,Y54=ResmiTatil!$J$3),ResmiTatil!$I$3-ResmiTatil!$I$2,IF(AND(X54>ResmiTatil!$I$2,Y54>ResmiTatil!$J$2),ResmiTatil!$J$2-ResmiTatil!$I$2))+IF(Z54>ResmiTatil!$K$2,Z54-ResmiTatil!$K$2),0)) -> 0 | AC54: =IF((X54-W54)+(Z54-Y54)<0,0,(X54-W54)+(Z54-Y54)) -> 0 | AH54: =IF(AF54-AE54<0,0,AF54-AE54) -> 0 | AI54: =IF(AND(OR(AD54="",AE54=""),OR(AF54="",AG54="")),0,IF(OR(AD54<>ResmiTatil!$H$2,AE54<>ResmiTatil!$I$2,AF54<>ResmiTatil!$J$2,AG54<>ResmiTatil!$K$2),IF(AND(AF54="",AG54=""),0,IF(AD54<ResmiTatil!$H$2,ResmiTatil!$H$2-AD54))+IF(AND(AF54="",AG54="",OR(AD54<ResmiTatil!$H$2,AND(AE54<>ResmiTatil!$J$2,AE54>ResmiTatil!$J$2))),ResmiTatil!$J$2-ResmiTatil!$I$2,IF(OR(AF54="",AG54=""),0,IF(AND(AE54>ResmiTatil!$I$2,AF54<ResmiTatil!$J$2),AE54-ResmiTatil!$I$2)))+IF(AND(AE54<ResmiTatil!$I$2,AF54<ResmiTatil!$J$2),ResmiTatil!$J$2-AF54)+IF(AND(AE54=ResmiTatil!$I$3,AF54=ResmiTatil!$J$3),ResmiTatil!$I$3-ResmiTatil!$I$2,IF(AND(AE54>ResmiTatil!$I$2,AF54>ResmiTatil!$J$2),ResmiTatil!$J$2-ResmiTatil!$I$2))+IF(AG54>ResmiTatil!$K$2,AG54-ResmiTatil!$K$2),0)) -> 0 | AJ54: =IF((AE54-AD54)+(AG54-AF54)<0,0,(AE54-AD54)+(AG54-AF54)) -> 0
A55: =A54+1 -> 44785 | B55: 0.35416667 | C55: 0.5625 | D55: 0.60416667 | E55: 0.72916667 | F55: =IF(D55-C55<0,0,D55-C55) -> 0.041666667 | G55: =IF(AND(OR(B55="",C55=""),OR(D55="",E55="")),0,IF(OR(B55<>ResmiTatil!$H$2,C55<>ResmiTatil!$I$2,D55<>ResmiTatil!$J$2,E55<>ResmiTatil!$K$2),IF(AND(D55="",E55=""),0,IF(B55<ResmiTatil!$H$2,ResmiTatil!$H$2-B55))+IF(AND(D55="",E55="",OR(B55<ResmiTatil!$H$2,AND(C55<>ResmiTatil!$J$2,C55>ResmiTatil!$J$2))),ResmiTatil!$J$2-ResmiTatil!$I$2,IF(OR(D55="",E55=""),0,IF(AND(C55>ResmiTatil!$I$2,D55<ResmiTatil!$J$2),C55-ResmiTatil!$I$2)))+IF(AND(C55<ResmiTatil!$I$2,D55<ResmiTatil!$J$2),ResmiTatil!$J$2-D55)+IF(AND(C55=ResmiTatil!$I$3,D55=ResmiTatil!$J$3),ResmiTatil!$I$3-ResmiTatil!$I$2,IF(AND(C55>ResmiTatil!$I$2,D55>ResmiTatil!$J$2),ResmiTatil!$J$2-ResmiTatil!$I$2))+IF(E55>ResmiTatil!$K$2,E55-ResmiTatil!$K$2),0)) -> 0.041666667 | H55: =IF((C55-B55)+(E55-D55)<0,0,(C55-B55)+(E55-D55)) -> 0.33333333 | I55: 0.35416667 | J55: 0.52083333 | K55: 0.5625 | L55: 0.72916667 | M55: =IF(K55-J55<0,0,K55-J55) -> 0.041666667 | N55: =IF(AND(OR(I55="",J55=""),OR(K55="",L55="")),0,IF(OR(I55<>ResmiTatil!$H$2,J55<>ResmiTatil!$I$2,K55<>ResmiTatil!$J$2,L55<>ResmiTatil!$K$2),IF(AND(K55="",L55=""),0,IF(I55<ResmiTatil!$H$2,ResmiTatil!$H$2-I55))+IF(AND(K55="",L55="",OR(I55<ResmiTatil!$H$2,AND(J55<>ResmiTatil!$J$2,J55>ResmiTatil!$J$2))),ResmiTatil!$J$2-ResmiTatil!$I$2,IF(OR(K55="",L55=""),0,IF(AND(J55>ResmiTatil!$I$2,K55<ResmiTatil!$J$2),J55-ResmiTatil!$I$2)))+IF(AND(J55<ResmiTatil!$I$2,K55<ResmiTatil!$J$2),ResmiTatil!$J$2-K55)+IF(AND(J55=ResmiTatil!$I$3,K55=ResmiTatil!$J$3),ResmiTatil!$I$3-ResmiTatil!$I$2,IF(AND(J55>ResmiTatil!$I$2,K55>ResmiTatil!$J$2),ResmiTatil!$J$2-ResmiTatil!$I$2))+IF(L55>ResmiTatil!$K$2,L55-ResmiTatil!$K$2),0)) -> 2.1649349e-14 | O55: =IF((J55-I55)+(L55-K55)<0,0,(J55-I55)+(L55-K55)) -> 0.33333333 | T55: =IF(R55-Q55<0,0,R55-Q55) -> 0 | U55: =IF(AND(OR(P55="",Q55=""),OR(R55="",S55="")),0,IF(OR(P55<>ResmiTatil!$H$2,Q55<>ResmiTatil!$I$2,R55<>ResmiTatil!$J$2,S55<>ResmiTatil!$K$2),IF(AND(R55="",S55=""),0,IF(P55<ResmiTatil!$H$2,ResmiTatil!$H$2-P55))+IF(AND(R55="",S55="",OR(P55<ResmiTatil!$H$2,AND(Q55<>ResmiTatil!$J$2,Q55>ResmiTatil!$J$2))),ResmiTatil!$J$2-ResmiTatil!$I$2,IF(OR(R55="",S55=""),0,IF(AND(Q55>ResmiTatil!$I$2,R55<ResmiTatil!$J$2),Q55-ResmiTatil!$I$2)))+IF(AND(Q55<ResmiTatil!$I$2,R55<ResmiTatil!$J$2),ResmiTatil!$J$2-R55)+IF(AND(Q55=ResmiTatil!$I$3,R55=ResmiTatil!$J$3),ResmiTatil!$I$3-ResmiTatil!$I$2,IF(AND(Q55>ResmiTatil!$I$2,R55>ResmiTatil!$J$2),ResmiTatil!$J$2-ResmiTatil!$I$2))+IF(S55>ResmiTatil!$K$2,S55-ResmiTatil!$K$2),0)) -> 0 | V55: =IF((Q55-P55)+(S55-R55)<0,0,(Q55-P55)+(S55-R55)) -> 0 | AA55: =IF(Y55-X55<0,0,Y55-X55) -> 0 | AB55: =IF(AND(OR(W55="",X55=""),OR(Y55="",Z55="")),0,IF(OR(W55<>ResmiTatil!$H$2,X55<>ResmiTatil!$I$2,Y55<>ResmiTatil!$J$2,Z55<>ResmiTatil!$K$2),IF(AND(Y55="",Z55=""),0,IF(W55<ResmiTatil!$H$2,ResmiTatil!$H$2-W55))+IF(AND(Y55="",Z55="",OR(W55<ResmiTatil!$H$2,AND(X55<>ResmiTatil!$J$2,X55>ResmiTatil!$J$2))),ResmiTatil!$J$2-ResmiTatil!$I$2,IF(OR(Y55="",Z55=""),0,IF(AND(X55>ResmiTatil!$I$2,Y55<ResmiTatil!$J$2),X55-ResmiTatil!$I$2)))+IF(AND(X55<ResmiTatil!$I$2,Y55<ResmiTatil!$J$2),ResmiTatil!$J$2-Y55)+IF(AND(X55=ResmiTatil!$I$3,Y55=ResmiTatil!$J$3),ResmiTatil!$I$3-ResmiTatil!$I$2,IF(AND(X55>ResmiTatil!$I$2,Y55>ResmiTatil!$J$2),ResmiTatil!$J$2-ResmiTatil!$I$2))+IF(Z55>ResmiTatil!$K$2,Z55-ResmiTatil!$K$2),0)) -> 0 | AC55: =IF((X55-W55)+(Z55-Y55)<0,0,(X55-W55)+(Z55-Y55)) -> 0 | AH55: =IF(AF55-AE55<0,0,AF55-AE55) -> 0 | AI55: =IF(AND(OR(AD55="",AE55=""),OR(AF55="",AG55="")),0,IF(OR(AD55<>ResmiTatil!$H$2,AE55<>ResmiTatil!$I$2,AF55<>ResmiTatil!$J$2,AG55<>ResmiTatil!$K$2),IF(AND(AF55="",AG55=""),0,IF(AD55<ResmiTatil!$H$2,ResmiTatil!$H$2-AD55))+IF(AND(AF55="",AG55="",OR(AD55<ResmiTatil!$H$2,AND(AE55<>ResmiTatil!$J$2,AE55>ResmiTatil!$J$2))),ResmiTatil!$J$2-ResmiTatil!$I$2,IF(OR(AF55="",AG55=""),0,IF(AND(AE55>ResmiTatil!$I$2,AF55<ResmiTatil!$J$2),AE55-ResmiTatil!$I$2)))+IF(AND(AE55<ResmiTatil!$I$2,AF55<ResmiTatil!$J$2),ResmiTatil!$J$2-AF55)+IF(AND(AE55=ResmiTatil!$I$3,AF55=ResmiTatil!$J$3),ResmiTatil!$I$3-ResmiTatil!$I$2,IF(AND(AE55>ResmiTatil!$I$2,AF55>ResmiTatil!$J$2),ResmiTatil!$J$2-ResmiTatil!$I$2))+IF(AG55>ResmiTatil!$K$2,AG55-ResmiTatil!$K$2),0)) -> 0 | AJ55: =IF((AE55-AD55)+(AG55-AF55)<0,0,(AE55-AD55)+(AG55-AF55)) -> 0
A56: HAFTALIK TOPLAM | G56: =SUM(G51:G55) -> 0.125 | H56: =SUM(H51:H55) -> 1.6666667 | N56: =SUM(N51:N55) -> 0.125 | O56: =SUM(O51:O55) -> 1.6666667 | U56: =SUM(U51:U55) -> 0 | V56: =SUM(V51:V55) -> 0 | AB56: =SUM(AB51:AB55) -> 0 | AC56: =SUM(AC51:AC55) -> 0 | AI56: =SUM(AI51:AI55) -> 0 | AJ56: =SUM(AJ51:AJ55) -> 0
A57: =A55+1 -> 44786
A58: =A57+1 -> 44787
A59: =A58+1 -> 44788 | B59: 0.3125 | C59: 0.52083333 | D59: 0.5625 | E59: 0.6875 | F59: =IF(D59-C59<0,0,D59-C59) -> 0.041666667 | G59: =IF(AND(OR(B59="",C59=""),OR(D59="",E59="")),0,IF(OR(B59<>ResmiTatil!$H$2,C59<>ResmiTatil!$I$2,D59<>ResmiTatil!$J$2,E59<>ResmiTatil!$K$2),IF(AND(D59="",E59=""),0,IF(B59<ResmiTatil!$H$2,ResmiTatil!$H$2-B59))+IF(AND(D59="",E59="",OR(B59<ResmiTatil!$H$2,AND(C59<>ResmiTatil!$J$2,C59>ResmiTatil!$J$2))),ResmiTatil!$J$2-ResmiTatil!$I$2,IF(OR(D59="",E59=""),0,IF(AND(C59>ResmiTatil!$I$2,D59<ResmiTatil!$J$2),C59-ResmiTatil!$I$2)))+IF(AND(C59<ResmiTatil!$I$2,D59<ResmiTatil!$J$2),ResmiTatil!$J$2-D59)+IF(AND(C59=ResmiTatil!$I$3,D59=ResmiTatil!$J$3),ResmiTatil!$I$3-ResmiTatil!$I$2,IF(AND(C59>ResmiTatil!$I$2,D59>ResmiTatil!$J$2),ResmiTatil!$J$2-ResmiTatil!$I$2))+IF(E59>ResmiTatil!$K$2,E59-ResmiTatil!$K$2),0)) -> 0.041666667 | H59: =IF((C59-B59)+(E59-D59)<0,0,(C59-B59)+(E59-D59)) -> 0.33333333 | I59: 0.35416667 | J59: 0.5625 | K59: 0.60416667 | L59: 0.72916667 | M59: =IF(K59-J59<0,0,K59-J59) -> 0.041666667 | N59: =IF(AND(OR(I59="",J59=""),OR(K59="",L59="")),0,IF(OR(I59<>ResmiTatil!$H$2,J59<>ResmiTatil!$I$2,K59<>ResmiTatil!$J$2,L59<>ResmiTatil!$K$2),IF(AND(K59="",L59=""),0,IF(I59<ResmiTatil!$H$2,ResmiTatil!$H$2-I59))+IF(AND(K59="",L59="",OR(I59<ResmiTatil!$H$2,AND(J59<>ResmiTatil!$J$2,J59>ResmiTatil!$J$2))),ResmiTatil!$J$2-ResmiTatil!$I$2,IF(OR(K59="",L59=""),0,IF(AND(J59>ResmiTatil!$I$2,K59<ResmiTatil!$J$2),J59-ResmiTatil!$I$2)))+IF(AND(J59<ResmiTatil!$I$2,K59<ResmiTatil!$J$2),ResmiTatil!$J$2-K59)+IF(AND(J59=ResmiTatil!$I$3,K59=ResmiTatil!$J$3),ResmiTatil!$I$3-ResmiTatil!$I$2,IF(AND(J59>ResmiTatil!$I$2,K59>ResmiTatil!$J$2),ResmiTatil!$J$2-ResmiTatil!$I$2))+IF(L59>ResmiTatil!$K$2,L59-ResmiTatil!$K$2),0)) -> 0.041666667 | O59: =IF((J59-I59)+(L59-K59)<0,0,(J59-I59)+(L59-K59)) -> 0.33333333 | T59: =IF(R59-Q59<0,0,R59-Q59) -> 0 | U59: =IF(AND(OR(P59="",Q59=""),OR(R59="",S59="")),0,IF(OR(P59<>ResmiTatil!$H$2,Q59<>ResmiTatil!$I$2,R59<>ResmiTatil!$J$2,S59<>ResmiTatil!$K$2),IF(AND(R59="",S59=""),0,IF(P59<ResmiTatil!$H$2,ResmiTatil!$H$2-P59))+IF(AND(R59="",S59="",OR(P59<ResmiTatil!$H$2,AND(Q59<>ResmiTatil!$J$2,Q59>ResmiTatil!$J$2))),ResmiTatil!$J$2-ResmiTatil!$I$2,IF(OR(R59="",S59=""),0,IF(AND(Q59>ResmiTatil!$I$2,R59<ResmiTatil!$J$2),Q59-ResmiTatil!$I$2)))+IF(AND(Q59<ResmiTatil!$I$2,R59<ResmiTatil!$J$2),ResmiTatil!$J$2-R59)+IF(AND(Q59=ResmiTatil!$I$3,R59=ResmiTatil!$J$3),ResmiTatil!$I$3-ResmiTatil!$I$2,IF(AND(Q59>ResmiTatil!$I$2,R59>ResmiTatil!$J$2),ResmiTatil!$J$2-ResmiTatil!$I$2))+IF(S59>ResmiTatil!$K$2,S59-ResmiTatil!$K$2),0)) -> 0 | V59: =IF((Q59-P59)+(S59-R59)<0,0,(Q59-P59)+(S59-R59)) -> 0 | AA59: =IF(Y59-X59<0,0,Y59-X59) -> 0 | AB59: =IF(AND(OR(W59="",X59=""),OR(Y59="",Z59="")),0,IF(OR(W59<>ResmiTatil!$H$2,X59<>ResmiTatil!$I$2,Y59<>ResmiTatil!$J$2,Z59<>ResmiTatil!$K$2),IF(AND(Y59="",Z59=""),0,IF(W59<ResmiTatil!$H$2,ResmiTatil!$H$2-W59))+IF(AND(Y59="",Z59="",OR(W59<ResmiTatil!$H$2,AND(X59<>ResmiTatil!$J$2,X59>ResmiTatil!$J$2))),ResmiTatil!$J$2-ResmiTatil!$I$2,IF(OR(Y59="",Z59=""),0,IF(AND(X59>ResmiTatil!$I$2,Y59<ResmiTatil!$J$2),X59-ResmiTatil!$I$2)))+IF(AND(X59<ResmiTatil!$I$2,Y59<ResmiTatil!$J$2),ResmiTatil!$J$2-Y59)+IF(AND(X59=ResmiTatil!$I$3,Y59=ResmiTatil!$J$3),ResmiTatil!$I$3-ResmiTatil!$I$2,IF(AND(X59>ResmiTatil!$I$2,Y59>ResmiTatil!$J$2),ResmiTatil!$J$2-ResmiTatil!$I$2))+IF(Z59>ResmiTatil!$K$2,Z59-ResmiTatil!$K$2),0)) -> 0 | AC59: =IF((X59-W59)+(Z59-Y59)<0,0,(X59-W59)+(Z59-Y59)) -> 0 | AH59: =IF(AF59-AE59<0,0,AF59-AE59) -> 0 | AI59: =IF(AND(OR(AD59="",AE59=""),OR(AF59="",AG59="")),0,IF(OR(AD59<>ResmiTatil!$H$2,AE59<>ResmiTatil!$I$2,AF59<>ResmiTatil!$J$2,AG59<>ResmiTatil!$K$2),IF(AND(AF59="",AG59=""),0,IF(AD59<ResmiTatil!$H$2,ResmiTatil!$H$2-AD59))+IF(AND(AF59="",AG59="",OR(AD59<ResmiTatil!$H$2,AND(AE59<>ResmiTatil!$J$2,AE59>ResmiTatil!$J$2))),ResmiTatil!$J$2-ResmiTatil!$I$2,IF(OR(AF59="",AG59=""),0,IF(AND(AE59>ResmiTatil!$I$2,AF59<ResmiTatil!$J$2),AE59-ResmiTatil!$I$2)))+IF(AND(AE59<ResmiTatil!$I$2,AF59<ResmiTatil!$J$2),ResmiTatil!$J$2-AF59)+IF(AND(AE59=ResmiTatil!$I$3,AF59=ResmiTatil!$J$3),ResmiTatil!$I$3-ResmiTatil!$I$2,IF(AND(AE59>ResmiTatil!$I$2,AF59>ResmiTatil!$J$2),ResmiTatil!$J$2-ResmiTatil!$I$2))+IF(AG59>ResmiTatil!$K$2,AG59-ResmiTatil!$K$2),0)) -> 0 | AJ59: =IF((AE59-AD59)+(AG59-AF59)<0,0,(AE59-AD59)+(AG59-AF59)) -> 0
A60: =A59+1 -> 44789 | B60: 0.35416667 | C60: 0.5625 | D60: 0.60416667 | E60: 0.72916667 | F60: =IF(D60-C60<0,0,D60-C60) -> 0.041666667 | G60: =IF(AND(OR(B60="",C60=""),OR(D60="",E60="")),0,IF(OR(B60<>ResmiTatil!$H$2,C60<>ResmiTatil!$I$2,D60<>ResmiTatil!$J$2,E60<>ResmiTatil!$K$2),IF(AND(D60="",E60=""),0,IF(B60<ResmiTatil!$H$2,ResmiTatil!$H$2-B60))+IF(AND(D60="",E60="",OR(B60<ResmiTatil!$H$2,AND(C60<>ResmiTatil!$J$2,C60>ResmiTatil!$J$2))),ResmiTatil!$J$2-ResmiTatil!$I$2,IF(OR(D60="",E60=""),0,IF(AND(C60>ResmiTatil!$I$2,D60<ResmiTatil!$J$2),C60-ResmiTatil!$I$2)))+IF(AND(C60<ResmiTatil!$I$2,D60<ResmiTatil!$J$2),ResmiTatil!$J$2-D60)+IF(AND(C60=ResmiTatil!$I$3,D60=ResmiTatil!$J$3),ResmiTatil!$I$3-ResmiTatil!$I$2,IF(AND(C60>ResmiTatil!$I$2,D60>ResmiTatil!$J$2),ResmiTatil!$J$2-ResmiTatil!$I$2))+IF(E60>ResmiTatil!$K$2,E60-ResmiTatil!$K$2),0)) -> 0.041666667 | H60: =IF((C60-B60)+(E60-D60)<0,0,(C60-B60)+(E60-D60)) -> 0.33333333 | I60: 0.35416667 | J60: 0.52083333 | K60: 0.5625 | L60: 0.72916667 | M60: =IF(K60-J60<0,0,K60-J60) -> 0.041666667 | N60: =IF(AND(OR(I60="",J60=""),OR(K60="",L60="")),0,IF(OR(I60<>ResmiTatil!$H$2,J60<>ResmiTatil!$I$2,K60<>ResmiTatil!$J$2,L60<>ResmiTatil!$K$2),IF(AND(K60="",L60=""),0,IF(I60<ResmiTatil!$H$2,ResmiTatil!$H$2-I60))+IF(AND(K60="",L60="",OR(I60<ResmiTatil!$H$2,AND(J60<>ResmiTatil!$J$2,J60>ResmiTatil!$J$2))),ResmiTatil!$J$2-ResmiTatil!$I$2,IF(OR(K60="",L60=""),0,IF(AND(J60>ResmiTatil!$I$2,K60<ResmiTatil!$J$2),J60-ResmiTatil!$I$2)))+IF(AND(J60<ResmiTatil!$I$2,K60<ResmiTatil!$J$2),ResmiTatil!$J$2-K60)+IF(AND(J60=ResmiTatil!$I$3,K60=ResmiTatil!$J$3),ResmiTatil!$I$3-ResmiTatil!$I$2,IF(AND(J60>ResmiTatil!$I$2,K60>ResmiTatil!$J$2),ResmiTatil!$J$2-ResmiTatil!$I$2))+IF(L60>ResmiTatil!$K$2,L60-ResmiTatil!$K$2),0)) -> 2.1649349e-14 | O60: =IF((J60-I60)+(L60-K60)<0,0,(J60-I60)+(L60-K60)) -> 0.33333333 | T60: =IF(R60-Q60<0,0,R60-Q60) -> 0 | U60: =IF(AND(OR(P60="",Q60=""),OR(R60="",S60="")),0,IF(OR(P60<>ResmiTatil!$H$2,Q60<>ResmiTatil!$I$2,R60<>ResmiTatil!$J$2,S60<>ResmiTatil!$K$2),IF(AND(R60="",S60=""),0,IF(P60<ResmiTatil!$H$2,ResmiTatil!$H$2-P60))+IF(AND(R60="",S60="",OR(P60<ResmiTatil!$H$2,AND(Q60<>ResmiTatil!$J$2,Q60>ResmiTatil!$J$2))),ResmiTatil!$J$2-ResmiTatil!$I$2,IF(OR(R60="",S60=""),0,IF(AND(Q60>ResmiTatil!$I$2,R60<ResmiTatil!$J$2),Q60-ResmiTatil!$I$2)))+IF(AND(Q60<ResmiTatil!$I$2,R60<ResmiTatil!$J$2),ResmiTatil!$J$2-R60)+IF(AND(Q60=ResmiTatil!$I$3,R60=ResmiTatil!$J$3),ResmiTatil!$I$3-ResmiTatil!$I$2,IF(AND(Q60>ResmiTatil!$I$2,R60>ResmiTatil!$J$2),ResmiTatil!$J$2-ResmiTatil!$I$2))+IF(S60>ResmiTatil!$K$2,S60-ResmiTatil!$K$2),0)) -> 0 | V60: =IF((Q60-P60)+(S60-R60)<0,0,(Q60-P60)+(S60-R60)) -> 0 | AA60: =IF(Y60-X60<0,0,Y60-X60) -> 0 | AB60: =IF(AND(OR(W60="",X60=""),OR(Y60="",Z60="")),0,IF(OR(W60<>ResmiTatil!$H$2,X60<>ResmiTatil!$I$2,Y60<>ResmiTatil!$J$2,Z60<>ResmiTatil!$K$2),IF(AND(Y60="",Z60=""),0,IF(W60<ResmiTatil!$H$2,ResmiTatil!$H$2-W60))+IF(AND(Y60="",Z60="",OR(W60<ResmiTatil!$H$2,AND(X60<>ResmiTatil!$J$2,X60>ResmiTatil!$J$2))),ResmiTatil!$J$2-ResmiTatil!$I$2,IF(OR(Y60="",Z60=""),0,IF(AND(X60>ResmiTatil!$I$2,Y60<ResmiTatil!$J$2),X60-ResmiTatil!$I$2)))+IF(AND(X60<ResmiTatil!$I$2,Y60<ResmiTatil!$J$2),ResmiTatil!$J$2-Y60)+IF(AND(X60=ResmiTatil!$I$3,Y60=ResmiTatil!$J$3),ResmiTatil!$I$3-ResmiTatil!$I$2,IF(AND(X60>ResmiTatil!$I$2,Y60>ResmiTatil!$J$2),ResmiTatil!$J$2-ResmiTatil!$I$2))+IF(Z60>ResmiTatil!$K$2,Z60-ResmiTatil!$K$2),0)) -> 0 | AC60: =IF((X60-W60)+(Z60-Y60)<0,0,(X60-W60)+(Z60-Y60)) -> 0 | AH60: =IF(AF60-AE60<0,0,AF60-AE60) -> 0 | AI60: =IF(AND(OR(AD60="",AE60=""),OR(AF60="",AG60="")),0,IF(OR(AD60<>ResmiTatil!$H$2,AE60<>ResmiTatil!$I$2,AF60<>ResmiTatil!$J$2,AG60<>ResmiTatil!$K$2),IF(AND(AF60="",AG60=""),0,IF(AD60<ResmiTatil!$H$2,ResmiTatil!$H$2-AD60))+IF(AND(AF60="",AG60="",OR(AD60<ResmiTatil!$H$2,AND(AE60<>ResmiTatil!$J$2,AE60>ResmiTatil!$J$2))),ResmiTatil!$J$2-ResmiTatil!$I$2,IF(OR(AF60="",AG60=""),0,IF(AND(AE60>ResmiTatil!$I$2,AF60<ResmiTatil!$J$2),AE60-ResmiTatil!$I$2)))+IF(AND(AE60<ResmiTatil!$I$2,AF60<ResmiTatil!$J$2),ResmiTatil!$J$2-AF60)+IF(AND(AE60=ResmiTatil!$I$3,AF60=ResmiTatil!$J$3),ResmiTatil!$I$3-ResmiTatil!$I$2,IF(AND(AE60>ResmiTatil!$I$2,AF60>ResmiTatil!$J$2),ResmiTatil!$J$2-ResmiTatil!$I$2))+IF(AG60>ResmiTatil!$K$2,AG60-ResmiTatil!$K$2),0)) -> 0 | AJ60: =IF((AE60-AD60)+(AG60-AF60)<0,0,(AE60-AD60)+(AG60-AF60)) -> 0
A61: =A60+1 -> 44790 | B61: 0.35416667 | C61: 0.52083333 | D61: 0.5625 | E61: 0.72916667 | F61: =IF(D61-C61<0,0,D61-C61) -> 0.041666667 | G61: =IF(AND(OR(B61="",C61=""),OR(D61="",E61="")),0,IF(OR(B61<>ResmiTatil!$H$2,C61<>ResmiTatil!$I$2,D61<>ResmiTatil!$J$2,E61<>ResmiTatil!$K$2),IF(AND(D61="",E61=""),0,IF(B61<ResmiTatil!$H$2,ResmiTatil!$H$2-B61))+IF(AND(D61="",E61="",OR(B61<ResmiTatil!$H$2,AND(C61<>ResmiTatil!$J$2,C61>ResmiTatil!$J$2))),ResmiTatil!$J$2-ResmiTatil!$I$2,IF(OR(D61="",E61=""),0,IF(AND(C61>ResmiTatil!$I$2,D61<ResmiTatil!$J$2),C61-ResmiTatil!$I$2)))+IF(AND(C61<ResmiTatil!$I$2,D61<ResmiTatil!$J$2),ResmiTatil!$J$2-D61)+IF(AND(C61=ResmiTatil!$I$3,D61=ResmiTatil!$J$3),ResmiTatil!$I$3-ResmiTatil!$I$2,IF(AND(C61>ResmiTatil!$I$2,D61>ResmiTatil!$J$2),ResmiTatil!$J$2-ResmiTatil!$I$2))+IF(E61>ResmiTatil!$K$2,E61-ResmiTatil!$K$2),0)) -> 2.1649349e-14 | H61: =IF((C61-B61)+(E61-D61)<0,0,(C61-B61)+(E61-D61)) -> 0.33333333 | I61: 0.35416667 | J61: 0.5625 | K61: 0.60416667 | L61: 0.72916667 | M61: =IF(K61-J61<0,0,K61-J61) -> 0.041666667 | N61: =IF(AND(OR(I61="",J61=""),OR(K61="",L61="")),0,IF(OR(I61<>ResmiTatil!$H$2,J61<>ResmiTatil!$I$2,K61<>ResmiTatil!$J$2,L61<>ResmiTatil!$K$2),IF(AND(K61="",L61=""),0,IF(I61<ResmiTatil!$H$2,ResmiTatil!$H$2-I61))+IF(AND(K61="",L61="",OR(I61<ResmiTatil!$H$2,AND(J61<>ResmiTatil!$J$2,J61>ResmiTatil!$J$2))),ResmiTatil!$J$2-ResmiTatil!$I$2,IF(OR(K61="",L61=""),0,IF(AND(J61>ResmiTatil!$I$2,K61<ResmiTatil!$J$2),J61-ResmiTatil!$I$2)))+IF(AND(J61<ResmiTatil!$I$2,K61<ResmiTatil!$J$2),ResmiTatil!$J$2-K61)+IF(AND(J61=ResmiTatil!$I$3,K61=ResmiTatil!$J$3),ResmiTatil!$I$3-ResmiTatil!$I$2,IF(AND(J61>ResmiTatil!$I$2,K61>ResmiTatil!$J$2),ResmiTatil!$J$2-ResmiTatil!$I$2))+IF(L61>ResmiTatil!$K$2,L61-ResmiTatil!$K$2),0)) -> 0.041666667 | O61: =IF((J61-I61)+(L61-K61)<0,0,(J61-I61)+(L61-K61)) -> 0.33333333 | T61: =IF(R61-Q61<0,0,R61-Q61) -> 0 | U61: =IF(AND(OR(P61="",Q61=""),OR(R61="",S61="")),0,IF(OR(P61<>ResmiTatil!$H$2,Q61<>ResmiTatil!$I$2,R61<>ResmiTatil!$J$2,S61<>ResmiTatil!$K$2),IF(AND(R61="",S61=""),0,IF(P61<ResmiTatil!$H$2,ResmiTatil!$H$2-P61))+IF(AND(R61="",S61="",OR(P61<ResmiTatil!$H$2,AND(Q61<>ResmiTatil!$J$2,Q61>ResmiTatil!$J$2))),ResmiTatil!$J$2-ResmiTatil!$I$2,IF(OR(R61="",S61=""),0,IF(AND(Q61>ResmiTatil!$I$2,R61<ResmiTatil!$J$2),Q61-ResmiTatil!$I$2)))+IF(AND(Q61<ResmiTatil!$I$2,R61<ResmiTatil!$J$2),ResmiTatil!$J$2-R61)+IF(AND(Q61=ResmiTatil!$I$3,R61=ResmiTatil!$J$3),ResmiTatil!$I$3-ResmiTatil!$I$2,IF(AND(Q61>ResmiTatil!$I$2,R61>ResmiTatil!$J$2),ResmiTatil!$J$2-ResmiTatil!$I$2))+IF(S61>ResmiTatil!$K$2,S61-ResmiTatil!$K$2),0)) -> 0 | V61: =IF((Q61-P61)+(S61-R61)<0,0,(Q61-P61)+(S61-R61)) -> 0 | AA61: =IF(Y61-X61<0,0,Y61-X61) -> 0 | AB61: =IF(AND(OR(W61="",X61=""),OR(Y61="",Z61="")),0,IF(OR(W61<>ResmiTatil!$H$2,X61<>ResmiTatil!$I$2,Y61<>ResmiTatil!$J$2,Z61<>ResmiTatil!$K$2),IF(AND(Y61="",Z61=""),0,IF(W61<ResmiTatil!$H$2,ResmiTatil!$H$2-W61))+IF(AND(Y61="",Z61="",OR(W61<ResmiTatil!$H$2,AND(X61<>ResmiTatil!$J$2,X61>ResmiTatil!$J$2))),ResmiTatil!$J$2-ResmiTatil!$I$2,IF(OR(Y61="",Z61=""),0,IF(AND(X61>ResmiTatil!$I$2,Y61<ResmiTatil!$J$2),X61-ResmiTatil!$I$2)))+IF(AND(X61<ResmiTatil!$I$2,Y61<ResmiTatil!$J$2),ResmiTatil!$J$2-Y61)+IF(AND(X61=ResmiTatil!$I$3,Y61=ResmiTatil!$J$3),ResmiTatil!$I$3-ResmiTatil!$I$2,IF(AND(X61>ResmiTatil!$I$2,Y61>ResmiTatil!$J$2),ResmiTatil!$J$2-ResmiTatil!$I$2))+IF(Z61>ResmiTatil!$K$2,Z61-ResmiTatil!$K$2),0)) -> 0 | AC61: =IF((X61-W61)+(Z61-Y61)<0,0,(X61-W61)+(Z61-Y61)) -> 0 | AH61: =IF(AF61-AE61<0,0,AF61-AE61) -> 0 | AI61: =IF(AND(OR(AD61="",AE61=""),OR(AF61="",AG61="")),0,IF(OR(AD61<>ResmiTatil!$H$2,AE61<>ResmiTatil!$I$2,AF61<>ResmiTatil!$J$2,AG61<>ResmiTatil!$K$2),IF(AND(AF61="",AG61=""),0,IF(AD61<ResmiTatil!$H$2,ResmiTatil!$H$2-AD61))+IF(AND(AF61="",AG61="",OR(AD61<ResmiTatil!$H$2,AND(AE61<>ResmiTatil!$J$2,AE61>ResmiTatil!$J$2))),ResmiTatil!$J$2-ResmiTatil!$I$2,IF(OR(AF61="",AG61=""),0,IF(AND(AE61>ResmiTatil!$I$2,AF61<ResmiTatil!$J$2),AE61-ResmiTatil!$I$2)))+IF(AND(AE61<ResmiTatil!$I$2,AF61<ResmiTatil!$J$2),ResmiTatil!$J$2-AF61)+IF(AND(AE61=ResmiTatil!$I$3,AF61=ResmiTatil!$J$3),ResmiTatil!$I$3-ResmiTatil!$I$2,IF(AND(AE61>ResmiTatil!$I$2,AF61>ResmiTatil!$J$2),ResmiTatil!$J$2-ResmiTatil!$I$2))+IF(AG61>ResmiTatil!$K$2,AG61-ResmiTatil!$K$2),0)) -> 0 | AJ61: =IF((AE61-AD61)+(AG61-AF61)<0,0,(AE61-AD61)+(AG61-AF61)) -> 0
A62: =A61+1 -> 44791 | B62: 0.35416667 | C62: 0.5625 | D62: 0.60416667 | E62: 0.72916667 | F62: =IF(D62-C62<0,0,D62-C62) -> 0.041666667 | G62: =IF(AND(OR(B62="",C62=""),OR(D62="",E62="")),0,IF(OR(B62<>ResmiTatil!$H$2,C62<>ResmiTatil!$I$2,D62<>ResmiTatil!$J$2,E62<>ResmiTatil!$K$2),IF(AND(D62="",E62=""),0,IF(B62<ResmiTatil!$H$2,ResmiTatil!$H$2-B62))+IF(AND(D62="",E62="",OR(B62<ResmiTatil!$H$2,AND(C62<>ResmiTatil!$J$2,C62>ResmiTatil!$J$2))),ResmiTatil!$J$2-ResmiTatil!$I$2,IF(OR(D62="",E62=""),0,IF(AND(C62>ResmiTatil!$I$2,D62<ResmiTatil!$J$2),C62-ResmiTatil!$I$2)))+IF(AND(C62<ResmiTatil!$I$2,D62<ResmiTatil!$J$2),ResmiTatil!$J$2-D62)+IF(AND(C62=ResmiTatil!$I$3,D62=ResmiTatil!$J$3),ResmiTatil!$I$3-ResmiTatil!$I$2,IF(AND(C62>ResmiTatil!$I$2,D62>ResmiTatil!$J$2),ResmiTatil!$J$2-ResmiTatil!$I$2))+IF(E62>ResmiTatil!$K$2,E62-ResmiTatil!$K$2),0)) -> 0.041666667 | H62: =IF((C62-B62)+(E62-D62)<0,0,(C62-B62)+(E62-D62)) -> 0.33333333 | I62: 0.35416667 | J62: 0.52083333 | K62: 0.5625 | L62: 0.72916667 | M62: =IF(K62-J62<0,0,K62-J62) -> 0.041666667 | N62: =IF(AND(OR(I62="",J62=""),OR(K62="",L62="")),0,IF(OR(I62<>ResmiTatil!$H$2,J62<>ResmiTatil!$I$2,K62<>ResmiTatil!$J$2,L62<>ResmiTatil!$K$2),IF(AND(K62="",L62=""),0,IF(I62<ResmiTatil!$H$2,ResmiTatil!$H$2-I62))+IF(AND(K62="",L62="",OR(I62<ResmiTatil!$H$2,AND(J62<>ResmiTatil!$J$2,J62>ResmiTatil!$J$2))),ResmiTatil!$J$2-ResmiTatil!$I$2,IF(OR(K62="",L62=""),0,IF(AND(J62>ResmiTatil!$I$2,K62<ResmiTatil!$J$2),J62-ResmiTatil!$I$2)))+IF(AND(J62<ResmiTatil!$I$2,K62<ResmiTatil!$J$2),ResmiTatil!$J$2-K62)+IF(AND(J62=ResmiTatil!$I$3,K62=ResmiTatil!$J$3),ResmiTatil!$I$3-ResmiTatil!$I$2,IF(AND(J62>ResmiTatil!$I$2,K62>ResmiTatil!$J$2),ResmiTatil!$J$2-ResmiTatil!$I$2))+IF(L62>ResmiTatil!$K$2,L62-ResmiTatil!$K$2),0)) -> 2.1649349e-14 | O62: =IF((J62-I62)+(L62-K62)<0,0,(J62-I62)+(L62-K62)) -> 0.33333333 | T62: =IF(R62-Q62<0,0,R62-Q62) -> 0 | U62: =IF(AND(OR(P62="",Q62=""),OR(R62="",S62="")),0,IF(OR(P62<>ResmiTatil!$H$2,Q62<>ResmiTatil!$I$2,R62<>ResmiTatil!$J$2,S62<>ResmiTatil!$K$2),IF(AND(R62="",S62=""),0,IF(P62<ResmiTatil!$H$2,ResmiTatil!$H$2-P62))+IF(AND(R62="",S62="",OR(P62<ResmiTatil!$H$2,AND(Q62<>ResmiTatil!$J$2,Q62>ResmiTatil!$J$2))),ResmiTatil!$J$2-ResmiTatil!$I$2,IF(OR(R62="",S62=""),0,IF(AND(Q62>ResmiTatil!$I$2,R62<ResmiTatil!$J$2),Q62-ResmiTatil!$I$2)))+IF(AND(Q62<ResmiTatil!$I$2,R62<ResmiTatil!$J$2),ResmiTatil!$J$2-R62)+IF(AND(Q62=ResmiTatil!$I$3,R62=ResmiTatil!$J$3),ResmiTatil!$I$3-ResmiTatil!$I$2,IF(AND(Q62>ResmiTatil!$I$2,R62>ResmiTatil!$J$2),ResmiTatil!$J$2-ResmiTatil!$I$2))+IF(S62>ResmiTatil!$K$2,S62-ResmiTatil!$K$2),0)) -> 0 | V62: =IF((Q62-P62)+(S62-R62)<0,0,(Q62-P62)+(S62-R62)) -> 0 | AA62: =IF(Y62-X62<0,0,Y62-X62) -> 0 | AB62: =IF(AND(OR(W62="",X62=""),OR(Y62="",Z62="")),0,IF(OR(W62<>ResmiTatil!$H$2,X62<>ResmiTatil!$I$2,Y62<>ResmiTatil!$J$2,Z62<>ResmiTatil!$K$2),IF(AND(Y62="",Z62=""),0,IF(W62<ResmiTatil!$H$2,ResmiTatil!$H$2-W62))+IF(AND(Y62="",Z62="",OR(W62<ResmiTatil!$H$2,AND(X62<>ResmiTatil!$J$2,X62>ResmiTatil!$J$2))),ResmiTatil!$J$2-ResmiTatil!$I$2,IF(OR(Y62="",Z62=""),0,IF(AND(X62>ResmiTatil!$I$2,Y62<ResmiTatil!$J$2),X62-ResmiTatil!$I$2)))+IF(AND(X62<ResmiTatil!$I$2,Y62<ResmiTatil!$J$2),ResmiTatil!$J$2-Y62)+IF(AND(X62=ResmiTatil!$I$3,Y62=ResmiTatil!$J$3),ResmiTatil!$I$3-ResmiTatil!$I$2,IF(AND(X62>ResmiTatil!$I$2,Y62>ResmiTatil!$J$2),ResmiTatil!$J$2-ResmiTatil!$I$2))+IF(Z62>ResmiTatil!$K$2,Z62-ResmiTatil!$K$2),0)) -> 0 | AC62: =IF((X62-W62)+(Z62-Y62)<0,0,(X62-W62)+(Z62-Y62)) -> 0 | AH62: =IF(AF62-AE62<0,0,AF62-AE62) -> 0 | AI62: =IF(AND(OR(AD62="",AE62=""),OR(AF62="",AG62="")),0,IF(OR(AD62<>ResmiTatil!$H$2,AE62<>ResmiTatil!$I$2,AF62<>ResmiTatil!$J$2,AG62<>ResmiTatil!$K$2),IF(AND(AF62="",AG62=""),0,IF(AD62<ResmiTatil!$H$2,ResmiTatil!$H$2-AD62))+IF(AND(AF62="",AG62="",OR(AD62<ResmiTatil!$H$2,AND(AE62<>ResmiTatil!$J$2,AE62>ResmiTatil!$J$2))),ResmiTatil!$J$2-ResmiTatil!$I$2,IF(OR(AF62="",AG62=""),0,IF(AND(AE62>ResmiTatil!$I$2,AF62<ResmiTatil!$J$2),AE62-ResmiTatil!$I$2)))+IF(AND(AE62<ResmiTatil!$I$2,AF62<ResmiTatil!$J$2),ResmiTatil!$J$2-AF62)+IF(AND(AE62=ResmiTatil!$I$3,AF62=ResmiTatil!$J$3),ResmiTatil!$I$3-ResmiTatil!$I$2,IF(AND(AE62>ResmiTatil!$I$2,AF62>ResmiTatil!$J$2),ResmiTatil!$J$2-ResmiTatil!$I$2))+IF(AG62>ResmiTatil!$K$2,AG62-ResmiTatil!$K$2),0)) -> 0 | AJ62: =IF((AE62-AD62)+(AG62-AF62)<0,0,(AE62-AD62)+(AG62-AF62)) -> 0
A63: =A62+1 -> 44792 | B63: 0.35416667 | C63: 0.52083333 | D63: 0.5625 | E63: 0.72916667 | F63: =IF(D63-C63<0,0,D63-C63) -> 0.041666667 | G63: =IF(AND(OR(B63="",C63=""),OR(D63="",E63="")),0,IF(OR(B63<>ResmiTatil!$H$2,C63<>ResmiTatil!$I$2,D63<>ResmiTatil!$J$2,E63<>ResmiTatil!$K$2),IF(AND(D63="",E63=""),0,IF(B63<ResmiTatil!$H$2,ResmiTatil!$H$2-B63))+IF(AND(D63="",E63="",OR(B63<ResmiTatil!$H$2,AND(C63<>ResmiTatil!$J$2,C63>ResmiTatil!$J$2))),ResmiTatil!$J$2-ResmiTatil!$I$2,IF(OR(D63="",E63=""),0,IF(AND(C63>ResmiTatil!$I$2,D63<ResmiTatil!$J$2),C63-ResmiTatil!$I$2)))+IF(AND(C63<ResmiTatil!$I$2,D63<ResmiTatil!$J$2),ResmiTatil!$J$2-D63)+IF(AND(C63=ResmiTatil!$I$3,D63=ResmiTatil!$J$3),ResmiTatil!$I$3-ResmiTatil!$I$2,IF(AND(C63>ResmiTatil!$I$2,D63>ResmiTatil!$J$2),ResmiTatil!$J$2-ResmiTatil!$I$2))+IF(E63>ResmiTatil!$K$2,E63-ResmiTatil!$K$2),0)) -> 2.1649349e-14 | H63: =IF((C63-B63)+(E63-D63)<0,0,(C63-B63)+(E63-D63)) -> 0.33333333 | I63: 0.35416667 | J63: 0.5625 | K63: 0.60416667 | L63: 0.72916667 | M63: =IF(K63-J63<0,0,K63-J63) -> 0.041666667 | N63: =IF(AND(OR(I63="",J63=""),OR(K63="",L63="")),0,IF(OR(I63<>ResmiTatil!$H$2,J63<>ResmiTatil!$I$2,K63<>ResmiTatil!$J$2,L63<>ResmiTatil!$K$2),IF(AND(K63="",L63=""),0,IF(I63<ResmiTatil!$H$2,ResmiTatil!$H$2-I63))+IF(AND(K63="",L63="",OR(I63<ResmiTatil!$H$2,AND(J63<>ResmiTatil!$J$2,J63>ResmiTatil!$J$2))),ResmiTatil!$J$2-ResmiTatil!$I$2,IF(OR(K63="",L63=""),0,IF(AND(J63>ResmiTatil!$I$2,K63<ResmiTatil!$J$2),J63-ResmiTatil!$I$2)))+IF(AND(J63<ResmiTatil!$I$2,K63<ResmiTatil!$J$2),ResmiTatil!$J$2-K63)+IF(AND(J63=ResmiTatil!$I$3,K63=ResmiTatil!$J$3),ResmiTatil!$I$3-ResmiTatil!$I$2,IF(AND(J63>ResmiTatil!$I$2,K63>ResmiTatil!$J$2),ResmiTatil!$J$2-ResmiTatil!$I$2))+IF(L63>ResmiTatil!$K$2,L63-ResmiTatil!$K$2),0)) -> 0.041666667 | O63: =IF((J63-I63)+(L63-K63)<0,0,(J63-I63)+(L63-K63)) -> 0.33333333 | T63: =IF(R63-Q63<0,0,R63-Q63) -> 0 | U63: =IF(AND(OR(P63="",Q63=""),OR(R63="",S63="")),0,IF(OR(P63<>ResmiTatil!$H$2,Q63<>ResmiTatil!$I$2,R63<>ResmiTatil!$J$2,S63<>ResmiTatil!$K$2),IF(AND(R63="",S63=""),0,IF(P63<ResmiTatil!$H$2,ResmiTatil!$H$2-P63))+IF(AND(R63="",S63="",OR(P63<ResmiTatil!$H$2,AND(Q63<>ResmiTatil!$J$2,Q63>ResmiTatil!$J$2))),ResmiTatil!$J$2-ResmiTatil!$I$2,IF(OR(R63="",S63=""),0,IF(AND(Q63>ResmiTatil!$I$2,R63<ResmiTatil!$J$2),Q63-ResmiTatil!$I$2)))+IF(AND(Q63<ResmiTatil!$I$2,R63<ResmiTatil!$J$2),ResmiTatil!$J$2-R63)+IF(AND(Q63=ResmiTatil!$I$3,R63=ResmiTatil!$J$3),ResmiTatil!$I$3-ResmiTatil!$I$2,IF(AND(Q63>ResmiTatil!$I$2,R63>ResmiTatil!$J$2),ResmiTatil!$J$2-ResmiTatil!$I$2))+IF(S63>ResmiTatil!$K$2,S63-ResmiTatil!$K$2),0)) -> 0 | V63: =IF((Q63-P63)+(S63-R63)<0,0,(Q63-P63)+(S63-R63)) -> 0 | AA63: =IF(Y63-X63<0,0,Y63-X63) -> 0 | AB63: =IF(AND(OR(W63="",X63=""),OR(Y63="",Z63="")),0,IF(OR(W63<>ResmiTatil!$H$2,X63<>ResmiTatil!$I$2,Y63<>ResmiTatil!$J$2,Z63<>ResmiTatil!$K$2),IF(AND(Y63="",Z63=""),0,IF(W63<ResmiTatil!$H$2,ResmiTatil!$H$2-W63))+IF(AND(Y63="",Z63="",OR(W63<ResmiTatil!$H$2,AND(X63<>ResmiTatil!$J$2,X63>ResmiTatil!$J$2))),ResmiTatil!$J$2-ResmiTatil!$I$2,IF(OR(Y63="",Z63=""),0,IF(AND(X63>ResmiTatil!$I$2,Y63<ResmiTatil!$J$2),X63-ResmiTatil!$I$2)))+IF(AND(X63<ResmiTatil!$I$2,Y63<ResmiTatil!$J$2),ResmiTatil!$J$2-Y63)+IF(AND(X63=ResmiTatil!$I$3,Y63=ResmiTatil!$J$3),ResmiTatil!$I$3-ResmiTatil!$I$2,IF(AND(X63>ResmiTatil!$I$2,Y63>ResmiTatil!$J$2),ResmiTatil!$J$2-ResmiTatil!$I$2))+IF(Z63>ResmiTatil!$K$2,Z63-ResmiTatil!$K$2),0)) -> 0 | AC63: =IF((X63-W63)+(Z63-Y63)<0,0,(X63-W63)+(Z63-Y63)) -> 0 | AH63: =IF(AF63-AE63<0,0,AF63-AE63) -> 0 | AI63: =IF(AND(OR(AD63="",AE63=""),OR(AF63="",AG63="")),0,IF(OR(AD63<>ResmiTatil!$H$2,AE63<>ResmiTatil!$I$2,AF63<>ResmiTatil!$J$2,AG63<>ResmiTatil!$K$2),IF(AND(AF63="",AG63=""),0,IF(AD63<ResmiTatil!$H$2,ResmiTatil!$H$2-AD63))+IF(AND(AF63="",AG63="",OR(AD63<ResmiTatil!$H$2,AND(AE63<>ResmiTatil!$J$2,AE63>ResmiTatil!$J$2))),ResmiTatil!$J$2-ResmiTatil!$I$2,IF(OR(AF63="",AG63=""),0,IF(AND(AE63>ResmiTatil!$I$2,AF63<ResmiTatil!$J$2),AE63-ResmiTatil!$I$2)))+IF(AND(AE63<ResmiTatil!$I$2,AF63<ResmiTatil!$J$2),ResmiTatil!$J$2-AF63)+IF(AND(AE63=ResmiTatil!$I$3,AF63=ResmiTatil!$J$3),ResmiTatil!$I$3-ResmiTatil!$I$2,IF(AND(AE63>ResmiTatil!$I$2,AF63>ResmiTatil!$J$2),ResmiTatil!$J$2-ResmiTatil!$I$2))+IF(AG63>ResmiTatil!$K$2,AG63-ResmiTatil!$K$2),0)) -> 0 | AJ63: =IF((AE63-AD63)+(AG63-AF63)<0,0,(AE63-AD63)+(AG63-AF63)) -> 0
A64: HAFTALIK TOPLAM | G64: =SUM(G59:G63) -> 0.125 | H64: =SUM(H59:H63) -> 1.6666667 | N64: =SUM(N59:N63) -> 0.125 | O64: =SUM(O59:O63) -> 1.6666667 | U64: =SUM(U59:U63) -> 0 | V64: =SUM(V59:V63) -> 0 | AB64: =SUM(AB59:AB63) -> 0 | AC64: =SUM(AC59:AC63) -> 0 | AI64: =SUM(AI59:AI63) -> 0 | AJ64: =SUM(AJ59:AJ63) -> 0
A65: =A63+1 -> 44793
A66: =A65+1 -> 44794
A67: =A66+1 -> 44795 | B67: 0.35416667 | C67: 0.5625 | D67: 0.60416667 | E67: 0.72916667 | F67: =IF(D67-C67<0,0,D67-C67) -> 0.041666667 | G67: =IF(AND(OR(B67="",C67=""),OR(D67="",E67="")),0,IF(OR(B67<>ResmiTatil!$H$2,C67<>ResmiTatil!$I$2,D67<>ResmiTatil!$J$2,E67<>ResmiTatil!$K$2),IF(AND(D67="",E67=""),0,IF(B67<ResmiTatil!$H$2,ResmiTatil!$H$2-B67))+IF(AND(D67="",E67="",OR(B67<ResmiTatil!$H$2,AND(C67<>ResmiTatil!$J$2,C67>ResmiTatil!$J$2))),ResmiTatil!$J$2-ResmiTatil!$I$2,IF(OR(D67="",E67=""),0,IF(AND(C67>ResmiTatil!$I$2,D67<ResmiTatil!$J$2),C67-ResmiTatil!$I$2)))+IF(AND(C67<ResmiTatil!$I$2,D67<ResmiTatil!$J$2),ResmiTatil!$J$2-D67)+IF(AND(C67=ResmiTatil!$I$3,D67=ResmiTatil!$J$3),ResmiTatil!$I$3-ResmiTatil!$I$2,IF(AND(C67>ResmiTatil!$I$2,D67>ResmiTatil!$J$2),ResmiTatil!$J$2-ResmiTatil!$I$2))+IF(E67>ResmiTatil!$K$2,E67-ResmiTatil!$K$2),0)) -> 0.041666667 | H67: =IF((C67-B67)+(E67-D67)<0,0,(C67-B67)+(E67-D67)) -> 0.33333333 | I67: 0.3125 | J67: 0.52083333 | K67: 0.5625 | L67: 0.6875 | M67: =IF(K67-J67<0,0,K67-J67) -> 0.041666667 | N67: =IF(AND(OR(I67="",J67=""),OR(K67="",L67="")),0,IF(OR(I67<>ResmiTatil!$H$2,J67<>ResmiTatil!$I$2,K67<>ResmiTatil!$J$2,L67<>ResmiTatil!$K$2),IF(AND(K67="",L67=""),0,IF(I67<ResmiTatil!$H$2,ResmiTatil!$H$2-I67))+IF(AND(K67="",L67="",OR(I67<ResmiTatil!$H$2,AND(J67<>ResmiTatil!$J$2,J67>ResmiTatil!$J$2))),ResmiTatil!$J$2-ResmiTatil!$I$2,IF(OR(K67="",L67=""),0,IF(AND(J67>ResmiTatil!$I$2,K67<ResmiTatil!$J$2),J67-ResmiTatil!$I$2)))+IF(AND(J67<ResmiTatil!$I$2,K67<ResmiTatil!$J$2),ResmiTatil!$J$2-K67)+IF(AND(J67=ResmiTatil!$I$3,K67=ResmiTatil!$J$3),ResmiTatil!$I$3-ResmiTatil!$I$2,IF(AND(J67>ResmiTatil!$I$2,K67>ResmiTatil!$J$2),ResmiTatil!$J$2-ResmiTatil!$I$2))+IF(L67>ResmiTatil!$K$2,L67-ResmiTatil!$K$2),0)) -> 0.041666667 | O67: =IF((J67-I67)+(L67-K67)<0,0,(J67-I67)+(L67-K67)) -> 0.33333333 | T67: =IF(R67-Q67<0,0,R67-Q67) -> 0 | U67: =IF(AND(OR(P67="",Q67=""),OR(R67="",S67="")),0,IF(OR(P67<>ResmiTatil!$H$2,Q67<>ResmiTatil!$I$2,R67<>ResmiTatil!$J$2,S67<>ResmiTatil!$K$2),IF(AND(R67="",S67=""),0,IF(P67<ResmiTatil!$H$2,ResmiTatil!$H$2-P67))+IF(AND(R67="",S67="",OR(P67<ResmiTatil!$H$2,AND(Q67<>ResmiTatil!$J$2,Q67>ResmiTatil!$J$2))),ResmiTatil!$J$2-ResmiTatil!$I$2,IF(OR(R67="",S67=""),0,IF(AND(Q67>ResmiTatil!$I$2,R67<ResmiTatil!$J$2),Q67-ResmiTatil!$I$2)))+IF(AND(Q67<ResmiTatil!$I$2,R67<ResmiTatil!$J$2),ResmiTatil!$J$2-R67)+IF(AND(Q67=ResmiTatil!$I$3,R67=ResmiTatil!$J$3),ResmiTatil!$I$3-ResmiTatil!$I$2,IF(AND(Q67>ResmiTatil!$I$2,R67>ResmiTatil!$J$2),ResmiTatil!$J$2-ResmiTatil!$I$2))+IF(S67>ResmiTatil!$K$2,S67-ResmiTatil!$K$2),0)) -> 0 | V67: =IF((Q67-P67)+(S67-R67)<0,0,(Q67-P67)+(S67-R67)) -> 0 | AA67: =IF(Y67-X67<0,0,Y67-X67) -> 0 | AB67: =IF(AND(OR(W67="",X67=""),OR(Y67="",Z67="")),0,IF(OR(W67<>ResmiTatil!$H$2,X67<>ResmiTatil!$I$2,Y67<>ResmiTatil!$J$2,Z67<>ResmiTatil!$K$2),IF(AND(Y67="",Z67=""),0,IF(W67<ResmiTatil!$H$2,ResmiTatil!$H$2-W67))+IF(AND(Y67="",Z67="",OR(W67<ResmiTatil!$H$2,AND(X67<>ResmiTatil!$J$2,X67>ResmiTatil!$J$2))),ResmiTatil!$J$2-ResmiTatil!$I$2,IF(OR(Y67="",Z67=""),0,IF(AND(X67>ResmiTatil!$I$2,Y67<ResmiTatil!$J$2),X67-ResmiTatil!$I$2)))+IF(AND(X67<ResmiTatil!$I$2,Y67<ResmiTatil!$J$2),ResmiTatil!$J$2-Y67)+IF(AND(X67=ResmiTatil!$I$3,Y67=ResmiTatil!$J$3),ResmiTatil!$I$3-ResmiTatil!$I$2,IF(AND(X67>ResmiTatil!$I$2,Y67>ResmiTatil!$J$2),ResmiTatil!$J$2-ResmiTatil!$I$2))+IF(Z67>ResmiTatil!$K$2,Z67-ResmiTatil!$K$2),0)) -> 0 | AC67: =IF((X67-W67)+(Z67-Y67)<0,0,(X67-W67)+(Z67-Y67)) -> 0 | AH67: =IF(AF67-AE67<0,0,AF67-AE67) -> 0 | AI67: =IF(AND(OR(AD67="",AE67=""),OR(AF67="",AG67="")),0,IF(OR(AD67<>ResmiTatil!$H$2,AE67<>ResmiTatil!$I$2,AF67<>ResmiTatil!$J$2,AG67<>ResmiTatil!$K$2),IF(AND(AF67="",AG67=""),0,IF(AD67<ResmiTatil!$H$2,ResmiTatil!$H$2-AD67))+IF(AND(AF67="",AG67="",OR(AD67<ResmiTatil!$H$2,AND(AE67<>ResmiTatil!$J$2,AE67>ResmiTatil!$J$2))),ResmiTatil!$J$2-ResmiTatil!$I$2,IF(OR(AF67="",AG67=""),0,IF(AND(AE67>ResmiTatil!$I$2,AF67<ResmiTatil!$J$2),AE67-ResmiTatil!$I$2)))+IF(AND(AE67<ResmiTatil!$I$2,AF67<ResmiTatil!$J$2),ResmiTatil!$J$2-AF67)+IF(AND(AE67=ResmiTatil!$I$3,AF67=ResmiTatil!$J$3),ResmiTatil!$I$3-ResmiTatil!$I$2,IF(AND(AE67>ResmiTatil!$I$2,AF67>ResmiTatil!$J$2),ResmiTatil!$J$2-ResmiTatil!$I$2))+IF(AG67>ResmiTatil!$K$2,AG67-ResmiTatil!$K$2),0)) -> 0 | AJ67: =IF((AE67-AD67)+(AG67-AF67)<0,0,(AE67-AD67)+(AG67-AF67)) -> 0
A68: =A67+1 -> 44796 | B68: 0.35416667 | C68: 0.52083333 | D68: 0.5625 | E68: 0.72916667 | F68: =IF(D68-C68<0,0,D68-C68) -> 0.041666667 | G68: =IF(AND(OR(B68="",C68=""),OR(D68="",E68="")),0,IF(OR(B68<>ResmiTatil!$H$2,C68<>ResmiTatil!$I$2,D68<>ResmiTatil!$J$2,E68<>ResmiTatil!$K$2),IF(AND(D68="",E68=""),0,IF(B68<ResmiTatil!$H$2,ResmiTatil!$H$2-B68))+IF(AND(D68="",E68="",OR(B68<ResmiTatil!$H$2,AND(C68<>ResmiTatil!$J$2,C68>ResmiTatil!$J$2))),ResmiTatil!$J$2-ResmiTatil!$I$2,IF(OR(D68="",E68=""),0,IF(AND(C68>ResmiTatil!$I$2,D68<ResmiTatil!$J$2),C68-ResmiTatil!$I$2)))+IF(AND(C68<ResmiTatil!$I$2,D68<ResmiTatil!$J$2),ResmiTatil!$J$2-D68)+IF(AND(C68=ResmiTatil!$I$3,D68=ResmiTatil!$J$3),ResmiTatil!$I$3-ResmiTatil!$I$2,IF(AND(C68>ResmiTatil!$I$2,D68>ResmiTatil!$J$2),ResmiTatil!$J$2-ResmiTatil!$I$2))+IF(E68>ResmiTatil!$K$2,E68-ResmiTatil!$K$2),0)) -> 2.1649349e-14 | H68: =IF((C68-B68)+(E68-D68)<0,0,(C68-B68)+(E68-D68)) -> 0.33333333 | I68: 0.35416667 | J68: 0.5625 | K68: 0.60416667 | L68: 0.72916667 | M68: =IF(K68-J68<0,0,K68-J68) -> 0.041666667 | N68: =IF(AND(OR(I68="",J68=""),OR(K68="",L68="")),0,IF(OR(I68<>ResmiTatil!$H$2,J68<>ResmiTatil!$I$2,K68<>ResmiTatil!$J$2,L68<>ResmiTatil!$K$2),IF(AND(K68="",L68=""),0,IF(I68<ResmiTatil!$H$2,ResmiTatil!$H$2-I68))+IF(AND(K68="",L68="",OR(I68<ResmiTatil!$H$2,AND(J68<>ResmiTatil!$J$2,J68>ResmiTatil!$J$2))),ResmiTatil!$J$2-ResmiTatil!$I$2,IF(OR(K68="",L68=""),0,IF(AND(J68>ResmiTatil!$I$2,K68<ResmiTatil!$J$2),J68-ResmiTatil!$I$2)))+IF(AND(J68<ResmiTatil!$I$2,K68<ResmiTatil!$J$2),ResmiTatil!$J$2-K68)+IF(AND(J68=ResmiTatil!$I$3,K68=ResmiTatil!$J$3),ResmiTatil!$I$3-ResmiTatil!$I$2,IF(AND(J68>ResmiTatil!$I$2,K68>ResmiTatil!$J$2),ResmiTatil!$J$2-ResmiTatil!$I$2))+IF(L68>ResmiTatil!$K$2,L68-ResmiTatil!$K$2),0)) -> 0.041666667 | O68: =IF((J68-I68)+(L68-K68)<0,0,(J68-I68)+(L68-K68)) -> 0.33333333 | T68: =IF(R68-Q68<0,0,R68-Q68) -> 0 | U68: =IF(AND(OR(P68="",Q68=""),OR(R68="",S68="")),0,IF(OR(P68<>ResmiTatil!$H$2,Q68<>ResmiTatil!$I$2,R68<>ResmiTatil!$J$2,S68<>ResmiTatil!$K$2),IF(AND(R68="",S68=""),0,IF(P68<ResmiTatil!$H$2,ResmiTatil!$H$2-P68))+IF(AND(R68="",S68="",OR(P68<ResmiTatil!$H$2,AND(Q68<>ResmiTatil!$J$2,Q68>ResmiTatil!$J$2))),ResmiTatil!$J$2-ResmiTatil!$I$2,IF(OR(R68="",S68=""),0,IF(AND(Q68>ResmiTatil!$I$2,R68<ResmiTatil!$J$2),Q68-ResmiTatil!$I$2)))+IF(AND(Q68<ResmiTatil!$I$2,R68<ResmiTatil!$J$2),ResmiTatil!$J$2-R68)+IF(AND(Q68=ResmiTatil!$I$3,R68=ResmiTatil!$J$3),ResmiTatil!$I$3-ResmiTatil!$I$2,IF(AND(Q68>ResmiTatil!$I$2,R68>ResmiTatil!$J$2),ResmiTatil!$J$2-ResmiTatil!$I$2))+IF(S68>ResmiTatil!$K$2,S68-ResmiTatil!$K$2),0)) -> 0 | V68: =IF((Q68-P68)+(S68-R68)<0,0,(Q68-P68)+(S68-R68)) -> 0 | AA68: =IF(Y68-X68<0,0,Y68-X68) -> 0 | AB68: =IF(AND(OR(W68="",X68=""),OR(Y68="",Z68="")),0,IF(OR(W68<>ResmiTatil!$H$2,X68<>ResmiTatil!$I$2,Y68<>ResmiTatil!$J$2,Z68<>ResmiTatil!$K$2),IF(AND(Y68="",Z68=""),0,IF(W68<ResmiTatil!$H$2,ResmiTatil!$H$2-W68))+IF(AND(Y68="",Z68="",OR(W68<ResmiTatil!$H$2,AND(X68<>ResmiTatil!$J$2,X68>ResmiTatil!$J$2))),ResmiTatil!$J$2-ResmiTatil!$I$2,IF(OR(Y68="",Z68=""),0,IF(AND(X68>ResmiTatil!$I$2,Y68<ResmiTatil!$J$2),X68-ResmiTatil!$I$2)))+IF(AND(X68<ResmiTatil!$I$2,Y68<ResmiTatil!$J$2),ResmiTatil!$J$2-Y68)+IF(AND(X68=ResmiTatil!$I$3,Y68=ResmiTatil!$J$3),ResmiTatil!$I$3-ResmiTatil!$I$2,IF(AND(X68>ResmiTatil!$I$2,Y68>ResmiTatil!$J$2),ResmiTatil!$J$2-ResmiTatil!$I$2))+IF(Z68>ResmiTatil!$K$2,Z68-ResmiTatil!$K$2),0)) -> 0 | AC68: =IF((X68-W68)+(Z68-Y68)<0,0,(X68-W68)+(Z68-Y68)) -> 0 | AH68: =IF(AF68-AE68<0,0,AF68-AE68) -> 0 | AI68: =IF(AND(OR(AD68="",AE68=""),OR(AF68="",AG68="")),0,IF(OR(AD68<>ResmiTatil!$H$2,AE68<>ResmiTatil!$I$2,AF68<>ResmiTatil!$J$2,AG68<>ResmiTatil!$K$2),IF(AND(AF68="",AG68=""),0,IF(AD68<ResmiTatil!$H$2,ResmiTatil!$H$2-AD68))+IF(AND(AF68="",AG68="",OR(AD68<ResmiTatil!$H$2,AND(AE68<>ResmiTatil!$J$2,AE68>ResmiTatil!$J$2))),ResmiTatil!$J$2-ResmiTatil!$I$2,IF(OR(AF68="",AG68=""),0,IF(AND(AE68>ResmiTatil!$I$2,AF68<ResmiTatil!$J$2),AE68-ResmiTatil!$I$2)))+IF(AND(AE68<ResmiTatil!$I$2,AF68<ResmiTatil!$J$2),ResmiTatil!$J$2-AF68)+IF(AND(AE68=ResmiTatil!$I$3,AF68=ResmiTatil!$J$3),ResmiTatil!$I$3-ResmiTatil!$I$2,IF(AND(AE68>ResmiTatil!$I$2,AF68>ResmiTatil!$J$2),ResmiTatil!$J$2-ResmiTatil!$I$2))+IF(AG68>ResmiTatil!$K$2,AG68-ResmiTatil!$K$2),0)) -> 0 | AJ68: =IF((AE68-AD68)+(AG68-AF68)<0,0,(AE68-AD68)+(AG68-AF68)) -> 0
A69: =A68+1 -> 44797 | B69: 0.35416667 | C69: 0.5625 | D69: 0.60416667 | E69: 0.72916667 | F69: =IF(D69-C69<0,0,D69-C69) -> 0.041666667 | G69: =IF(AND(OR(B69="",C69=""),OR(D69="",E69="")),0,IF(OR(B69<>ResmiTatil!$H$2,C69<>ResmiTatil!$I$2,D69<>ResmiTatil!$J$2,E69<>ResmiTatil!$K$2),IF(AND(D69="",E69=""),0,IF(B69<ResmiTatil!$H$2,ResmiTatil!$H$2-B69))+IF(AND(D69="",E69="",OR(B69<ResmiTatil!$H$2,AND(C69<>ResmiTatil!$J$2,C69>ResmiTatil!$J$2))),ResmiTatil!$J$2-ResmiTatil!$I$2,IF(OR(D69="",E69=""),0,IF(AND(C69>ResmiTatil!$I$2,D69<ResmiTatil!$J$2),C69-ResmiTatil!$I$2)))+IF(AND(C69<ResmiTatil!$I$2,D69<ResmiTatil!$J$2),ResmiTatil!$J$2-D69)+IF(AND(C69=ResmiTatil!$I$3,D69=ResmiTatil!$J$3),ResmiTatil!$I$3-ResmiTatil!$I$2,IF(AND(C69>ResmiTatil!$I$2,D69>ResmiTatil!$J$2),ResmiTatil!$J$2-ResmiTatil!$I$2))+IF(E69>ResmiTatil!$K$2,E69-ResmiTatil!$K$2),0)) -> 0.041666667 | H69: =IF((C69-B69)+(E69-D69)<0,0,(C69-B69)+(E69-D69)) -> 0.33333333 | I69: 0.35416667 | J69: 0.52083333 | K69: 0.5625 | L69: 0.72916667 | M69: =IF(K69-J69<0,0,K69-J69) -> 0.041666667 | N69: =IF(AND(OR(I69="",J69=""),OR(K69="",L69="")),0,IF(OR(I69<>ResmiTatil!$H$2,J69<>ResmiTatil!$I$2,K69<>ResmiTatil!$J$2,L69<>ResmiTatil!$K$2),IF(AND(K69="",L69=""),0,IF(I69<ResmiTatil!$H$2,ResmiTatil!$H$2-I69))+IF(AND(K69="",L69="",OR(I69<ResmiTatil!$H$2,AND(J69<>ResmiTatil!$J$2,J69>ResmiTatil!$J$2))),ResmiTatil!$J$2-ResmiTatil!$I$2,IF(OR(K69="",L69=""),0,IF(AND(J69>ResmiTatil!$I$2,K69<ResmiTatil!$J$2),J69-ResmiTatil!$I$2)))+IF(AND(J69<ResmiTatil!$I$2,K69<ResmiTatil!$J$2),ResmiTatil!$J$2-K69)+IF(AND(J69=ResmiTatil!$I$3,K69=ResmiTatil!$J$3),ResmiTatil!$I$3-ResmiTatil!$I$2,IF(AND(J69>ResmiTatil!$I$2,K69>ResmiTatil!$J$2),ResmiTatil!$J$2-ResmiTatil!$I$2))+IF(L69>ResmiTatil!$K$2,L69-ResmiTatil!$K$2),0)) -> 2.1649349e-14 | O69: =IF((J69-I69)+(L69-K69)<0,0,(J69-I69)+(L69-K69)) -> 0.33333333 | T69: =IF(R69-Q69<0,0,R69-Q69) -> 0 | U69: =IF(AND(OR(P69="",Q69=""),OR(R69="",S69="")),0,IF(OR(P69<>ResmiTatil!$H$2,Q69<>ResmiTatil!$I$2,R69<>ResmiTatil!$J$2,S69<>ResmiTatil!$K$2),IF(AND(R69="",S69=""),0,IF(P69<ResmiTatil!$H$2,ResmiTatil!$H$2-P69))+IF(AND(R69="",S69="",OR(P69<ResmiTatil!$H$2,AND(Q69<>ResmiTatil!$J$2,Q69>ResmiTatil!$J$2))),ResmiTatil!$J$2-ResmiTatil!$I$2,IF(OR(R69="",S69=""),0,IF(AND(Q69>ResmiTatil!$I$2,R69<ResmiTatil!$J$2),Q69-ResmiTatil!$I$2)))+IF(AND(Q69<ResmiTatil!$I$2,R69<ResmiTatil!$J$2),ResmiTatil!$J$2-R69)+IF(AND(Q69=ResmiTatil!$I$3,R69=ResmiTatil!$J$3),ResmiTatil!$I$3-ResmiTatil!$I$2,IF(AND(Q69>ResmiTatil!$I$2,R69>ResmiTatil!$J$2),ResmiTatil!$J$2-ResmiTatil!$I$2))+IF(S69>ResmiTatil!$K$2,S69-ResmiTatil!$K$2),0)) -> 0 | V69: =IF((Q69-P69)+(S69-R69)<0,0,(Q69-P69)+(S69-R69)) -> 0 | AA69: =IF(Y69-X69<0,0,Y69-X69) -> 0 | AB69: =IF(AND(OR(W69="",X69=""),OR(Y69="",Z69="")),0,IF(OR(W69<>ResmiTatil!$H$2,X69<>ResmiTatil!$I$2,Y69<>ResmiTatil!$J$2,Z69<>ResmiTatil!$K$2),IF(AND(Y69="",Z69=""),0,IF(W69<ResmiTatil!$H$2,ResmiTatil!$H$2-W69))+IF(AND(Y69="",Z69="",OR(W69<ResmiTatil!$H$2,AND(X69<>ResmiTatil!$J$2,X69>ResmiTatil!$J$2))),ResmiTatil!$J$2-ResmiTatil!$I$2,IF(OR(Y69="",Z69=""),0,IF(AND(X69>ResmiTatil!$I$2,Y69<ResmiTatil!$J$2),X69-ResmiTatil!$I$2)))+IF(AND(X69<ResmiTatil!$I$2,Y69<ResmiTatil!$J$2),ResmiTatil!$J$2-Y69)+IF(AND(X69=ResmiTatil!$I$3,Y69=ResmiTatil!$J$3),ResmiTatil!$I$3-ResmiTatil!$I$2,IF(AND(X69>ResmiTatil!$I$2,Y69>ResmiTatil!$J$2),ResmiTatil!$J$2-ResmiTatil!$I$2))+IF(Z69>ResmiTatil!$K$2,Z69-ResmiTatil!$K$2),0)) -> 0 | AC69: =IF((X69-W69)+(Z69-Y69)<0,0,(X69-W69)+(Z69-Y69)) -> 0 | AH69: =IF(AF69-AE69<0,0,AF69-AE69) -> 0 | AI69: =IF(AND(OR(AD69="",AE69=""),OR(AF69="",AG69="")),0,IF(OR(AD69<>ResmiTatil!$H$2,AE69<>ResmiTatil!$I$2,AF69<>ResmiTatil!$J$2,AG69<>ResmiTatil!$K$2),IF(AND(AF69="",AG69=""),0,IF(AD69<ResmiTatil!$H$2,ResmiTatil!$H$2-AD69))+IF(AND(AF69="",AG69="",OR(AD69<ResmiTatil!$H$2,AND(AE69<>ResmiTatil!$J$2,AE69>ResmiTatil!$J$2))),ResmiTatil!$J$2-ResmiTatil!$I$2,IF(OR(AF69="",AG69=""),0,IF(AND(AE69>ResmiTatil!$I$2,AF69<ResmiTatil!$J$2),AE69-ResmiTatil!$I$2)))+IF(AND(AE69<ResmiTatil!$I$2,AF69<ResmiTatil!$J$2),ResmiTatil!$J$2-AF69)+IF(AND(AE69=ResmiTatil!$I$3,AF69=ResmiTatil!$J$3),ResmiTatil!$I$3-ResmiTatil!$I$2,IF(AND(AE69>ResmiTatil!$I$2,AF69>ResmiTatil!$J$2),ResmiTatil!$J$2-ResmiTatil!$I$2))+IF(AG69>ResmiTatil!$K$2,AG69-ResmiTatil!$K$2),0)) -> 0 | AJ69: =IF((AE69-AD69)+(AG69-AF69)<0,0,(AE69-AD69)+(AG69-AF69)) -> 0
A70: =A69+1 -> 44798 | B70: 0.35416667 | C70: 0.52083333 | D70: 0.5625 | E70: 0.72916667 | F70: =IF(D70-C70<0,0,D70-C70) -> 0.041666667 | G70: =IF(AND(OR(B70="",C70=""),OR(D70="",E70="")),0,IF(OR(B70<>ResmiTatil!$H$2,C70<>ResmiTatil!$I$2,D70<>ResmiTatil!$J$2,E70<>ResmiTatil!$K$2),IF(AND(D70="",E70=""),0,IF(B70<ResmiTatil!$H$2,ResmiTatil!$H$2-B70))+IF(AND(D70="",E70="",OR(B70<ResmiTatil!$H$2,AND(C70<>ResmiTatil!$J$2,C70>ResmiTatil!$J$2))),ResmiTatil!$J$2-ResmiTatil!$I$2,IF(OR(D70="",E70=""),0,IF(AND(C70>ResmiTatil!$I$2,D70<ResmiTatil!$J$2),C70-ResmiTatil!$I$2)))+IF(AND(C70<ResmiTatil!$I$2,D70<ResmiTatil!$J$2),ResmiTatil!$J$2-D70)+IF(AND(C70=ResmiTatil!$I$3,D70=ResmiTatil!$J$3),ResmiTatil!$I$3-ResmiTatil!$I$2,IF(AND(C70>ResmiTatil!$I$2,D70>ResmiTatil!$J$2),ResmiTatil!$J$2-ResmiTatil!$I$2))+IF(E70>ResmiTatil!$K$2,E70-ResmiTatil!$K$2),0)) -> 2.1649349e-14 | H70: =IF((C70-B70)+(E70-D70)<0,0,(C70-B70)+(E70-D70)) -> 0.33333333 | I70: 0.35416667 | J70: 0.5625 | K70: 0.60416667 | L70: 0.72916667 | M70: =IF(K70-J70<0,0,K70-J70) -> 0.041666667 | N70: =IF(AND(OR(I70="",J70=""),OR(K70="",L70="")),0,IF(OR(I70<>ResmiTatil!$H$2,J70<>ResmiTatil!$I$2,K70<>ResmiTatil!$J$2,L70<>ResmiTatil!$K$2),IF(AND(K70="",L70=""),0,IF(I70<ResmiTatil!$H$2,ResmiTatil!$H$2-I70))+IF(AND(K70="",L70="",OR(I70<ResmiTatil!$H$2,AND(J70<>ResmiTatil!$J$2,J70>ResmiTatil!$J$2))),ResmiTatil!$J$2-ResmiTatil!$I$2,IF(OR(K70="",L70=""),0,IF(AND(J70>ResmiTatil!$I$2,K70<ResmiTatil!$J$2),J70-ResmiTatil!$I$2)))+IF(AND(J70<ResmiTatil!$I$2,K70<ResmiTatil!$J$2),ResmiTatil!$J$2-K70)+IF(AND(J70=ResmiTatil!$I$3,K70=ResmiTatil!$J$3),ResmiTatil!$I$3-ResmiTatil!$I$2,IF(AND(J70>ResmiTatil!$I$2,K70>ResmiTatil!$J$2),ResmiTatil!$J$2-ResmiTatil!$I$2))+IF(L70>ResmiTatil!$K$2,L70-ResmiTatil!$K$2),0)) -> 0.041666667 | O70: =IF((J70-I70)+(L70-K70)<0,0,(J70-I70)+(L70-K70)) -> 0.33333333 | T70: =IF(R70-Q70<0,0,R70-Q70) -> 0 | U70: =IF(AND(OR(P70="",Q70=""),OR(R70="",S70="")),0,IF(OR(P70<>ResmiTatil!$H$2,Q70<>ResmiTatil!$I$2,R70<>ResmiTatil!$J$2,S70<>ResmiTatil!$K$2),IF(AND(R70="",S70=""),0,IF(P70<ResmiTatil!$H$2,ResmiTatil!$H$2-P70))+IF(AND(R70="",S70="",OR(P70<ResmiTatil!$H$2,AND(Q70<>ResmiTatil!$J$2,Q70>ResmiTatil!$J$2))),ResmiTatil!$J$2-ResmiTatil!$I$2,IF(OR(R70="",S70=""),0,IF(AND(Q70>ResmiTatil!$I$2,R70<ResmiTatil!$J$2),Q70-ResmiTatil!$I$2)))+IF(AND(Q70<ResmiTatil!$I$2,R70<ResmiTatil!$J$2),ResmiTatil!$J$2-R70)+IF(AND(Q70=ResmiTatil!$I$3,R70=ResmiTatil!$J$3),ResmiTatil!$I$3-ResmiTatil!$I$2,IF(AND(Q70>ResmiTatil!$I$2,R70>ResmiTatil!$J$2),ResmiTatil!$J$2-ResmiTatil!$I$2))+IF(S70>ResmiTatil!$K$2,S70-ResmiTatil!$K$2),0)) -> 0 | V70: =IF((Q70-P70)+(S70-R70)<0,0,(Q70-P70)+(S70-R70)) -> 0 | AA70: =IF(Y70-X70<0,0,Y70-X70) -> 0 | AB70: =IF(AND(OR(W70="",X70=""),OR(Y70="",Z70="")),0,IF(OR(W70<>ResmiTatil!$H$2,X70<>ResmiTatil!$I$2,Y70<>ResmiTatil!$J$2,Z70<>ResmiTatil!$K$2),IF(AND(Y70="",Z70=""),0,IF(W70<ResmiTatil!$H$2,ResmiTatil!$H$2-W70))+IF(AND(Y70="",Z70="",OR(W70<ResmiTatil!$H$2,AND(X70<>ResmiTatil!$J$2,X70>ResmiTatil!$J$2))),ResmiTatil!$J$2-ResmiTatil!$I$2,IF(OR(Y70="",Z70=""),0,IF(AND(X70>ResmiTatil!$I$2,Y70<ResmiTatil!$J$2),X70-ResmiTatil!$I$2)))+IF(AND(X70<ResmiTatil!$I$2,Y70<ResmiTatil!$J$2),ResmiTatil!$J$2-Y70)+IF(AND(X70=ResmiTatil!$I$3,Y70=ResmiTatil!$J$3),ResmiTatil!$I$3-ResmiTatil!$I$2,IF(AND(X70>ResmiTatil!$I$2,Y70>ResmiTatil!$J$2),ResmiTatil!$J$2-ResmiTatil!$I$2))+IF(Z70>ResmiTatil!$K$2,Z70-ResmiTatil!$K$2),0)) -> 0 | AC70: =IF((X70-W70)+(Z70-Y70)<0,0,(X70-W70)+(Z70-Y70)) -> 0 | AH70: =IF(AF70-AE70<0,0,AF70-AE70) -> 0 | AI70: =IF(AND(OR(AD70="",AE70=""),OR(AF70="",AG70="")),0,IF(OR(AD70<>ResmiTatil!$H$2,AE70<>ResmiTatil!$I$2,AF70<>ResmiTatil!$J$2,AG70<>ResmiTatil!$K$2),IF(AND(AF70="",AG70=""),0,IF(AD70<ResmiTatil!$H$2,ResmiTatil!$H$2-AD70))+IF(AND(AF70="",AG70="",OR(AD70<ResmiTatil!$H$2,AND(AE70<>ResmiTatil!$J$2,AE70>ResmiTatil!$J$2))),ResmiTatil!$J$2-ResmiTatil!$I$2,IF(OR(AF70="",AG70=""),0,IF(AND(AE70>ResmiTatil!$I$2,AF70<ResmiTatil!$J$2),AE70-ResmiTatil!$I$2)))+IF(AND(AE70<ResmiTatil!$I$2,AF70<ResmiTatil!$J$2),ResmiTatil!$J$2-AF70)+IF(AND(AE70=ResmiTatil!$I$3,AF70=ResmiTatil!$J$3),ResmiTatil!$I$3-ResmiTatil!$I$2,IF(AND(AE70>ResmiTatil!$I$2,AF70>ResmiTatil!$J$2),ResmiTatil!$J$2-ResmiTatil!$I$2))+IF(AG70>ResmiTatil!$K$2,AG70-ResmiTatil!$K$2),0)) -> 0 | AJ70: =IF((AE70-AD70)+(AG70-AF70)<0,0,(AE70-AD70)+(AG70-AF70)) -> 0
A71: =A70+1 -> 44799 | B71: 0.35416667 | C71: 0.5625 | D71: 0.60416667 | E71: 0.72916667 | F71: =IF(D71-C71<0,0,D71-C71) -> 0.041666667 | G71: =IF(AND(OR(B71="",C71=""),OR(D71="",E71="")),0,IF(OR(B71<>ResmiTatil!$H$2,C71<>ResmiTatil!$I$2,D71<>ResmiTatil!$J$2,E71<>ResmiTatil!$K$2),IF(AND(D71="",E71=""),0,IF(B71<ResmiTatil!$H$2,ResmiTatil!$H$2-B71))+IF(AND(D71="",E71="",OR(B71<ResmiTatil!$H$2,AND(C71<>ResmiTatil!$J$2,C71>ResmiTatil!$J$2))),ResmiTatil!$J$2-ResmiTatil!$I$2,IF(OR(D71="",E71=""),0,IF(AND(C71>ResmiTatil!$I$2,D71<ResmiTatil!$J$2),C71-ResmiTatil!$I$2)))+IF(AND(C71<ResmiTatil!$I$2,D71<ResmiTatil!$J$2),ResmiTatil!$J$2-D71)+IF(AND(C71=ResmiTatil!$I$3,D71=ResmiTatil!$J$3),ResmiTatil!$I$3-ResmiTatil!$I$2,IF(AND(C71>ResmiTatil!$I$2,D71>ResmiTatil!$J$2),ResmiTatil!$J$2-ResmiTatil!$I$2))+IF(E71>ResmiTatil!$K$2,E71-ResmiTatil!$K$2),0)) -> 0.041666667 | H71: =IF((C71-B71)+(E71-D71)<0,0,(C71-B71)+(E71-D71)) -> 0.33333333 | I71: 0.35416667 | J71: 0.52083333 | K71: 0.5625 | L71: 0.72916667 | M71: =IF(K71-J71<0,0,K71-J71) -> 0.041666667 | N71: =IF(AND(OR(I71="",J71=""),OR(K71="",L71="")),0,IF(OR(I71<>ResmiTatil!$H$2,J71<>ResmiTatil!$I$2,K71<>ResmiTatil!$J$2,L71<>ResmiTatil!$K$2),IF(AND(K71="",L71=""),0,IF(I71<ResmiTatil!$H$2,ResmiTatil!$H$2-I71))+IF(AND(K71="",L71="",OR(I71<ResmiTatil!$H$2,AND(J71<>ResmiTatil!$J$2,J71>ResmiTatil!$J$2))),ResmiTatil!$J$2-ResmiTatil!$I$2,IF(OR(K71="",L71=""),0,IF(AND(J71>ResmiTatil!$I$2,K71<ResmiTatil!$J$2),J71-ResmiTatil!$I$2)))+IF(AND(J71<ResmiTatil!$I$2,K71<ResmiTatil!$J$2),ResmiTatil!$J$2-K71)+IF(AND(J71=ResmiTatil!$I$3,K71=ResmiTatil!$J$3),ResmiTatil!$I$3-ResmiTatil!$I$2,IF(AND(J71>ResmiTatil!$I$2,K71>ResmiTatil!$J$2),ResmiTatil!$J$2-ResmiTatil!$I$2))+IF(L71>ResmiTatil!$K$2,L71-ResmiTatil!$K$2),0)) -> 2.1649349e-14 | O71: =IF((J71-I71)+(L71-K71)<0,0,(J71-I71)+(L71-K71)) -> 0.33333333 | T71: =IF(R71-Q71<0,0,R71-Q71) -> 0 | U71: =IF(AND(OR(P71="",Q71=""),OR(R71="",S71="")),0,IF(OR(P71<>ResmiTatil!$H$2,Q71<>ResmiTatil!$I$2,R71<>ResmiTatil!$J$2,S71<>ResmiTatil!$K$2),IF(AND(R71="",S71=""),0,IF(P71<ResmiTatil!$H$2,ResmiTatil!$H$2-P71))+IF(AND(R71="",S71="",OR(P71<ResmiTatil!$H$2,AND(Q71<>ResmiTatil!$J$2,Q71>ResmiTatil!$J$2))),ResmiTatil!$J$2-ResmiTatil!$I$2,IF(OR(R71="",S71=""),0,IF(AND(Q71>ResmiTatil!$I$2,R71<ResmiTatil!$J$2),Q71-ResmiTatil!$I$2)))+IF(AND(Q71<ResmiTatil!$I$2,R71<ResmiTatil!$J$2),ResmiTatil!$J$2-R71)+IF(AND(Q71=ResmiTatil!$I$3,R71=ResmiTatil!$J$3),ResmiTatil!$I$3-ResmiTatil!$I$2,IF(AND(Q71>ResmiTatil!$I$2,R71>ResmiTatil!$J$2),ResmiTatil!$J$2-ResmiTatil!$I$2))+IF(S71>ResmiTatil!$K$2,S71-ResmiTatil!$K$2),0)) -> 0 | V71: =IF((Q71-P71)+(S71-R71)<0,0,(Q71-P71)+(S71-R71)) -> 0 | AA71: =IF(Y71-X71<0,0,Y71-X71) -> 0 | AB71: =IF(AND(OR(W71="",X71=""),OR(Y71="",Z71="")),0,IF(OR(W71<>ResmiTatil!$H$2,X71<>ResmiTatil!$I$2,Y71<>ResmiTatil!$J$2,Z71<>ResmiTatil!$K$2),IF(AND(Y71="",Z71=""),0,IF(W71<ResmiTatil!$H$2,ResmiTatil!$H$2-W71))+IF(AND(Y71="",Z71="",OR(W71<ResmiTatil!$H$2,AND(X71<>ResmiTatil!$J$2,X71>ResmiTatil!$J$2))),ResmiTatil!$J$2-ResmiTatil!$I$2,IF(OR(Y71="",Z71=""),0,IF(AND(X71>ResmiTatil!$I$2,Y71<ResmiTatil!$J$2),X71-ResmiTatil!$I$2)))+IF(AND(X71<ResmiTatil!$I$2,Y71<ResmiTatil!$J$2),ResmiTatil!$J$2-Y71)+IF(AND(X71=ResmiTatil!$I$3,Y71=ResmiTatil!$J$3),ResmiTatil!$I$3-ResmiTatil!$I$2,IF(AND(X71>ResmiTatil!$I$2,Y71>ResmiTatil!$J$2),ResmiTatil!$J$2-ResmiTatil!$I$2))+IF(Z71>ResmiTatil!$K$2,Z71-ResmiTatil!$K$2),0)) -> 0 | AC71: =IF((X71-W71)+(Z71-Y71)<0,0,(X71-W71)+(Z71-Y71)) -> 0 | AH71: =IF(AF71-AE71<0,0,AF71-AE71) -> 0 | AI71: =IF(AND(OR(AD71="",AE71=""),OR(AF71="",AG71="")),0,IF(OR(AD71<>ResmiTatil!$H$2,AE71<>ResmiTatil!$I$2,AF71<>ResmiTatil!$J$2,AG71<>ResmiTatil!$K$2),IF(AND(AF71="",AG71=""),0,IF(AD71<ResmiTatil!$H$2,ResmiTatil!$H$2-AD71))+IF(AND(AF71="",AG71="",OR(AD71<ResmiTatil!$H$2,AND(AE71<>ResmiTatil!$J$2,AE71>ResmiTatil!$J$2))),ResmiTatil!$J$2-ResmiTatil!$I$2,IF(OR(AF71="",AG71=""),0,IF(AND(AE71>ResmiTatil!$I$2,AF71<ResmiTatil!$J$2),AE71-ResmiTatil!$I$2)))+IF(AND(AE71<ResmiTatil!$I$2,AF71<ResmiTatil!$J$2),ResmiTatil!$J$2-AF71)+IF(AND(AE71=ResmiTatil!$I$3,AF71=ResmiTatil!$J$3),ResmiTatil!$I$3-ResmiTatil!$I$2,IF(AND(AE71>ResmiTatil!$I$2,AF71>ResmiTatil!$J$2),ResmiTatil!$J$2-ResmiTatil!$I$2))+IF(AG71>ResmiTatil!$K$2,AG71-ResmiTatil!$K$2),0)) -> 0 | AJ71: =IF((AE71-AD71)+(AG71-AF71)<0,0,(AE71-AD71)+(AG71-AF71)) -> 0
A72: HAFTALIK TOPLAM | G72: =SUM(G67:G71) -> 0.125 | H72: =SUM(H67:H71) -> 1.6666667 | N72: =SUM(N67:N71) -> 0.125 | O72: =SUM(O67:O71) -> 1.6666667 | U72: =SUM(U67:U71) -> 0 | V72: =SUM(V67:V71) -> 0 | AB72: =SUM(AB67:AB71) -> 0 | AC72: =SUM(AC67:AC71) -> 0 | AI72: =SUM(AI67:AI71) -> 0 | AJ72: =SUM(AJ67:AJ71) -> 0
A73: =A71+1 -> 44800
A74: =A73+1 -> 44801
A75: =A74+1 -> 44802 | B75: 0.3125 | C75: 0.52083333 | D75: 0.5625 | E75: 0.6875 | F75: =IF(D75-C75<0,0,D75-C75) -> 0.041666667 | G75: =IF(AND(OR(B75="",C75=""),OR(D75="",E75="")),0,IF(OR(B75<>ResmiTatil!$H$2,C75<>ResmiTatil!$I$2,D75<>ResmiTatil!$J$2,E75<>ResmiTatil!$K$2),IF(AND(D75="",E75=""),0,IF(B75<ResmiTatil!$H$2,ResmiTatil!$H$2-B75))+IF(AND(D75="",E75="",OR(B75<ResmiTatil!$H$2,AND(C75<>ResmiTatil!$J$2,C75>ResmiTatil!$J$2))),ResmiTatil!$J$2-ResmiTatil!$I$2,IF(OR(D75="",E75=""),0,IF(AND(C75>ResmiTatil!$I$2,D75<ResmiTatil!$J$2),C75-ResmiTatil!$I$2)))+IF(AND(C75<ResmiTatil!$I$2,D75<ResmiTatil!$J$2),ResmiTatil!$J$2-D75)+IF(AND(C75=ResmiTatil!$I$3,D75=ResmiTatil!$J$3),ResmiTatil!$I$3-ResmiTatil!$I$2,IF(AND(C75>ResmiTatil!$I$2,D75>ResmiTatil!$J$2),ResmiTatil!$J$2-ResmiTatil!$I$2))+IF(E75>ResmiTatil!$K$2,E75-ResmiTatil!$K$2),0)) -> 0.041666667 | H75: =IF((C75-B75)+(E75-D75)<0,0,(C75-B75)+(E75-D75)) -> 0.33333333 | I75: 0.35416667 | J75: 0.5625 | K75: 0.60416667 | L75: 0.72916667 | M75: =IF(K75-J75<0,0,K75-J75) -> 0.041666667 | N75: =IF(AND(OR(I75="",J75=""),OR(K75="",L75="")),0,IF(OR(I75<>ResmiTatil!$H$2,J75<>ResmiTatil!$I$2,K75<>ResmiTatil!$J$2,L75<>ResmiTatil!$K$2),IF(AND(K75="",L75=""),0,IF(I75<ResmiTatil!$H$2,ResmiTatil!$H$2-I75))+IF(AND(K75="",L75="",OR(I75<ResmiTatil!$H$2,AND(J75<>ResmiTatil!$J$2,J75>ResmiTatil!$J$2))),ResmiTatil!$J$2-ResmiTatil!$I$2,IF(OR(K75="",L75=""),0,IF(AND(J75>ResmiTatil!$I$2,K75<ResmiTatil!$J$2),J75-ResmiTatil!$I$2)))+IF(AND(J75<ResmiTatil!$I$2,K75<ResmiTatil!$J$2),ResmiTatil!$J$2-K75)+IF(AND(J75=ResmiTatil!$I$3,K75=ResmiTatil!$J$3),ResmiTatil!$I$3-ResmiTatil!$I$2,IF(AND(J75>ResmiTatil!$I$2,K75>ResmiTatil!$J$2),ResmiTatil!$J$2-ResmiTatil!$I$2))+IF(L75>ResmiTatil!$K$2,L75-ResmiTatil!$K$2),0)) -> 0.041666667 | O75: =IF((J75-I75)+(L75-K75)<0,0,(J75-I75)+(L75-K75)) -> 0.33333333 | T75: =IF(R75-Q75<0,0,R75-Q75) -> 0 | U75: =IF(AND(OR(P75="",Q75=""),OR(R75="",S75="")),0,IF(OR(P75<>ResmiTatil!$H$2,Q75<>ResmiTatil!$I$2,R75<>ResmiTatil!$J$2,S75<>ResmiTatil!$K$2),IF(AND(R75="",S75=""),0,IF(P75<ResmiTatil!$H$2,ResmiTatil!$H$2-P75))+IF(AND(R75="",S75="",OR(P75<ResmiTatil!$H$2,AND(Q75<>ResmiTatil!$J$2,Q75>ResmiTatil!$J$2))),ResmiTatil!$J$2-ResmiTatil!$I$2,IF(OR(R75="",S75=""),0,IF(AND(Q75>ResmiTatil!$I$2,R75<ResmiTatil!$J$2),Q75-ResmiTatil!$I$2)))+IF(AND(Q75<ResmiTatil!$I$2,R75<ResmiTatil!$J$2),ResmiTatil!$J$2-R75)+IF(AND(Q75=ResmiTatil!$I$3,R75=ResmiTatil!$J$3),ResmiTatil!$I$3-ResmiTatil!$I$2,IF(AND(Q75>ResmiTatil!$I$2,R75>ResmiTatil!$J$2),ResmiTatil!$J$2-ResmiTatil!$I$2))+IF(S75>ResmiTatil!$K$2,S75-ResmiTatil!$K$2),0)) -> 0 | V75: =IF((Q75-P75)+(S75-R75)<0,0,(Q75-P75)+(S75-R75)) -> 0 | AA75: =IF(Y75-X75<0,0,Y75-X75) -> 0 | AB75: =IF(AND(OR(W75="",X75=""),OR(Y75="",Z75="")),0,IF(OR(W75<>ResmiTatil!$H$2,X75<>ResmiTatil!$I$2,Y75<>ResmiTatil!$J$2,Z75<>ResmiTatil!$K$2),IF(AND(Y75="",Z75=""),0,IF(W75<ResmiTatil!$H$2,ResmiTatil!$H$2-W75))+IF(AND(Y75="",Z75="",OR(W75<ResmiTatil!$H$2,AND(X75<>ResmiTatil!$J$2,X75>ResmiTatil!$J$2))),ResmiTatil!$J$2-ResmiTatil!$I$2,IF(OR(Y75="",Z75=""),0,IF(AND(X75>ResmiTatil!$I$2,Y75<ResmiTatil!$J$2),X75-ResmiTatil!$I$2)))+IF(AND(X75<ResmiTatil!$I$2,Y75<ResmiTatil!$J$2),ResmiTatil!$J$2-Y75)+IF(AND(X75=ResmiTatil!$I$3,Y75=ResmiTatil!$J$3),ResmiTatil!$I$3-ResmiTatil!$I$2,IF(AND(X75>ResmiTatil!$I$2,Y75>ResmiTatil!$J$2),ResmiTatil!$J$2-ResmiTatil!$I$2))+IF(Z75>ResmiTatil!$K$2,Z75-ResmiTatil!$K$2),0)) -> 0 | AC75: =IF((X75-W75)+(Z75-Y75)<0,0,(X75-W75)+(Z75-Y75)) -> 0 | AH75: =IF(AF75-AE75<0,0,AF75-AE75) -> 0 | AI75: =IF(AND(OR(AD75="",AE75=""),OR(AF75="",AG75="")),0,IF(OR(AD75<>ResmiTatil!$H$2,AE75<>ResmiTatil!$I$2,AF75<>ResmiTatil!$J$2,AG75<>ResmiTatil!$K$2),IF(AND(AF75="",AG75=""),0,IF(AD75<ResmiTatil!$H$2,ResmiTatil!$H$2-AD75))+IF(AND(AF75="",AG75="",OR(AD75<ResmiTatil!$H$2,AND(AE75<>ResmiTatil!$J$2,AE75>ResmiTatil!$J$2))),ResmiTatil!$J$2-ResmiTatil!$I$2,IF(OR(AF75="",AG75=""),0,IF(AND(AE75>ResmiTatil!$I$2,AF75<ResmiTatil!$J$2),AE75-ResmiTatil!$I$2)))+IF(AND(AE75<ResmiTatil!$I$2,AF75<ResmiTatil!$J$2),ResmiTatil!$J$2-AF75)+IF(AND(AE75=ResmiTatil!$I$3,AF75=ResmiTatil!$J$3),ResmiTatil!$I$3-ResmiTatil!$I$2,IF(AND(AE75>ResmiTatil!$I$2,AF75>ResmiTatil!$J$2),ResmiTatil!$J$2-ResmiTatil!$I$2))+IF(AG75>ResmiTatil!$K$2,AG75-ResmiTatil!$K$2),0)) -> 0 | AJ75: =IF((AE75-AD75)+(AG75-AF75)<0,0,(AE75-AD75)+(AG75-AF75)) -> 0
A76: =A75+1 -> 44803 | F76: =IF(D76-C76<0,0,D76-C76) -> 0 | G76: =IF(AND(OR(B76="",C76=""),OR(D76="",E76="")),0,IF(OR(B76<>ResmiTatil!$H$2,C76<>ResmiTatil!$I$2,D76<>ResmiTatil!$J$2,E76<>ResmiTatil!$K$2),IF(AND(D76="",E76=""),0,IF(B76<ResmiTatil!$H$2,ResmiTatil!$H$2-B76))+IF(AND(D76="",E76="",OR(B76<ResmiTatil!$H$2,AND(C76<>ResmiTatil!$J$2,C76>ResmiTatil!$J$2))),ResmiTatil!$J$2-ResmiTatil!$I$2,IF(OR(D76="",E76=""),0,IF(AND(C76>ResmiTatil!$I$2,D76<ResmiTatil!$J$2),C76-ResmiTatil!$I$2)))+IF(AND(C76<ResmiTatil!$I$2,D76<ResmiTatil!$J$2),ResmiTatil!$J$2-D76)+IF(AND(C76=ResmiTatil!$I$3,D76=ResmiTatil!$J$3),ResmiTatil!$I$3-ResmiTatil!$I$2,IF(AND(C76>ResmiTatil!$I$2,D76>ResmiTatil!$J$2),ResmiTatil!$J$2-ResmiTatil!$I$2))+IF(E76>ResmiTatil!$K$2,E76-ResmiTatil!$K$2),0)) -> 0 | H76: =IF((C76-B76)+(E76-D76)<0,0,(C76-B76)+(E76-D76)) -> 0 | M76: =IF(K76-J76<0,0,K76-J76) -> 0 | N76: =IF(AND(OR(I76="",J76=""),OR(K76="",L76="")),0,IF(OR(I76<>ResmiTatil!$H$2,J76<>ResmiTatil!$I$2,K76<>ResmiTatil!$J$2,L76<>ResmiTatil!$K$2),IF(AND(K76="",L76=""),0,IF(I76<ResmiTatil!$H$2,ResmiTatil!$H$2-I76))+IF(AND(K76="",L76="",OR(I76<ResmiTatil!$H$2,AND(J76<>ResmiTatil!$J$2,J76>ResmiTatil!$J$2))),ResmiTatil!$J$2-ResmiTatil!$I$2,IF(OR(K76="",L76=""),0,IF(AND(J76>ResmiTatil!$I$2,K76<ResmiTatil!$J$2),J76-ResmiTatil!$I$2)))+IF(AND(J76<ResmiTatil!$I$2,K76<ResmiTatil!$J$2),ResmiTatil!$J$2-K76)+IF(AND(J76=ResmiTatil!$I$3,K76=ResmiTatil!$J$3),ResmiTatil!$I$3-ResmiTatil!$I$2,IF(AND(J76>ResmiTatil!$I$2,K76>ResmiTatil!$J$2),ResmiTatil!$J$2-ResmiTatil!$I$2))+IF(L76>ResmiTatil!$K$2,L76-ResmiTatil!$K$2),0)) -> 0 | O76: =IF((J76-I76)+(L76-K76)<0,0,(J76-I76)+(L76-K76)) -> 0 | T76: =IF(R76-Q76<0,0,R76-Q76) -> 0 | U76: =IF(AND(OR(P76="",Q76=""),OR(R76="",S76="")),0,IF(OR(P76<>ResmiTatil!$H$2,Q76<>ResmiTatil!$I$2,R76<>ResmiTatil!$J$2,S76<>ResmiTatil!$K$2),IF(AND(R76="",S76=""),0,IF(P76<ResmiTatil!$H$2,ResmiTatil!$H$2-P76))+IF(AND(R76="",S76="",OR(P76<ResmiTatil!$H$2,AND(Q76<>ResmiTatil!$J$2,Q76>ResmiTatil!$J$2))),ResmiTatil!$J$2-ResmiTatil!$I$2,IF(OR(R76="",S76=""),0,IF(AND(Q76>ResmiTatil!$I$2,R76<ResmiTatil!$J$2),Q76-ResmiTatil!$I$2)))+IF(AND(Q76<ResmiTatil!$I$2,R76<ResmiTatil!$J$2),ResmiTatil!$J$2-R76)+IF(AND(Q76=ResmiTatil!$I$3,R76=ResmiTatil!$J$3),ResmiTatil!$I$3-ResmiTatil!$I$2,IF(AND(Q76>ResmiTatil!$I$2,R76>ResmiTatil!$J$2),ResmiTatil!$J$2-ResmiTatil!$I$2))+IF(S76>ResmiTatil!$K$2,S76-ResmiTatil!$K$2),0)) -> 0 | V76: =IF((Q76-P76)+(S76-R76)<0,0,(Q76-P76)+(S76-R76)) -> 0 | AA76: =IF(Y76-X76<0,0,Y76-X76) -> 0 | AB76: =IF(AND(OR(W76="",X76=""),OR(Y76="",Z76="")),0,IF(OR(W76<>ResmiTatil!$H$2,X76<>ResmiTatil!$I$2,Y76<>ResmiTatil!$J$2,Z76<>ResmiTatil!$K$2),IF(AND(Y76="",Z76=""),0,IF(W76<ResmiTatil!$H$2,ResmiTatil!$H$2-W76))+IF(AND(Y76="",Z76="",OR(W76<ResmiTatil!$H$2,AND(X76<>ResmiTatil!$J$2,X76>ResmiTatil!$J$2))),ResmiTatil!$J$2-ResmiTatil!$I$2,IF(OR(Y76="",Z76=""),0,IF(AND(X76>ResmiTatil!$I$2,Y76<ResmiTatil!$J$2),X76-ResmiTatil!$I$2)))+IF(AND(X76<ResmiTatil!$I$2,Y76<ResmiTatil!$J$2),ResmiTatil!$J$2-Y76)+IF(AND(X76=ResmiTatil!$I$3,Y76=ResmiTatil!$J$3),ResmiTatil!$I$3-ResmiTatil!$I$2,IF(AND(X76>ResmiTatil!$I$2,Y76>ResmiTatil!$J$2),ResmiTatil!$J$2-ResmiTatil!$I$2))+IF(Z76>ResmiTatil!$K$2,Z76-ResmiTatil!$K$2),0)) -> 0 | AC76: =IF((X76-W76)+(Z76-Y76)<0,0,(X76-W76)+(Z76-Y76)) -> 0 | AH76: =IF(AF76-AE76<0,0,AF76-AE76) -> 0 | AI76: =IF(AND(OR(AD76="",AE76=""),OR(AF76="",AG76="")),0,IF(OR(AD76<>ResmiTatil!$H$2,AE76<>ResmiTatil!$I$2,AF76<>ResmiTatil!$J$2,AG76<>ResmiTatil!$K$2),IF(AND(AF76="",AG76=""),0,IF(AD76<ResmiTatil!$H$2,ResmiTatil!$H$2-AD76))+IF(AND(AF76="",AG76="",OR(AD76<ResmiTatil!$H$2,AND(AE76<>ResmiTatil!$J$2,AE76>ResmiTatil!$J$2))),ResmiTatil!$J$2-ResmiTatil!$I$2,IF(OR(AF76="",AG76=""),0,IF(AND(AE76>ResmiTatil!$I$2,AF76<ResmiTatil!$J$2),AE76-ResmiTatil!$I$2)))+IF(AND(AE76<ResmiTatil!$I$2,AF76<ResmiTatil!$J$2),ResmiTatil!$J$2-AF76)+IF(AND(AE76=ResmiTatil!$I$3,AF76=ResmiTatil!$J$3),ResmiTatil!$I$3-ResmiTatil!$I$2,IF(AND(AE76>ResmiTatil!$I$2,AF76>ResmiTatil!$J$2),ResmiTatil!$J$2-ResmiTatil!$I$2))+IF(AG76>ResmiTatil!$K$2,AG76-ResmiTatil!$K$2),0)) -> 0 | AJ76: =IF((AE76-AD76)+(AG76-AF76)<0,0,(AE76-AD76)+(AG76-AF76)) -> 0
A77: =A76+1 -> 44804 | B77: 0.35416667 | C77: 0.52083333 | D77: 0.5625 | E77: 0.72916667 | F77: =IF(D77-C77<0,0,D77-C77) -> 0.041666667 | G77: =IF(AND(OR(B77="",C77=""),OR(D77="",E77="")),0,IF(OR(B77<>ResmiTatil!$H$2,C77<>ResmiTatil!$I$2,D77<>ResmiTatil!$J$2,E77<>ResmiTatil!$K$2),IF(AND(D77="",E77=""),0,IF(B77<ResmiTatil!$H$2,ResmiTatil!$H$2-B77))+IF(AND(D77="",E77="",OR(B77<ResmiTatil!$H$2,AND(C77<>ResmiTatil!$J$2,C77>ResmiTatil!$J$2))),ResmiTatil!$J$2-ResmiTatil!$I$2,IF(OR(D77="",E77=""),0,IF(AND(C77>ResmiTatil!$I$2,D77<ResmiTatil!$J$2),C77-ResmiTatil!$I$2)))+IF(AND(C77<ResmiTatil!$I$2,D77<ResmiTatil!$J$2),ResmiTatil!$J$2-D77)+IF(AND(C77=ResmiTatil!$I$3,D77=ResmiTatil!$J$3),ResmiTatil!$I$3-ResmiTatil!$I$2,IF(AND(C77>ResmiTatil!$I$2,D77>ResmiTatil!$J$2),ResmiTatil!$J$2-ResmiTatil!$I$2))+IF(E77>ResmiTatil!$K$2,E77-ResmiTatil!$K$2),0)) -> 2.1649349e-14 | H77: =IF((C77-B77)+(E77-D77)<0,0,(C77-B77)+(E77-D77)) -> 0.33333333 | I77: 0.35416667 | J77: 0.5625 | K77: 0.60416667 | L77: 0.72916667 | M77: =IF(K77-J77<0,0,K77-J77) -> 0.041666667 | N77: =IF(AND(OR(I77="",J77=""),OR(K77="",L77="")),0,IF(OR(I77<>ResmiTatil!$H$2,J77<>ResmiTatil!$I$2,K77<>ResmiTatil!$J$2,L77<>ResmiTatil!$K$2),IF(AND(K77="",L77=""),0,IF(I77<ResmiTatil!$H$2,ResmiTatil!$H$2-I77))+IF(AND(K77="",L77="",OR(I77<ResmiTatil!$H$2,AND(J77<>ResmiTatil!$J$2,J77>ResmiTatil!$J$2))),ResmiTatil!$J$2-ResmiTatil!$I$2,IF(OR(K77="",L77=""),0,IF(AND(J77>ResmiTatil!$I$2,K77<ResmiTatil!$J$2),J77-ResmiTatil!$I$2)))+IF(AND(J77<ResmiTatil!$I$2,K77<ResmiTatil!$J$2),ResmiTatil!$J$2-K77)+IF(AND(J77=ResmiTatil!$I$3,K77=ResmiTatil!$J$3),ResmiTatil!$I$3-ResmiTatil!$I$2,IF(AND(J77>ResmiTatil!$I$2,K77>ResmiTatil!$J$2),ResmiTatil!$J$2-ResmiTatil!$I$2))+IF(L77>ResmiTatil!$K$2,L77-ResmiTatil!$K$2),0)) -> 0.041666667 | O77: =IF((J77-I77)+(L77-K77)<0,0,(J77-I77)+(L77-K77)) -> 0.33333333 | T77: =IF(R77-Q77<0,0,R77-Q77) -> 0 | U77: =IF(AND(OR(P77="",Q77=""),OR(R77="",S77="")),0,IF(OR(P77<>ResmiTatil!$H$2,Q77<>ResmiTatil!$I$2,R77<>ResmiTatil!$J$2,S77<>ResmiTatil!$K$2),IF(AND(R77="",S77=""),0,IF(P77<ResmiTatil!$H$2,ResmiTatil!$H$2-P77))+IF(AND(R77="",S77="",OR(P77<ResmiTatil!$H$2,AND(Q77<>ResmiTatil!$J$2,Q77>ResmiTatil!$J$2))),ResmiTatil!$J$2-ResmiTatil!$I$2,IF(OR(R77="",S77=""),0,IF(AND(Q77>ResmiTatil!$I$2,R77<ResmiTatil!$J$2),Q77-ResmiTatil!$I$2)))+IF(AND(Q77<ResmiTatil!$I$2,R77<ResmiTatil!$J$2),ResmiTatil!$J$2-R77)+IF(AND(Q77=ResmiTatil!$I$3,R77=ResmiTatil!$J$3),ResmiTatil!$I$3-ResmiTatil!$I$2,IF(AND(Q77>ResmiTatil!$I$2,R77>ResmiTatil!$J$2),ResmiTatil!$J$2-ResmiTatil!$I$2))+IF(S77>ResmiTatil!$K$2,S77-ResmiTatil!$K$2),0)) -> 0 | V77: =IF((Q77-P77)+(S77-R77)<0,0,(Q77-P77)+(S77-R77)) -> 0 | AA77: =IF(Y77-X77<0,0,Y77-X77) -> 0 | AB77: =IF(AND(OR(W77="",X77=""),OR(Y77="",Z77="")),0,IF(OR(W77<>ResmiTatil!$H$2,X77<>ResmiTatil!$I$2,Y77<>ResmiTatil!$J$2,Z77<>ResmiTatil!$K$2),IF(AND(Y77="",Z77=""),0,IF(W77<ResmiTatil!$H$2,ResmiTatil!$H$2-W77))+IF(AND(Y77="",Z77="",OR(W77<ResmiTatil!$H$2,AND(X77<>ResmiTatil!$J$2,X77>ResmiTatil!$J$2))),ResmiTatil!$J$2-ResmiTatil!$I$2,IF(OR(Y77="",Z77=""),0,IF(AND(X77>ResmiTatil!$I$2,Y77<ResmiTatil!$J$2),X77-ResmiTatil!$I$2)))+IF(AND(X77<ResmiTatil!$I$2,Y77<ResmiTatil!$J$2),ResmiTatil!$J$2-Y77)+IF(AND(X77=ResmiTatil!$I$3,Y77=ResmiTatil!$J$3),ResmiTatil!$I$3-ResmiTatil!$I$2,IF(AND(X77>ResmiTatil!$I$2,Y77>ResmiTatil!$J$2),ResmiTatil!$J$2-ResmiTatil!$I$2))+IF(Z77>ResmiTatil!$K$2,Z77-ResmiTatil!$K$2),0)) -> 0 | AC77: =IF((X77-W77)+(Z77-Y77)<0,0,(X77-W77)+(Z77-Y77)) -> 0 | AH77: =IF(AF77-AE77<0,0,AF77-AE77) -> 0 | AI77: =IF(AND(OR(AD77="",AE77=""),OR(AF77="",AG77="")),0,IF(OR(AD77<>ResmiTatil!$H$2,AE77<>ResmiTatil!$I$2,AF77<>ResmiTatil!$J$2,AG77<>ResmiTatil!$K$2),IF(AND(AF77="",AG77=""),0,IF(AD77<ResmiTatil!$H$2,ResmiTatil!$H$2-AD77))+IF(AND(AF77="",AG77="",OR(AD77<ResmiTatil!$H$2,AND(AE77<>ResmiTatil!$J$2,AE77>ResmiTatil!$J$2))),ResmiTatil!$J$2-ResmiTatil!$I$2,IF(OR(AF77="",AG77=""),0,IF(AND(AE77>ResmiTatil!$I$2,AF77<ResmiTatil!$J$2),AE77-ResmiTatil!$I$2)))+IF(AND(AE77<ResmiTatil!$I$2,AF77<ResmiTatil!$J$2),ResmiTatil!$J$2-AF77)+IF(AND(AE77=ResmiTatil!$I$3,AF77=ResmiTatil!$J$3),ResmiTatil!$I$3-ResmiTatil!$I$2,IF(AND(AE77>ResmiTatil!$I$2,AF77>ResmiTatil!$J$2),ResmiTatil!$J$2-ResmiTatil!$I$2))+IF(AG77>ResmiTatil!$K$2,AG77-ResmiTatil!$K$2),0)) -> 0 | AJ77: =IF((AE77-AD77)+(AG77-AF77)<0,0,(AE77-AD77)+(AG77-AF77)) -> 0
A78: =A77+1 -> 44805 | B78: 0.35416667 | C78: 0.5625 | D78: 0.60416667 | E78: 0.72916667 | F78: =IF(D78-C78<0,0,D78-C78) -> 0.041666667 | G78: =IF(AND(OR(B78="",C78=""),OR(D78="",E78="")),0,IF(OR(B78<>ResmiTatil!$H$2,C78<>ResmiTatil!$I$2,D78<>ResmiTatil!$J$2,E78<>ResmiTatil!$K$2),IF(AND(D78="",E78=""),0,IF(B78<ResmiTatil!$H$2,ResmiTatil!$H$2-B78))+IF(AND(D78="",E78="",OR(B78<ResmiTatil!$H$2,AND(C78<>ResmiTatil!$J$2,C78>ResmiTatil!$J$2))),ResmiTatil!$J$2-ResmiTatil!$I$2,IF(OR(D78="",E78=""),0,IF(AND(C78>ResmiTatil!$I$2,D78<ResmiTatil!$J$2),C78-ResmiTatil!$I$2)))+IF(AND(C78<ResmiTatil!$I$2,D78<ResmiTatil!$J$2),ResmiTatil!$J$2-D78)+IF(AND(C78=ResmiTatil!$I$3,D78=ResmiTatil!$J$3),ResmiTatil!$I$3-ResmiTatil!$I$2,IF(AND(C78>ResmiTatil!$I$2,D78>ResmiTatil!$J$2),ResmiTatil!$J$2-ResmiTatil!$I$2))+IF(E78>ResmiTatil!$K$2,E78-ResmiTatil!$K$2),0)) -> 0.041666667 | H78: =IF((C78-B78)+(E78-D78)<0,0,(C78-B78)+(E78-D78)) -> 0.33333333 | I78: 0.35416667 | J78: 0.52083333 | K78: 0.5625 | L78: 0.72916667 | M78: =IF(K78-J78<0,0,K78-J78) -> 0.041666667 | N78: =IF(AND(OR(I78="",J78=""),OR(K78="",L78="")),0,IF(OR(I78<>ResmiTatil!$H$2,J78<>ResmiTatil!$I$2,K78<>ResmiTatil!$J$2,L78<>ResmiTatil!$K$2),IF(AND(K78="",L78=""),0,IF(I78<ResmiTatil!$H$2,ResmiTatil!$H$2-I78))+IF(AND(K78="",L78="",OR(I78<ResmiTatil!$H$2,AND(J78<>ResmiTatil!$J$2,J78>ResmiTatil!$J$2))),ResmiTatil!$J$2-ResmiTatil!$I$2,IF(OR(K78="",L78=""),0,IF(AND(J78>ResmiTatil!$I$2,K78<ResmiTatil!$J$2),J78-ResmiTatil!$I$2)))+IF(AND(J78<ResmiTatil!$I$2,K78<ResmiTatil!$J$2),ResmiTatil!$J$2-K78)+IF(AND(J78=ResmiTatil!$I$3,K78=ResmiTatil!$J$3),ResmiTatil!$I$3-ResmiTatil!$I$2,IF(AND(J78>ResmiTatil!$I$2,K78>ResmiTatil!$J$2),ResmiTatil!$J$2-ResmiTatil!$I$2))+IF(L78>ResmiTatil!$K$2,L78-ResmiTatil!$K$2),0)) -> 2.1649349e-14 | O78: =IF((J78-I78)+(L78-K78)<0,0,(J78-I78)+(L78-K78)) -> 0.33333333 | T78: =IF(R78-Q78<0,0,R78-Q78) -> 0 | U78: =IF(AND(OR(P78="",Q78=""),OR(R78="",S78="")),0,IF(OR(P78<>ResmiTatil!$H$2,Q78<>ResmiTatil!$I$2,R78<>ResmiTatil!$J$2,S78<>ResmiTatil!$K$2),IF(AND(R78="",S78=""),0,IF(P78<ResmiTatil!$H$2,ResmiTatil!$H$2-P78))+IF(AND(R78="",S78="",OR(P78<ResmiTatil!$H$2,AND(Q78<>ResmiTatil!$J$2,Q78>ResmiTatil!$J$2))),ResmiTatil!$J$2-ResmiTatil!$I$2,IF(OR(R78="",S78=""),0,IF(AND(Q78>ResmiTatil!$I$2,R78<ResmiTatil!$J$2),Q78-ResmiTatil!$I$2)))+IF(AND(Q78<ResmiTatil!$I$2,R78<ResmiTatil!$J$2),ResmiTatil!$J$2-R78)+IF(AND(Q78=ResmiTatil!$I$3,R78=ResmiTatil!$J$3),ResmiTatil!$I$3-ResmiTatil!$I$2,IF(AND(Q78>ResmiTatil!$I$2,R78>ResmiTatil!$J$2),ResmiTatil!$J$2-ResmiTatil!$I$2))+IF(S78>ResmiTatil!$K$2,S78-ResmiTatil!$K$2),0)) -> 0 | V78: =IF((Q78-P78)+(S78-R78)<0,0,(Q78-P78)+(S78-R78)) -> 0 | AA78: =IF(Y78-X78<0,0,Y78-X78) -> 0 | AB78: =IF(AND(OR(W78="",X78=""),OR(Y78="",Z78="")),0,IF(OR(W78<>ResmiTatil!$H$2,X78<>ResmiTatil!$I$2,Y78<>ResmiTatil!$J$2,Z78<>ResmiTatil!$K$2),IF(AND(Y78="",Z78=""),0,IF(W78<ResmiTatil!$H$2,ResmiTatil!$H$2-W78))+IF(AND(Y78="",Z78="",OR(W78<ResmiTatil!$H$2,AND(X78<>ResmiTatil!$J$2,X78>ResmiTatil!$J$2))),ResmiTatil!$J$2-ResmiTatil!$I$2,IF(OR(Y78="",Z78=""),0,IF(AND(X78>ResmiTatil!$I$2,Y78<ResmiTatil!$J$2),X78-ResmiTatil!$I$2)))+IF(AND(X78<ResmiTatil!$I$2,Y78<ResmiTatil!$J$2),ResmiTatil!$J$2-Y78)+IF(AND(X78=ResmiTatil!$I$3,Y78=ResmiTatil!$J$3),ResmiTatil!$I$3-ResmiTatil!$I$2,IF(AND(X78>ResmiTatil!$I$2,Y78>ResmiTatil!$J$2),ResmiTatil!$J$2-ResmiTatil!$I$2))+IF(Z78>ResmiTatil!$K$2,Z78-ResmiTatil!$K$2),0)) -> 0 | AC78: =IF((X78-W78)+(Z78-Y78)<0,0,(X78-W78)+(Z78-Y78)) -> 0 | AH78: =IF(AF78-AE78<0,0,AF78-AE78) -> 0 | AI78: =IF(AND(OR(AD78="",AE78=""),OR(AF78="",AG78="")),0,IF(OR(AD78<>ResmiTatil!$H$2,AE78<>ResmiTatil!$I$2,AF78<>ResmiTatil!$J$2,AG78<>ResmiTatil!$K$2),IF(AND(AF78="",AG78=""),0,IF(AD78<ResmiTatil!$H$2,ResmiTatil!$H$2-AD78))+IF(AND(AF78="",AG78="",OR(AD78<ResmiTatil!$H$2,AND(AE78<>ResmiTatil!$J$2,AE78>ResmiTatil!$J$2))),ResmiTatil!$J$2-ResmiTatil!$I$2,IF(OR(AF78="",AG78=""),0,IF(AND(AE78>ResmiTatil!$I$2,AF78<ResmiTatil!$J$2),AE78-ResmiTatil!$I$2)))+IF(AND(AE78<ResmiTatil!$I$2,AF78<ResmiTatil!$J$2),ResmiTatil!$J$2-AF78)+IF(AND(AE78=ResmiTatil!$I$3,AF78=ResmiTatil!$J$3),ResmiTatil!$I$3-ResmiTatil!$I$2,IF(AND(AE78>ResmiTatil!$I$2,AF78>ResmiTatil!$J$2),ResmiTatil!$J$2-ResmiTatil!$I$2))+IF(AG78>ResmiTatil!$K$2,AG78-ResmiTatil!$K$2),0)) -> 0 | AJ78: =IF((AE78-AD78)+(AG78-AF78)<0,0,(AE78-AD78)+(AG78-AF78)) -> 0
A79: =A78+1 -> 44806 | B79: 0.3125 | C79: 0.52083333 | D79: 0.5625 | E79: 0.6875 | F79: =IF(D79-C79<0,0,D79-C79) -> 0.041666667 | G79: =IF(AND(OR(B79="",C79=""),OR(D79="",E79="")),0,IF(OR(B79<>ResmiTatil!$H$2,C79<>ResmiTatil!$I$2,D79<>ResmiTatil!$J$2,E79<>ResmiTatil!$K$2),IF(AND(D79="",E79=""),0,IF(B79<ResmiTatil!$H$2,ResmiTatil!$H$2-B79))+IF(AND(D79="",E79="",OR(B79<ResmiTatil!$H$2,AND(C79<>ResmiTatil!$J$2,C79>ResmiTatil!$J$2))),ResmiTatil!$J$2-ResmiTatil!$I$2,IF(OR(D79="",E79=""),0,IF(AND(C79>ResmiTatil!$I$2,D79<ResmiTatil!$J$2),C79-ResmiTatil!$I$2)))+IF(AND(C79<ResmiTatil!$I$2,D79<ResmiTatil!$J$2),ResmiTatil!$J$2-D79)+IF(AND(C79=ResmiTatil!$I$3,D79=ResmiTatil!$J$3),ResmiTatil!$I$3-ResmiTatil!$I$2,IF(AND(C79>ResmiTatil!$I$2,D79>ResmiTatil!$J$2),ResmiTatil!$J$2-ResmiTatil!$I$2))+IF(E79>ResmiTatil!$K$2,E79-ResmiTatil!$K$2),0)) -> 0.041666667 | H79: =IF((C79-B79)+(E79-D79)<0,0,(C79-B79)+(E79-D79)) -> 0.33333333 | I79: 0.35416667 | J79: 0.5625 | K79: 0.60416667 | L79: 0.72916667 | M79: =IF(K79-J79<0,0,K79-J79) -> 0.041666667 | N79: =IF(AND(OR(I79="",J79=""),OR(K79="",L79="")),0,IF(OR(I79<>ResmiTatil!$H$2,J79<>ResmiTatil!$I$2,K79<>ResmiTatil!$J$2,L79<>ResmiTatil!$K$2),IF(AND(K79="",L79=""),0,IF(I79<ResmiTatil!$H$2,ResmiTatil!$H$2-I79))+IF(AND(K79="",L79="",OR(I79<ResmiTatil!$H$2,AND(J79<>ResmiTatil!$J$2,J79>ResmiTatil!$J$2))),ResmiTatil!$J$2-ResmiTatil!$I$2,IF(OR(K79="",L79=""),0,IF(AND(J79>ResmiTatil!$I$2,K79<ResmiTatil!$J$2),J79-ResmiTatil!$I$2)))+IF(AND(J79<ResmiTatil!$I$2,K79<ResmiTatil!$J$2),ResmiTatil!$J$2-K79)+IF(AND(J79=ResmiTatil!$I$3,K79=ResmiTatil!$J$3),ResmiTatil!$I$3-ResmiTatil!$I$2,IF(AND(J79>ResmiTatil!$I$2,K79>ResmiTatil!$J$2),ResmiTatil!$J$2-ResmiTatil!$I$2))+IF(L79>ResmiTatil!$K$2,L79-ResmiTatil!$K$2),0)) -> 0.041666667 | O79: =IF((J79-I79)+(L79-K79)<0,0,(J79-I79)+(L79-K79)) -> 0.33333333 | T79: =IF(R79-Q79<0,0,R79-Q79) -> 0 | U79: =IF(AND(OR(P79="",Q79=""),OR(R79="",S79="")),0,IF(OR(P79<>ResmiTatil!$H$2,Q79<>ResmiTatil!$I$2,R79<>ResmiTatil!$J$2,S79<>ResmiTatil!$K$2),IF(AND(R79="",S79=""),0,IF(P79<ResmiTatil!$H$2,ResmiTatil!$H$2-P79))+IF(AND(R79="",S79="",OR(P79<ResmiTatil!$H$2,AND(Q79<>ResmiTatil!$J$2,Q79>ResmiTatil!$J$2))),ResmiTatil!$J$2-ResmiTatil!$I$2,IF(OR(R79="",S79=""),0,IF(AND(Q79>ResmiTatil!$I$2,R79<ResmiTatil!$J$2),Q79-ResmiTatil!$I$2)))+IF(AND(Q79<ResmiTatil!$I$2,R79<ResmiTatil!$J$2),ResmiTatil!$J$2-R79)+IF(AND(Q79=ResmiTatil!$I$3,R79=ResmiTatil!$J$3),ResmiTatil!$I$3-ResmiTatil!$I$2,IF(AND(Q79>ResmiTatil!$I$2,R79>ResmiTatil!$J$2),ResmiTatil!$J$2-ResmiTatil!$I$2))+IF(S79>ResmiTatil!$K$2,S79-ResmiTatil!$K$2),0)) -> 0 | V79: =IF((Q79-P79)+(S79-R79)<0,0,(Q79-P79)+(S79-R79)) -> 0 | AA79: =IF(Y79-X79<0,0,Y79-X79) -> 0 | AB79: =IF(AND(OR(W79="",X79=""),OR(Y79="",Z79="")),0,IF(OR(W79<>ResmiTatil!$H$2,X79<>ResmiTatil!$I$2,Y79<>ResmiTatil!$J$2,Z79<>ResmiTatil!$K$2),IF(AND(Y79="",Z79=""),0,IF(W79<ResmiTatil!$H$2,ResmiTatil!$H$2-W79))+IF(AND(Y79="",Z79="",OR(W79<ResmiTatil!$H$2,AND(X79<>ResmiTatil!$J$2,X79>ResmiTatil!$J$2))),ResmiTatil!$J$2-ResmiTatil!$I$2,IF(OR(Y79="",Z79=""),0,IF(AND(X79>ResmiTatil!$I$2,Y79<ResmiTatil!$J$2),X79-ResmiTatil!$I$2)))+IF(AND(X79<ResmiTatil!$I$2,Y79<ResmiTatil!$J$2),ResmiTatil!$J$2-Y79)+IF(AND(X79=ResmiTatil!$I$3,Y79=ResmiTatil!$J$3),ResmiTatil!$I$3-ResmiTatil!$I$2,IF(AND(X79>ResmiTatil!$I$2,Y79>ResmiTatil!$J$2),ResmiTatil!$J$2-ResmiTatil!$I$2))+IF(Z79>ResmiTatil!$K$2,Z79-ResmiTatil!$K$2),0)) -> 0 | AC79: =IF((X79-W79)+(Z79-Y79)<0,0,(X79-W79)+(Z79-Y79)) -> 0 | AH79: =IF(AF79-AE79<0,0,AF79-AE79) -> 0 | AI79: =IF(AND(OR(AD79="",AE79=""),OR(AF79="",AG79="")),0,IF(OR(AD79<>ResmiTatil!$H$2,AE79<>ResmiTatil!$I$2,AF79<>ResmiTatil!$J$2,AG79<>ResmiTatil!$K$2),IF(AND(AF79="",AG79=""),0,IF(AD79<ResmiTatil!$H$2,ResmiTatil!$H$2-AD79))+IF(AND(AF79="",AG79="",OR(AD79<ResmiTatil!$H$2,AND(AE79<>ResmiTatil!$J$2,AE79>ResmiTatil!$J$2))),ResmiTatil!$J$2-ResmiTatil!$I$2,IF(OR(AF79="",AG79=""),0,IF(AND(AE79>ResmiTatil!$I$2,AF79<ResmiTatil!$J$2),AE79-ResmiTatil!$I$2)))+IF(AND(AE79<ResmiTatil!$I$2,AF79<ResmiTatil!$J$2),ResmiTatil!$J$2-AF79)+IF(AND(AE79=ResmiTatil!$I$3,AF79=ResmiTatil!$J$3),ResmiTatil!$I$3-ResmiTatil!$I$2,IF(AND(AE79>ResmiTatil!$I$2,AF79>ResmiTatil!$J$2),ResmiTatil!$J$2-ResmiTatil!$I$2))+IF(AG79>ResmiTatil!$K$2,AG79-ResmiTatil!$K$2),0)) -> 0 | AJ79: =IF((AE79-AD79)+(AG79-AF79)<0,0,(AE79-AD79)+(AG79-AF79)) -> 0
A80: HAFTALIK TOPLAM | G80: =SUM(G75:G79) -> 0.125 | H80: =SUM(H75:H79) -> 1.3333333 | N80: =SUM(N75:N79) -> 0.125 | O80: =SUM(O75:O79) -> 1.3333333 | U80: =SUM(U75:U79) -> 0 | V80: =SUM(V75:V79) -> 0 | AB80: =SUM(AB75:AB79) -> 0 | AC80: =SUM(AC75:AC79) -> 0 | AI80: =SUM(AI75:AI79) -> 0 | AJ80: =SUM(AJ75:AJ79) -> 0
A81: =A79+1 -> 44807
A82: =A81+1 -> 44808
