Workbook

Sheet 1.Sayfa
A1: AİT OLDUĞU YIL | B1: 2022 | AN1: Tarih | AO1: Açıklama | AR1: Tarih | AS1: Açıklama | AU1: Sabah Baş. | AV1: Sabah Bitiş | AW1: Öğlen Baş. | AX1: Öğlen Bitiş | AZ1: 0.29166667
A2: AİT OLDUĞU AY | B2: Temmuz-Ağustos-Eylül-Ekim-Kasım-Aralık | AN2: 43831 | AO2: Yıl Başı | AR2: 44132 | AS2: Cumhuriyet Bayramı Arefe | AU2: 0.33333333 | AV2: 0.5 | AW2: 0.54166667 | AX2: 0.70833333 | AZ2: 0.30208333
A3: ASM ADI | B3: Yahyalı 3 Nolu Delialiuşağı ASM | AN3: 43952 | AO3: İşçi Bayramı | AZ3: 0.3125
A4: ASM Açılış Saati | B4: 08:30:00(Pazartesi 07:30) | AN4: 43970 | AO4: 19 Mayıs | AZ4: 0.32291667
A5: ASM Kapalış Saati | B5: 0.72916667 | AN5: 44133 | AO5: Cumhuriyet Bayramı | AZ5: 0.33333333
A6: ASM Toplam Açık Olduğu Saat | B6: 40 | AN6: 44197 | AO6: Yıl Başı | AZ6: 0.34375
A7: NOTLAR | AN7: 44309 | AZ7: 0.35416667
B8: Dr. Enes UZUN | I8: Dr. Adem ÇAY | AZ8: 0.36458333
B9: Hemşire Haticenur KEMİK | I9: Hemşire Mustafa Haluk DEMİR | AZ9: 0.375
B10: SABAH BAŞ. | C10: SABAH BİT. | D10: ÖĞLEN BAŞ. | E10: ÖĞLEN BİT. | F10: MOLA SÜRESİ | G10: ESNEK ÇALIŞMA SAATİ | H10: TOPLAM SAAT | I10: SABAH BAŞ. | J10: SABAH BİT. | K10: ÖĞLEN BAŞ. | L10: ÖĞLEN BİT. | M10: MOLA SÜRESİ | N10: ESNEK ÇALIŞMA SAATİ | O10: TOPLAM SAAT | P10: SABAH BAŞ. | Q10: SABAH BİT. | R10: ÖĞLEN BAŞ. | S10: ÖĞLEN BİT. | T10: MOLA SÜRESİ | U10: ESNEK ÇALIŞMA SAATİ | V10: TOPLAM SAAT | W10: SABAH BAŞ. | X10: SABAH BİT. | Y10: ÖĞLEN BAŞ. | Z10: ÖĞLEN BİT. | AA10: MOLA SÜRESİ | AB10: ESNEK ÇALIŞMA SAATİ | AC10: TOPLAM SAAT | AD10: SABAH BAŞ. | AE10: SABAH BİT. | AF10: ÖĞLEN BAŞ. | AG10: ÖĞLEN BİT. | AH10: MOLA SÜRESİ | AI10: ESNEK ÇALIŞMA SAATİ | AJ10: TOPLAM SAAT | AZ10: 0.38541667
A11: 44746 | B11: 0.3125 | C11: 0.52083333 | D11: 0.5625 | E11: 0.6875 | F11: =IF(D11-C11<0,0,D11-C11) -> 0.041666667 | G11: =IF(AND(OR(B11="",C11=""),OR(D11="",E11="")),0,IF(OR(B11<>ResmiTatil!$H$2,C11<>ResmiTatil!$I$2,D11<>ResmiTatil!$J$2,E11<>ResmiTatil!$K$2),IF(AND(D11="",E11=""),0,IF(B11<ResmiTatil!$H$2,ResmiTatil!$H$2-B11))+IF(AND(D11="",E11="",OR(B11<ResmiTatil!$H$2,AND(C11<>ResmiTatil!$J$2,C11>ResmiTatil!$J$2))),ResmiTatil!$J$2-ResmiTatil!$I$2,IF(OR(D11="",E11=""),0,IF(AND(C11>ResmiTatil!$I$2,D11<ResmiTatil!$J$2),C11-ResmiTatil!$I$2)))+IF(AND(C11<ResmiTatil!$I$2,D11<ResmiTatil!$J$2),ResmiTatil!$J$2-D11)+IF(AND(C11=ResmiTatil!$I$3,D11=ResmiTatil!$J$3),ResmiTatil!$I$3-ResmiTatil!$I$2,IF(AND(C11>ResmiTatil!$I$2,D11>ResmiTatil!$J$2),ResmiTatil!$J$2-ResmiTatil!$I$2))+IF(E11>ResmiTatil!$K$2,E11-ResmiTatil!$K$2),0)) -> 0.041666667 | H11: =IF((C11-B11)+(E11-D11)<0,0,(C11-B11)+(E11-D11)) -> 0.33333333 | I11: 0.35416667 | J11: 0.5625 | K11: 0.60416667 | L11: 0.72916667 | M11: =IF(K11-J11<0,0,K11-J11) -> 0.041666667 | N11: =IF(AND(OR(I11="",J11=""),OR(K11="",L11="")),0,IF(OR(I11<>ResmiTatil!$H$2,J11<>ResmiTatil!$I$2,K11<>ResmiTatil!$J$2,L11<>ResmiTatil!$K$2),IF(AND(K11="",L11=""),0,IF(I11<ResmiTatil!$H$2,ResmiTatil!$H$2-I11))+IF(AND(K11="",L11="",OR(I11<ResmiTatil!$H$2,AND(J11<>ResmiTatil!$J$2,J11>ResmiTatil!$J$2))),ResmiTatil!$J$2-ResmiTatil!$I$2,IF(OR(K11="",L11=""),0,IF(AND(J11>ResmiTatil!$I$2,K11<ResmiTatil!$J$2),J11-ResmiTatil!$I$2)))+IF(AND(J11<ResmiTatil!$I$2,K11<ResmiTatil!$J$2),ResmiTatil!$J$2-K11)+IF(AND(J11=ResmiTatil!$I$3,K11=ResmiTatil!$J$3),ResmiTatil!$I$3-ResmiTatil!$I$2,IF(AND(J11>ResmiTatil!$I$2,K11>ResmiTatil!$J$2),ResmiTatil!$J$2-ResmiTatil!$I$2))+IF(L11>ResmiTatil!$K$2,L11-ResmiTatil!$K$2),0)) -> 0.041666667 | O11: =IF((J11-I11)+(L11-K11)<0,0,(J11-I11)+(L11-K11)) -> 0.33333333 | T11: =IF(R11-Q11<0,0,R11-Q11) -> 0 | U11: =IF(AND(OR(P11="",Q11=""),OR(R11="",S11="")),0,IF(OR(P11<>ResmiTatil!$H$2,Q11<>ResmiTatil!$I$2,R11<>ResmiTatil!$J$2,S11<>ResmiTatil!$K$2),IF(AND(R11="",S11=""),0,IF(P11<ResmiTatil!$H$2,ResmiTatil!$H$2-P11))+IF(AND(R11="",S11="",OR(P11<ResmiTatil!$H$2,AND(Q11<>ResmiTatil!$J$2,Q11>ResmiTatil!$J$2))),ResmiTatil!$J$2-ResmiTatil!$I$2,IF(OR(R11="",S11=""),0,IF(AND(Q11>ResmiTatil!$I$2,R11<ResmiTatil!$J$2),Q11-ResmiTatil!$I$2)))+IF(AND(Q11<ResmiTatil!$I$2,R11<ResmiTatil!$J$2),ResmiTatil!$J$2-R11)+IF(AND(Q11=ResmiTatil!$I$3,R11=ResmiTatil!$J$3),ResmiTatil!$I$3-ResmiTatil!$I$2,IF(AND(Q11>ResmiTatil!$I$2,R11>ResmiTatil!$J$2),ResmiTatil!$J$2-ResmiTatil!$I$2))+IF(S11>ResmiTatil!$K$2,S11-ResmiTatil!$K$2),0)) -> 0 | V11: =IF((Q11-P11)+(S11-R11)<0,0,(Q11-P11)+(S11-R11)) -> 0 | AA11: =IF(Y11-X11<0,0,Y11-X11) -> 0 | AB11: =IF(AND(OR(W11="",X11=""),OR(Y11="",Z11="")),0,IF(OR(W11<>ResmiTatil!$H$2,X11<>ResmiTatil!$I$2,Y11<>ResmiTatil!$J$2,Z11<>ResmiTatil!$K$2),IF(AND(Y11="",Z11=""),0,IF(W11<ResmiTatil!$H$2,ResmiTatil!$H$2-W11))+IF(AND(Y11="",Z11="",OR(W11<ResmiTatil!$H$2,AND(X11<>ResmiTatil!$J$2,X11>ResmiTatil!$J$2))),ResmiTatil!$J$2-ResmiTatil!$I$2,IF(OR(Y11="",Z11=""),0,IF(AND(X11>ResmiTatil!$I$2,Y11<ResmiTatil!$J$2),X11-ResmiTatil!$I$2)))+IF(AND(X11<ResmiTatil!$I$2,Y11<ResmiTatil!$J$2),ResmiTatil!$J$2-Y11)+IF(AND(X11=ResmiTatil!$I$3,Y11=ResmiTatil!$J$3),ResmiTatil!$I$3-ResmiTatil!$I$2,IF(AND(X11>ResmiTatil!$I$2,Y11>ResmiTatil!$J$2),ResmiTatil!$J$2-ResmiTatil!$I$2))+IF(Z11>ResmiTatil!$K$2,Z11-ResmiTatil!$K$2),0)) -> 0 | AC11: =IF((X11-W11)+(Z11-Y11)<0,0,(X11-W11)+(Z11-Y11)) -> 0 | AH11: =IF(AF11-AE11<0,0,AF11-AE11) -> 0 | AI11: =IF(AND(OR(AD11="",AE11=""),OR(AF11="",AG11="")),0,IF(OR(AD11<>ResmiTatil!$H$2,AE11<>ResmiTatil!$I$2,AF11<>ResmiTatil!$J$2,AG11<>ResmiTatil!$K$2),IF(AND(AF11="",AG11=""),0,IF(AD11<ResmiTatil!$H$2,ResmiTatil!$H$2-AD11))+IF(AND(AF11="",AG11="",OR(AD11<ResmiTatil!$H$2,AND(AE11<>ResmiTatil!$J$2,AE11>ResmiTatil!$J$2))),ResmiTatil!$J$2-ResmiTatil!$I$2,IF(OR(AF11="",AG11=""),0,IF(AND(AE11>ResmiTatil!$I$2,AF11<ResmiTatil!$J$2),AE11-ResmiTatil!$I$2)))+IF(AND(AE11<ResmiTatil!$I$2,AF11<ResmiTatil!$J$2),ResmiTatil!$J$2-AF11)+IF(AND(AE11=ResmiTatil!$I$3,AF11=ResmiTatil!$J$3),ResmiTatil!$I$3-ResmiTatil!$I$2,IF(AND(AE11>ResmiTatil!$I$2,AF11>ResmiTatil!$J$2),ResmiTatil!$J$2-ResmiTatil!$I$2))+IF(AG11>ResmiTatil!$K$2,AG11-ResmiTatil!$K$2),0)) -> 0 | AJ11: =IF((AE11-AD11)+(AG11-AF11)<0,0,(AE11-AD11)+(AG11-AF11)) -> 0 | AZ11: 0.39583333
A12: =A11+1 -> 44747 | B12: 0.35416667 | C12: 0.5625 | D12: 0.60416667 | E12: 0.72916667 | F12: =IF(D12-C12<0,0,D12-C12) -> 0.041666667 | G12: =IF(AND(OR(B12="",C12=""),OR(D12="",E12="")),0,IF(OR(B12<>ResmiTatil!$H$2,C12<>ResmiTatil!$I$2,D12<>ResmiTatil!$J$2,E12<>ResmiTatil!$K$2),IF(AND(D12="",E12=""),0,IF(B12<ResmiTatil!$H$2,ResmiTatil!$H$2-B12))+IF(AND(D12="",E12="",OR(B12<ResmiTatil!$H$2,AND(C12<>ResmiTatil!$J$2,C12>ResmiTatil!$J$2))),ResmiTatil!$J$2-ResmiTatil!$I$2,IF(OR(D12="",E12=""),0,IF(AND(C12>ResmiTatil!$I$2,D12<ResmiTatil!$J$2),C12-ResmiTatil!$I$2)))+IF(AND(C12<ResmiTatil!$I$2,D12<ResmiTatil!$J$2),ResmiTatil!$J$2-D12)+IF(AND(C12=ResmiTatil!$I$3,D12=ResmiTatil!$J$3),ResmiTatil!$I$3-ResmiTatil!$I$2,IF(AND(C12>ResmiTatil!$I$2,D12>ResmiTatil!$J$2),ResmiTatil!$J$2-ResmiTatil!$I$2))+IF(E12>ResmiTatil!$K$2,E12-ResmiTatil!$K$2),0)) -> 0.041666667 | H12: =IF((C12-B12)+(E12-D12)<0,0,(C12-B12)+(E12-D12)) -> 0.33333333 | I12: 0.3125 | J12: 0.52083333 | K12: 0.5625 | L12: 0.6875 | M12: =IF(K12-J12<0,0,K12-J12) -> 0.041666667 | N12: =IF(AND(OR(I12="",J12=""),OR(K12="",L12="")),0,IF(OR(I12<>ResmiTatil!$H$2,J12<>ResmiTatil!$I$2,K12<>ResmiTatil!$J$2,L12<>ResmiTatil!$K$2),IF(AND(K12="",L12=""),0,IF(I12<ResmiTatil!$H$2,ResmiTatil!$H$2-I12))+IF(AND(K12="",L12="",OR(I12<ResmiTatil!$H$2,AND(J12<>ResmiTatil!$J$2,J12>ResmiTatil!$J$2))),ResmiTatil!$J$2-ResmiTatil!$I$2,IF(OR(K12="",L12=""),0,IF(AND(J12>ResmiTatil!$I$2,K12<ResmiTatil!$J$2),J12-ResmiTatil!$I$2)))+IF(AND(J12<ResmiTatil!$I$2,K12<ResmiTatil!$J$2),ResmiTatil!$J$2-K12)+IF(AND(J12=ResmiTatil!$I$3,K12=ResmiTatil!$J$3),ResmiTatil!$I$3-ResmiTatil!$I$2,IF(AND(J12>ResmiTatil!$I$2,K12>ResmiTatil!$J$2),ResmiTatil!$J$2-ResmiTatil!$I$2))+IF(L12>ResmiTatil!$K$2,L12-ResmiTatil!$K$2),0)) -> 0.041666667 | O12: =IF((J12-I12)+(L12-K12)<0,0,(J12-I12)+(L12-K12)) -> 0.33333333 | T12: =IF(R12-Q12<0,0,R12-Q12) -> 0 | U12: =IF(AND(OR(P12="",Q12=""),OR(R12="",S12="")),0,IF(OR(P12<>ResmiTatil!$H$2,Q12<>ResmiTatil!$I$2,R12<>ResmiTatil!$J$2,S12<>ResmiTatil!$K$2),IF(AND(R12="",S12=""),0,IF(P12<ResmiTatil!$H$2,ResmiTatil!$H$2-P12))+IF(AND(R12="",S12="",OR(P12<ResmiTatil!$H$2,AND(Q12<>ResmiTatil!$J$2,Q12>ResmiTatil!$J$2))),ResmiTatil!$J$2-ResmiTatil!$I$2,IF(OR(R12="",S12=""),0,IF(AND(Q12>ResmiTatil!$I$2,R12<ResmiTatil!$J$2),Q12-ResmiTatil!$I$2)))+IF(AND(Q12<ResmiTatil!$I$2,R12<ResmiTatil!$J$2),ResmiTatil!$J$2-R12)+IF(AND(Q12=ResmiTatil!$I$3,R12=ResmiTatil!$J$3),ResmiTatil!$I$3-ResmiTatil!$I$2,IF(AND(Q12>ResmiTatil!$I$2,R12>ResmiTatil!$J$2),ResmiTatil!$J$2-ResmiTatil!$I$2))+IF(S12>ResmiTatil!$K$2,S12-ResmiTatil!$K$2),0)) -> 0 | V12: =IF((Q12-P12)+(S12-R12)<0,0,(Q12-P12)+(S12-R12)) -> 0 | AA12: =IF(Y12-X12<0,0,Y12-X12) -> 0 | AB12: =IF(AND(OR(W12="",X12=""),OR(Y12="",Z12="")),0,IF(OR(W12<>ResmiTatil!$H$2,X12<>ResmiTatil!$I$2,Y12<>ResmiTatil!$J$2,Z12<>ResmiTatil!$K$2),IF(AND(Y12="",Z12=""),0,IF(W12<ResmiTatil!$H$2,ResmiTatil!$H$2-W12))+IF(AND(Y12="",Z12="",OR(W12<ResmiTatil!$H$2,AND(X12<>ResmiTatil!$J$2,X12>ResmiTatil!$J$2))),ResmiTatil!$J$2-ResmiTatil!$I$2,IF(OR(Y12="",Z12=""),0,IF(AND(X12>ResmiTatil!$I$2,Y12<ResmiTatil!$J$2),X12-ResmiTatil!$I$2)))+IF(AND(X12<ResmiTatil!$I$2,Y12<ResmiTatil!$J$2),ResmiTatil!$J$2-Y12)+IF(AND(X12=ResmiTatil!$I$3,Y12=ResmiTatil!$J$3),ResmiTatil!$I$3-ResmiTatil!$I$2,IF(AND(X12>ResmiTatil!$I$2,Y12>ResmiTatil!$J$2),ResmiTatil!$J$2-ResmiTatil!$I$2))+IF(Z12>ResmiTatil!$K$2,Z12-ResmiTatil!$K$2),0)) -> 0 | AC12: =IF((X12-W12)+(Z12-Y12)<0,0,(X12-W12)+(Z12-Y12)) -> 0 | AH12: =IF(AF12-AE12<0,0,AF12-AE12) -> 0 | AI12: =IF(AND(OR(AD12="",AE12=""),OR(AF12="",AG12="")),0,IF(OR(AD12<>ResmiTatil!$H$2,AE12<>ResmiTatil!$I$2,AF12<>ResmiTatil!$J$2,AG12<>ResmiTatil!$K$2),IF(AND(AF12="",AG12=""),0,IF(AD12<ResmiTatil!$H$2,ResmiTatil!$H$2-AD12))+IF(AND(AF12="",AG12="",OR(AD12<ResmiTatil!$H$2,AND(AE12<>ResmiTatil!$J$2,AE12>ResmiTatil!$J$2))),ResmiTatil!$J$2-ResmiTatil!$I$2,IF(OR(AF12="",AG12=""),0,IF(AND(AE12>ResmiTatil!$I$2,AF12<ResmiTatil!$J$2),AE12-ResmiTatil!$I$2)))+IF(AND(AE12<ResmiTatil!$I$2,AF12<ResmiTatil!$J$2),ResmiTatil!$J$2-AF12)+IF(AND(AE12=ResmiTatil!$I$3,AF12=ResmiTatil!$J$3),ResmiTatil!$I$3-ResmiTatil!$I$2,IF(AND(AE12>ResmiTatil!$I$2,AF12>ResmiTatil!$J$2),ResmiTatil!$J$2-ResmiTatil!$I$2))+IF(AG12>ResmiTatil!$K$2,AG12-ResmiTatil!$K$2),0)) -> 0 | AJ12: =IF((AE12-AD12)+(AG12-AF12)<0,0,(AE12-AD12)+(AG12-AF12)) -> 0 | AZ12: 0.40625
A13: =A12+1 -> 44748 | B13: 0.35416667 | C13: 0.52083333 | D13: 0.5625 | E13: 0.72916667 | F13: =IF(D13-C13<0,0,D13-C13) -> 0.041666667 | G13: =IF(AND(OR(B13="",C13=""),OR(D13="",E13="")),0,IF(OR(B13<>ResmiTatil!$H$2,C13<>ResmiTatil!$I$2,D13<>ResmiTatil!$J$2,E13<>ResmiTatil!$K$2),IF(AND(D13="",E13=""),0,IF(B13<ResmiTatil!$H$2,ResmiTatil!$H$2-B13))+IF(AND(D13="",E13="",OR(B13<ResmiTatil!$H$2,AND(C13<>ResmiTatil!$J$2,C13>ResmiTatil!$J$2))),ResmiTatil!$J$2-ResmiTatil!$I$2,IF(OR(D13="",E13=""),0,IF(AND(C13>ResmiTatil!$I$2,D13<ResmiTatil!$J$2),C13-ResmiTatil!$I$2)))+IF(AND(C13<ResmiTatil!$I$2,D13<ResmiTatil!$J$2),ResmiTatil!$J$2-D13)+IF(AND(C13=ResmiTatil!$I$3,D13=ResmiTatil!$J$3),ResmiTatil!$I$3-ResmiTatil!$I$2,IF(AND(C13>ResmiTatil!$I$2,D13>ResmiTatil!$J$2),ResmiTatil!$J$2-ResmiTatil!$I$2))+IF(E13>ResmiTatil!$K$2,E13-ResmiTatil!$K$2),0)) -> 2.1649349e-14 | H13: =IF((C13-B13)+(E13-D13)<0,0,(C13-B13)+(E13-D13)) -> 0.33333333 | I13: 0.35416667 | J13: 0.5625 | K13: 0.60416667 | L13: 0.72916667 | M13: =IF(K13-J13<0,0,K13-J13) -> 0.041666667 | N13: =IF(AND(OR(I13="",J13=""),OR(K13="",L13="")),0,IF(OR(I13<>ResmiTatil!$H$2,J13<>ResmiTatil!$I$2,K13<>ResmiTatil!$J$2,L13<>ResmiTatil!$K$2),IF(AND(K13="",L13=""),0,IF(I13<ResmiTatil!$H$2,ResmiTatil!$H$2-I13))+IF(AND(K13="",L13="",OR(I13<ResmiTatil!$H$2,AND(J13<>ResmiTatil!$J$2,J13>ResmiTatil!$J$2))),ResmiTatil!$J$2-ResmiTatil!$I$2,IF(OR(K13="",L13=""),0,IF(AND(J13>ResmiTatil!$I$2,K13<ResmiTatil!$J$2),J13-ResmiTatil!$I$2)))+IF(AND(J13<ResmiTatil!$I$2,K13<ResmiTatil!$J$2),ResmiTatil!$J$2-K13)+IF(AND(J13=ResmiTatil!$I$3,K13=ResmiTatil!$J$3),ResmiTatil!$I$3-ResmiTatil!$I$2,IF(AND(J13>ResmiTatil!$I$2,K13>ResmiTatil!$J$2),ResmiTatil!$J$2-ResmiTatil!$I$2))+IF(L13>ResmiTatil!$K$2,L13-ResmiTatil!$K$2),0)) -> 0.041666667 | O13: =IF((J13-I13)+(L13-K13)<0,0,(J13-I13)+(L13-K13)) -> 0.33333333 | T13: =IF(R13-Q13<0,0,R13-Q13) -> 0 | U13: =IF(AND(OR(P13="",Q13=""),OR(R13="",S13="")),0,IF(OR(P13<>ResmiTatil!$H$2,Q13<>ResmiTatil!$I$2,R13<>ResmiTatil!$J$2,S13<>ResmiTatil!$K$2),IF(AND(R13="",S13=""),0,IF(P13<ResmiTatil!$H$2,ResmiTatil!$H$2-P13))+IF(AND(R13="",S13="",OR(P13<ResmiTatil!$H$2,AND(Q13<>ResmiTatil!$J$2,Q13>ResmiTatil!$J$2))),ResmiTatil!$J$2-ResmiTatil!$I$2,IF(OR(R13="",S13=""),0,IF(AND(Q13>ResmiTatil!$I$2,R13<ResmiTatil!$J$2),Q13-ResmiTatil!$I$2)))+IF(AND(Q13<ResmiTatil!$I$2,R13<ResmiTatil!$J$2),ResmiTatil!$J$2-R13)+IF(AND(Q13=ResmiTatil!$I$3,R13=ResmiTatil!$J$3),ResmiTatil!$I$3-ResmiTatil!$I$2,IF(AND(Q13>ResmiTatil!$I$2,R13>ResmiTatil!$J$2),ResmiTatil!$J$2-ResmiTatil!$I$2))+IF(S13>ResmiTatil!$K$2,S13-ResmiTatil!$K$2),0)) -> 0 | V13: =IF((Q13-P13)+(S13-R13)<0,0,(Q13-P13)+(S13-R13)) -> 0 | AA13: =IF(Y13-X13<0,0,Y13-X13) -> 0 | AB13: =IF(AND(OR(W13="",X13=""),OR(Y13="",Z13="")),0,IF(OR(W13<>ResmiTatil!$H$2,X13<>ResmiTatil!$I$2,Y13<>ResmiTatil!$J$2,Z13<>ResmiTatil!$K$2),IF(AND(Y13="",Z13=""),0,IF(W13<ResmiTatil!$H$2,ResmiTatil!$H$2-W13))+IF(AND(Y13="",Z13="",OR(W13<ResmiTatil!$H$2,AND(X13<>ResmiTatil!$J$2,X13>ResmiTatil!$J$2))),ResmiTatil!$J$2-ResmiTatil!$I$2,IF(OR(Y13="",Z13=""),0,IF(AND(X13>ResmiTatil!$I$2,Y13<ResmiTatil!$J$2),X13-ResmiTatil!$I$2)))+IF(AND(X13<ResmiTatil!$I$2,Y13<ResmiTatil!$J$2),ResmiTatil!$J$2-Y13)+IF(AND(X13=ResmiTatil!$I$3,Y13=ResmiTatil!$J$3),ResmiTatil!$I$3-ResmiTatil!$I$2,IF(AND(X13>ResmiTatil!$I$2,Y13>ResmiTatil!$J$2),ResmiTatil!$J$2-ResmiTatil!$I$2))+IF(Z13>ResmiTatil!$K$2,Z13-ResmiTatil!$K$2),0)) -> 0 | AC13: =IF((X13-W13)+(Z13-Y13)<0,0,(X13-W13)+(Z13-Y13)) -> 0 | AH13: =IF(AF13-AE13<0,0,AF13-AE13) -> 0 | AI13: =IF(AND(OR(AD13="",AE13=""),OR(AF13="",AG13="")),0,IF(OR(AD13<>ResmiTatil!$H$2,AE13<>ResmiTatil!$I$2,AF13<>ResmiTatil!$J$2,AG13<>ResmiTatil!$K$2),IF(AND(AF13="",AG13=""),0,IF(AD13<ResmiTatil!$H$2,ResmiTatil!$H$2-AD13))+IF(AND(AF13="",AG13="",OR(AD13<ResmiTatil!$H$2,AND(AE13<>ResmiTatil!$J$2,AE13>ResmiTatil!$J$2))),ResmiTatil!$J$2-ResmiTatil!$I$2,IF(OR(AF13="",AG13=""),0,IF(AND(AE13>ResmiTatil!$I$2,AF13<ResmiTatil!$J$2),AE13-ResmiTatil!$I$2)))+IF(AND(AE13<ResmiTatil!$I$2,AF13<ResmiTatil!$J$2),ResmiTatil!$J$2-AF13)+IF(AND(AE13=ResmiTatil!$I$3,AF13=ResmiTatil!$J$3),ResmiTatil!$I$3-ResmiTatil!$I$2,IF(AND(AE13>ResmiTatil!$I$2,AF13>ResmiTatil!$J$2),ResmiTatil!$J$2-ResmiTatil!$I$2))+IF(AG13>ResmiTatil!$K$2,AG13-ResmiTatil!$K$2),0)) -> 0 | AJ13: =IF((AE13-AD13)+(AG13-AF13)<0,0,(AE13-AD13)+(AG13-AF13)) -> 0 | AZ13: 0.41666667
A14: =A13+1 -> 44749 | B14: 0.35416667 | C14: 0.5625 | D14: 0.60416667 | E14: 0.72916667 | F14: =IF(D14-C14<0,0,D14-C14) -> 0.041666667 | G14: =IF(AND(OR(B14="",C14=""),OR(D14="",E14="")),0,IF(OR(B14<>ResmiTatil!$H$2,C14<>ResmiTatil!$I$2,D14<>ResmiTatil!$J$2,E14<>ResmiTatil!$K$2),IF(AND(D14="",E14=""),0,IF(B14<ResmiTatil!$H$2,ResmiTatil!$H$2-B14))+IF(AND(D14="",E14="",OR(B14<ResmiTatil!$H$2,AND(C14<>ResmiTatil!$J$2,C14>ResmiTatil!$J$2))),ResmiTatil!$J$2-ResmiTatil!$I$2,IF(OR(D14="",E14=""),0,IF(AND(C14>ResmiTatil!$I$2,D14<ResmiTatil!$J$2),C14-ResmiTatil!$I$2)))+IF(AND(C14<ResmiTatil!$I$2,D14<ResmiTatil!$J$2),ResmiTatil!$J$2-D14)+IF(AND(C14=ResmiTatil!$I$3,D14=ResmiTatil!$J$3),ResmiTatil!$I$3-ResmiTatil!$I$2,IF(AND(C14>ResmiTatil!$I$2,D14>ResmiTatil!$J$2),ResmiTatil!$J$2-ResmiTatil!$I$2))+IF(E14>ResmiTatil!$K$2,E14-ResmiTatil!$K$2),0)) -> 0.041666667 | H14: =IF((C14-B14)+(E14-D14)<0,0,(C14-B14)+(E14-D14)) -> 0.33333333 | I14: 0.35416667 | J14: 0.52083333 | K14: 0.5625 | L14: 0.72916667 | M14: =IF(K14-J14<0,0,K14-J14) -> 0.041666667 | N14: =IF(AND(OR(I14="",J14=""),OR(K14="",L14="")),0,IF(OR(I14<>ResmiTatil!$H$2,J14<>ResmiTatil!$I$2,K14<>ResmiTatil!$J$2,L14<>ResmiTatil!$K$2),IF(AND(K14="",L14=""),0,IF(I14<ResmiTatil!$H$2,ResmiTatil!$H$2-I14))+IF(AND(K14="",L14="",OR(I14<ResmiTatil!$H$2,AND(J14<>ResmiTatil!$J$2,J14>ResmiTatil!$J$2))),ResmiTatil!$J$2-ResmiTatil!$I$2,IF(OR(K14="",L14=""),0,IF(AND(J14>ResmiTatil!$I$2,K14<ResmiTatil!$J$2),J14-ResmiTatil!$I$2)))+IF(AND(J14<ResmiTatil!$I$2,K14<ResmiTatil!$J$2),ResmiTatil!$J$2-K14)+IF(AND(J14=ResmiTatil!$I$3,K14=ResmiTatil!$J$3),ResmiTatil!$I$3-ResmiTatil!$I$2,IF(AND(J14>ResmiTatil!$I$2,K14>ResmiTatil!$J$2),ResmiTatil!$J$2-ResmiTatil!$I$2))+IF(L14>ResmiTatil!$K$2,L14-ResmiTatil!$K$2),0)) -> 2.1649349e-14 | O14: =IF((J14-I14)+(L14-K14)<0,0,(J14-I14)+(L14-K14)) -> 0.33333333 | T14: =IF(R14-Q14<0,0,R14-Q14) -> 0 | U14: =IF(AND(OR(P14="",Q14=""),OR(R14="",S14="")),0,IF(OR(P14<>ResmiTatil!$H$2,Q14<>ResmiTatil!$I$2,R14<>ResmiTatil!$J$2,S14<>ResmiTatil!$K$2),IF(AND(R14="",S14=""),0,IF(P14<ResmiTatil!$H$2,ResmiTatil!$H$2-P14))+IF(AND(R14="",S14="",OR(P14<ResmiTatil!$H$2,AND(Q14<>ResmiTatil!$J$2,Q14>ResmiTatil!$J$2))),ResmiTatil!$J$2-ResmiTatil!$I$2,IF(OR(R14="",S14=""),0,IF(AND(Q14>ResmiTatil!$I$2,R14<ResmiTatil!$J$2),Q14-ResmiTatil!$I$2)))+IF(AND(Q14<ResmiTatil!$I$2,R14<ResmiTatil!$J$2),ResmiTatil!$J$2-R14)+IF(AND(Q14=ResmiTatil!$I$3,R14=ResmiTatil!$J$3),ResmiTatil!$I$3-ResmiTatil!$I$2,IF(AND(Q14>ResmiTatil!$I$2,R14>ResmiTatil!$J$2),ResmiTatil!$J$2-ResmiTatil!$I$2))+IF(S14>ResmiTatil!$K$2,S14-ResmiTatil!$K$2),0)) -> 0 | V14: =IF((Q14-P14)+(S14-R14)<0,0,(Q14-P14)+(S14-R14)) -> 0 | AA14: =IF(Y14-X14<0,0,Y14-X14) -> 0 | AB14: =IF(AND(OR(W14="",X14=""),OR(Y14="",Z14="")),0,IF(OR(W14<>ResmiTatil!$H$2,X14<>ResmiTatil!$I$2,Y14<>ResmiTatil!$J$2,Z14<>ResmiTatil!$K$2),IF(AND(Y14="",Z14=""),0,IF(W14<ResmiTatil!$H$2,ResmiTatil!$H$2-W14))+IF(AND(Y14="",Z14="",OR(W14<ResmiTatil!$H$2,AND(X14<>ResmiTatil!$J$2,X14>ResmiTatil!$J$2))),ResmiTatil!$J$2-ResmiTatil!$I$2,IF(OR(Y14="",Z14=""),0,IF(AND(X14>ResmiTatil!$I$2,Y14<ResmiTatil!$J$2),X14-ResmiTatil!$I$2)))+IF(AND(X14<ResmiTatil!$I$2,Y14<ResmiTatil!$J$2),ResmiTatil!$J$2-Y14)+IF(AND(X14=ResmiTatil!$I$3,Y14=ResmiTatil!$J$3),ResmiTatil!$I$3-ResmiTatil!$I$2,IF(AND(X14>ResmiTatil!$I$2,Y14>ResmiTatil!$J$2),ResmiTatil!$J$2-ResmiTatil!$I$2))+IF(Z14>ResmiTatil!$K$2,Z14-ResmiTatil!$K$2),0)) -> 0 | AC14: =IF((X14-W14)+(Z14-Y14)<0,0,(X14-W14)+(Z14-Y14)) -> 0 | AH14: =IF(AF14-AE14<0,0,AF14-AE14) -> 0 | AI14: =IF(AND(OR(AD14="",AE14=""),OR(AF14="",AG14="")),0,IF(OR(AD14<>ResmiTatil!$H$2,AE14<>ResmiTatil!$I$2,AF14<>ResmiTatil!$J$2,AG14<>ResmiTatil!$K$2),IF(AND(AF14="",AG14=""),0,IF(AD14<ResmiTatil!$H$2,ResmiTatil!$H$2-AD14))+IF(AND(AF14="",AG14="",OR(AD14<ResmiTatil!$H$2,AND(AE14<>ResmiTatil!$J$2,AE14>ResmiTatil!$J$2))),ResmiTatil!$J$2-ResmiTatil!$I$2,IF(OR(AF14="",AG14=""),0,IF(AND(AE14>ResmiTatil!$I$2,AF14<ResmiTatil!$J$2),AE14-ResmiTatil!$I$2)))+IF(AND(AE14<ResmiTatil!$I$2,AF14<ResmiTatil!$J$2),ResmiTatil!$J$2-AF14)+IF(AND(AE14=ResmiTatil!$I$3,AF14=ResmiTatil!$J$3),ResmiTatil!$I$3-ResmiTatil!$I$2,IF(AND(AE14>ResmiTatil!$I$2,AF14>ResmiTatil!$J$2),ResmiTatil!$J$2-ResmiTatil!$I$2))+IF(AG14>ResmiTatil!$K$2,AG14-ResmiTatil!$K$2),0)) -> 0 | AJ14: =IF((AE14-AD14)+(AG14-AF14)<0,0,(AE14-AD14)+(AG14-AF14)) -> 0 | AZ14: 0.42708333
A15: =A14+1 -> 44750 | F15: =IF(D15-C15<0,0,D15-C15) -> 0 | G15: =IF(AND(OR(B15="",C15=""),OR(D15="",E15="")),0,IF(OR(B15<>ResmiTatil!$H$2,C15<>ResmiTatil!$I$2,D15<>ResmiTatil!$J$2,E15<>ResmiTatil!$K$2),IF(AND(D15="",E15=""),0,IF(B15<ResmiTatil!$H$2,ResmiTatil!$H$2-B15))+IF(AND(D15="",E15="",OR(B15<ResmiTatil!$H$2,AND(C15<>ResmiTatil!$J$2,C15>ResmiTatil!$J$2))),ResmiTatil!$J$2-ResmiTatil!$I$2,IF(OR(D15="",E15=""),0,IF(AND(C15>ResmiTatil!$I$2,D15<ResmiTatil!$J$2),C15-ResmiTatil!$I$2)))+IF(AND(C15<ResmiTatil!$I$2,D15<ResmiTatil!$J$2),ResmiTatil!$J$2-D15)+IF(AND(C15=ResmiTatil!$I$3,D15=ResmiTatil!$J$3),ResmiTatil!$I$3-ResmiTatil!$I$2,IF(AND(C15>ResmiTatil!$I$2,D15>ResmiTatil!$J$2),ResmiTatil!$J$2-ResmiTatil!$I$2))+IF(E15>ResmiTatil!$K$2,E15-ResmiTatil!$K$2),0)) -> 0 | H15: =IF((C15-B15)+(E15-D15)<0,0,(C15-B15)+(E15-D15)) -> 0 | M15: =IF(K15-J15<0,0,K15-J15) -> 0 | N15: =IF(AND(OR(I15="",J15=""),OR(K15="",L15="")),0,IF(OR(I15<>ResmiTatil!$H$2,J15<>ResmiTatil!$I$2,K15<>ResmiTatil!$J$2,L15<>ResmiTatil!$K$2),IF(AND(K15="",L15=""),0,IF(I15<ResmiTatil!$H$2,ResmiTatil!$H$2-I15))+IF(AND(K15="",L15="",OR(I15<ResmiTatil!$H$2,AND(J15<>ResmiTatil!$J$2,J15>ResmiTatil!$J$2))),ResmiTatil!$J$2-ResmiTatil!$I$2,IF(OR(K15="",L15=""),0,IF(AND(J15>ResmiTatil!$I$2,K15<ResmiTatil!$J$2),J15-ResmiTatil!$I$2)))+IF(AND(J15<ResmiTatil!$I$2,K15<ResmiTatil!$J$2),ResmiTatil!$J$2-K15)+IF(AND(J15=ResmiTatil!$I$3,K15=ResmiTatil!$J$3),ResmiTatil!$I$3-ResmiTatil!$I$2,IF(AND(J15>ResmiTatil!$I$2,K15>ResmiTatil!$J$2),ResmiTatil!$J$2-ResmiTatil!$I$2))+IF(L15>ResmiTatil!$K$2,L15-ResmiTatil!$K$2),0)) -> 0 | O15: =IF((J15-I15)+(L15-K15)<0,0,(J15-I15)+(L15-K15)) -> 0 | T15: =IF(R15-Q15<0,0,R15-Q15) -> 0 | U15: =IF(AND(OR(P15="",Q15=""),OR(R15="",S15="")),0,IF(OR(P15<>ResmiTatil!$H$2,Q15<>ResmiTatil!$I$2,R15<>ResmiTatil!$J$2,S15<>ResmiTatil!$K$2),IF(AND(R15="",S15=""),0,IF(P15<ResmiTatil!$H$2,ResmiTatil!$H$2-P15))+IF(AND(R15="",S15="",OR(P15<ResmiTatil!$H$2,AND(Q15<>ResmiTatil!$J$2,Q15>ResmiTatil!$J$2))),ResmiTatil!$J$2-ResmiTatil!$I$2,IF(OR(R15="",S15=""),0,IF(AND(Q15>ResmiTatil!$I$2,R15<ResmiTatil!$J$2),Q15-ResmiTatil!$I$2)))+IF(AND(Q15<ResmiTatil!$I$2,R15<ResmiTatil!$J$2),ResmiTatil!$J$2-R15)+IF(AND(Q15=ResmiTatil!$I$3,R15=ResmiTatil!$J$3),ResmiTatil!$I$3-ResmiTatil!$I$2,IF(AND(Q15>ResmiTatil!$I$2,R15>ResmiTatil!$J$2),ResmiTatil!$J$2-ResmiTatil!$I$2))+IF(S15>ResmiTatil!$K$2,S15-ResmiTatil!$K$2),0)) -> 0 | V15: =IF((Q15-P15)+(S15-R15)<0,0,(Q15-P15)+(S15-R15)) -> 0 | AA15: =IF(Y15-X15<0,0,Y15-X15) -> 0 | AB15: =IF(AND(OR(W15="",X15=""),OR(Y15="",Z15="")),0,IF(OR(W15<>ResmiTatil!$H$2,X15<>ResmiTatil!$I$2,Y15<>ResmiTatil!$J$2,Z15<>ResmiTatil!$K$2),IF(AND(Y15="",Z15=""),0,IF(W15<ResmiTatil!$H$2,ResmiTatil!$H$2-W15))+IF(AND(Y15="",Z15="",OR(W15<ResmiTatil!$H$2,AND(X15<>ResmiTatil!$J$2,X15>ResmiTatil!$J$2))),ResmiTatil!$J$2-ResmiTatil!$I$2,IF(OR(Y15="",Z15=""),0,IF(AND(X15>ResmiTatil!$I$2,Y15<ResmiTatil!$J$2),X15-ResmiTatil!$I$2)))+IF(AND(X15<ResmiTatil!$I$2,Y15<ResmiTatil!$J$2),ResmiTatil!$J$2-Y15)+IF(AND(X15=ResmiTatil!$I$3,Y15=ResmiTatil!$J$3),ResmiTatil!$I$3-ResmiTatil!$I$2,IF(AND(X15>ResmiTatil!$I$2,Y15>ResmiTatil!$J$2),ResmiTatil!$J$2-ResmiTatil!$I$2))+IF(Z15>ResmiTatil!$K$2,Z15-ResmiTatil!$K$2),0)) -> 0 | AC15: =IF((X15-W15)+(Z15-Y15)<0,0,(X15-W15)+(Z15-Y15)) -> 0 | AH15: =IF(AF15-AE15<0,0,AF15-AE15) -> 0 | AI15: =IF(AND(OR(AD15="",AE15=""),OR(AF15="",AG15="")),0,IF(OR(AD15<>ResmiTatil!$H$2,AE15<>ResmiTatil!$I$2,AF15<>ResmiTatil!$J$2,AG15<>ResmiTatil!$K$2),IF(AND(AF15="",AG15=""),0,IF(AD15<ResmiTatil!$H$2,ResmiTatil!$H$2-AD15))+IF(AND(AF15="",AG15="",OR(AD15<ResmiTatil!$H$2,AND(AE15<>ResmiTatil!$J$2,AE15>ResmiTatil!$J$2))),ResmiTatil!$J$2-ResmiTatil!$I$2,IF(OR(AF15="",AG15=""),0,IF(AND(AE15>ResmiTatil!$I$2,AF15<ResmiTatil!$J$2),AE15-ResmiTatil!$I$2)))+IF(AND(AE15<ResmiTatil!$I$2,AF15<ResmiTatil!$J$2),ResmiTatil!$J$2-AF15)+IF(AND(AE15=ResmiTatil!$I$3,AF15=ResmiTatil!$J$3),ResmiTatil!$I$3-ResmiTatil!$I$2,IF(AND(AE15>ResmiTatil!$I$2,AF15>ResmiTatil!$J$2),ResmiTatil!$J$2-ResmiTatil!$I$2))+IF(AG15>ResmiTatil!$K$2,AG15-ResmiTatil!$K$2),0)) -> 0 | AJ15: =IF((AE15-AD15)+(AG15-AF15)<0,0,(AE15-AD15)+(AG15-AF15)) -> 0 | AZ15: 0.4375
A16: HAFTALIK TOPLAM | G16: =SUM(G11:G15) -> 0.125 | H16: =SUM(H11:H15) -> 1.3333333 | N16: =SUM(N11:N15) -> 0.125 | O16: =SUM(O11:O15) -> 1.3333333 | U16: =SUM(U11:U15) -> 0 | V16: =SUM(V11:V15) -> 0 | AB16: =SUM(AB11:AB15) -> 0 | AC16: =SUM(AC11:AC15) -> 0 | AI16: =SUM(AI11:AI15) -> 0 | AJ16: =SUM(AJ11:AJ15) -> 0 | AZ16: 0.44791667
A17: =A15+1 -> 44751 | AZ17: 0.45833333
A18: =A17+1 -> 44752 | AZ18: 0.46875
A19: =A18+1 -> 44753 | F19: =IF(D19-C19<0,0,D19-C19) -> 0 | G19: =IF(AND(OR(B19="",C19=""),OR(D19="",E19="")),0,IF(OR(B19<>ResmiTatil!$H$2,C19<>ResmiTatil!$I$2,D19<>ResmiTatil!$J$2,E19<>ResmiTatil!$K$2),IF(AND(D19="",E19=""),0,IF(B19<ResmiTatil!$H$2,ResmiTatil!$H$2-B19))+IF(AND(D19="",E19="",OR(B19<ResmiTatil!$H$2,AND(C19<>ResmiTatil!$J$2,C19>ResmiTatil!$J$2))),ResmiTatil!$J$2-ResmiTatil!$I$2,IF(OR(D19="",E19=""),0,IF(AND(C19>ResmiTatil!$I$2,D19<ResmiTatil!$J$2),C19-ResmiTatil!$I$2)))+IF(AND(C19<ResmiTatil!$I$2,D19<ResmiTatil!$J$2),ResmiTatil!$J$2-D19)+IF(AND(C19=ResmiTatil!$I$3,D19=ResmiTatil!$J$3),ResmiTatil!$I$3-ResmiTatil!$I$2,IF(AND(C19>ResmiTatil!$I$2,D19>ResmiTatil!$J$2),ResmiTatil!$J$2-ResmiTatil!$I$2))+IF(E19>ResmiTatil!$K$2,E19-ResmiTatil!$K$2),0)) -> 0 | H19: =IF((C19-B19)+(E19-D19)<0,0,(C19-B19)+(E19-D19)) -> 0 | M19: =IF(K19-J19<0,0,K19-J19) -> 0 | N19: =IF(AND(OR(I19="",J19=""),OR(K19="",L19="")),0,IF(OR(I19<>ResmiTatil!$H$2,J19<>ResmiTatil!$I$2,K19<>ResmiTatil!$J$2,L19<>ResmiTatil!$K$2),IF(AND(K19="",L19=""),0,IF(I19<ResmiTatil!$H$2,ResmiTatil!$H$2-I19))+IF(AND(K19="",L19="",OR(I19<ResmiTatil!$H$2,AND(J19<>ResmiTatil!$J$2,J19>ResmiTatil!$J$2))),ResmiTatil!$J$2-ResmiTatil!$I$2,IF(OR(K19="",L19=""),0,IF(AND(J19>ResmiTatil!$I$2,K19<ResmiTatil!$J$2),J19-ResmiTatil!$I$2)))+IF(AND(J19<ResmiTatil!$I$2,K19<ResmiTatil!$J$2),ResmiTatil!$J$2-K19)+IF(AND(J19=ResmiTatil!$I$3,K19=ResmiTatil!$J$3),ResmiTatil!$I$3-ResmiTatil!$I$2,IF(AND(J19>ResmiTatil!$I$2,K19>ResmiTatil!$J$2),ResmiTatil!$J$2-ResmiTatil!$I$2))+IF(L19>ResmiTatil!$K$2,L19-ResmiTatil!$K$2),0)) -> 0 | O19: =IF((J19-I19)+(L19-K19)<0,0,(J19-I19)+(L19-K19)) -> 0 | T19: =IF(R19-Q19<0,0,R19-Q19) -> 0 | U19: =IF(AND(OR(P19="",Q19=""),OR(R19="",S19="")),0,IF(OR(P19<>ResmiTatil!$H$2,Q19<>ResmiTatil!$I$2,R19<>ResmiTatil!$J$2,S19<>ResmiTatil!$K$2),IF(AND(R19="",S19=""),0,IF(P19<ResmiTatil!$H$2,ResmiTatil!$H$2-P19))+IF(AND(R19="",S19="",OR(P19<ResmiTatil!$H$2,AND(Q19<>ResmiTatil!$J$2,Q19>ResmiTatil!$J$2))),ResmiTatil!$J$2-ResmiTatil!$I$2,IF(OR(R19="",S19=""),0,IF(AND(Q19>ResmiTatil!$I$2,R19<ResmiTatil!$J$2),Q19-ResmiTatil!$I$2)))+IF(AND(Q19<ResmiTatil!$I$2,R19<ResmiTatil!$J$2),ResmiTatil!$J$2-R19)+IF(AND(Q19=ResmiTatil!$I$3,R19=ResmiTatil!$J$3),ResmiTatil!$I$3-ResmiTatil!$I$2,IF(AND(Q19>ResmiTatil!$I$2,R19>ResmiTatil!$J$2),ResmiTatil!$J$2-ResmiTatil!$I$2))+IF(S19>ResmiTatil!$K$2,S19-ResmiTatil!$K$2),0)) -> 0 | V19: =IF((Q19-P19)+(S19-R19)<0,0,(Q19-P19)+(S19-R19)) -> 0 | AA19: =IF(Y19-X19<0,0,Y19-X19) -> 0 | AB19: =IF(AND(OR(W19="",X19=""),OR(Y19="",Z19="")),0,IF(OR(W19<>ResmiTatil!$H$2,X19<>ResmiTatil!$I$2,Y19<>ResmiTatil!$J$2,Z19<>ResmiTatil!$K$2),IF(AND(Y19="",Z19=""),0,IF(W19<ResmiTatil!$H$2,ResmiTatil!$H$2-W19))+IF(AND(Y19="",Z19="",OR(W19<ResmiTatil!$H$2,AND(X19<>ResmiTatil!$J$2,X19>ResmiTatil!$J$2))),ResmiTatil!$J$2-ResmiTatil!$I$2,IF(OR(Y19="",Z19=""),0,IF(AND(X19>ResmiTatil!$I$2,Y19<ResmiTatil!$J$2),X19-ResmiTatil!$I$2)))+IF(AND(X19<ResmiTatil!$I$2,Y19<ResmiTatil!$J$2),ResmiTatil!$J$2-Y19)+IF(AND(X19=ResmiTatil!$I$3,Y19=ResmiTatil!$J$3),ResmiTatil!$I$3-ResmiTatil!$I$2,IF(AND(X19>ResmiTatil!$I$2,Y19>ResmiTatil!$J$2),ResmiTatil!$J$2-ResmiTatil!$I$2))+IF(Z19>ResmiTatil!$K$2,Z19-ResmiTatil!$K$2),0)) -> 0 | AC19: =IF((X19-W19)+(Z19-Y19)<0,0,(X19-W19)+(Z19-Y19)) -> 0 | AH19: =IF(AF19-AE19<0,0,AF19-AE19) -> 0 | AI19: =IF(AND(OR(AD19="",AE19=""),OR(AF19="",AG19="")),0,IF(OR(AD19<>ResmiTatil!$H$2,AE19<>ResmiTatil!$I$2,AF19<>ResmiTatil!$J$2,AG19<>ResmiTatil!$K$2),IF(AND(AF19="",AG19=""),0,IF(AD19<ResmiTatil!$H$2,ResmiTatil!$H$2-AD19))+IF(AND(AF19="",AG19="",OR(AD19<ResmiTatil!$H$2,AND(AE19<>ResmiTatil!$J$2,AE19>ResmiTatil!$J$2))),ResmiTatil!$J$2-ResmiTatil!$I$2,IF(OR(AF19="",AG19=""),0,IF(AND(AE19>ResmiTatil!$I$2,AF19<ResmiTatil!$J$2),AE19-ResmiTatil!$I$2)))+IF(AND(AE19<ResmiTatil!$I$2,AF19<ResmiTatil!$J$2),ResmiTatil!$J$2-AF19)+IF(AND(AE19=ResmiTatil!$I$3,AF19=ResmiTatil!$J$3),ResmiTatil!$I$3-ResmiTatil!$I$2,IF(AND(AE19>ResmiTatil!$I$2,AF19>ResmiTatil!$J$2),ResmiTatil!$J$2-ResmiTatil!$I$2))+IF(AG19>ResmiTatil!$K$2,AG19-ResmiTatil!$K$2),0)) -> 0 | AJ19: =IF((AE19-AD19)+(AG19-AF19)<0,0,(AE19-AD19)+(AG19-AF19)) -> 0 | AZ19: 0.47916667
A20: =A19+1 -> 44754 | F20: =IF(D20-C20<0,0,D20-C20) -> 0 | G20: =IF(AND(OR(B20="",C20=""),OR(D20="",E20="")),0,IF(OR(B20<>ResmiTatil!$H$2,C20<>ResmiTatil!$I$2,D20<>ResmiTatil!$J$2,E20<>ResmiTatil!$K$2),IF(AND(D20="",E20=""),0,IF(B20<ResmiTatil!$H$2,ResmiTatil!$H$2-B20))+IF(AND(D20="",E20="",OR(B20<ResmiTatil!$H$2,AND(C20<>ResmiTatil!$J$2,C20>ResmiTatil!$J$2))),ResmiTatil!$J$2-ResmiTatil!$I$2,IF(OR(D20="",E20=""),0,IF(AND(C20>ResmiTatil!$I$2,D20<ResmiTatil!$J$2),C20-ResmiTatil!$I$2)))+IF(AND(C20<ResmiTatil!$I$2,D20<ResmiTatil!$J$2),ResmiTatil!$J$2-D20)+IF(AND(C20=ResmiTatil!$I$3,D20=ResmiTatil!$J$3),ResmiTatil!$I$3-ResmiTatil!$I$2,IF(AND(C20>ResmiTatil!$I$2,D20>ResmiTatil!$J$2),ResmiTatil!$J$2-ResmiTatil!$I$2))+IF(E20>ResmiTatil!$K$2,E20-ResmiTatil!$K$2),0)) -> 0 | H20: =IF((C20-B20)+(E20-D20)<0,0,(C20-B20)+(E20-D20)) -> 0 | M20: =IF(K20-J20<0,0,K20-J20) -> 0 | N20: =IF(AND(OR(I20="",J20=""),OR(K20="",L20="")),0,IF(OR(I20<>ResmiTatil!$H$2,J20<>ResmiTatil!$I$2,K20<>ResmiTatil!$J$2,L20<>ResmiTatil!$K$2),IF(AND(K20="",L20=""),0,IF(I20<ResmiTatil!$H$2,ResmiTatil!$H$2-I20))+IF(AND(K20="",L20="",OR(I20<ResmiTatil!$H$2,AND(J20<>ResmiTatil!$J$2,J20>ResmiTatil!$J$2))),ResmiTatil!$J$2-ResmiTatil!$I$2,IF(OR(K20="",L20=""),0,IF(AND(J20>ResmiTatil!$I$2,K20<ResmiTatil!$J$2),J20-ResmiTatil!$I$2)))+IF(AND(J20<ResmiTatil!$I$2,K20<ResmiTatil!$J$2),ResmiTatil!$J$2-K20)+IF(AND(J20=ResmiTatil!$I$3,K20=ResmiTatil!$J$3),ResmiTatil!$I$3-ResmiTatil!$I$2,IF(AND(J20>ResmiTatil!$I$2,K20>ResmiTatil!$J$2),ResmiTatil!$J$2-ResmiTatil!$I$2))+IF(L20>ResmiTatil!$K$2,L20-ResmiTatil!$K$2),0)) -> 0 | O20: =IF((J20-I20)+(L20-K20)<0,0,(J20-I20)+(L20-K20)) -> 0 | T20: =IF(R20-Q20<0,0,R20-Q20) -> 0 | U20: =IF(AND(OR(P20="",Q20=""),OR(R20="",S20="")),0,IF(OR(P20<>ResmiTatil!$H$2,Q20<>ResmiTatil!$I$2,R20<>ResmiTatil!$J$2,S20<>ResmiTatil!$K$2),IF(AND(R20="",S20=""),0,IF(P20<ResmiTatil!$H$2,ResmiTatil!$H$2-P20))+IF(AND(R20="",S20="",OR(P20<ResmiTatil!$H$2,AND(Q20<>ResmiTatil!$J$2,Q20>ResmiTatil!$J$2))),ResmiTatil!$J$2-ResmiTatil!$I$2,IF(OR(R20="",S20=""),0,IF(AND(Q20>ResmiTatil!$I$2,R20<ResmiTatil!$J$2),Q20-ResmiTatil!$I$2)))+IF(AND(Q20<ResmiTatil!$I$2,R20<ResmiTatil!$J$2),ResmiTatil!$J$2-R20)+IF(AND(Q20=ResmiTatil!$I$3,R20=ResmiTatil!$J$3),ResmiTatil!$I$3-ResmiTatil!$I$2,IF(AND(Q20>ResmiTatil!$I$2,R20>ResmiTatil!$J$2),ResmiTatil!$J$2-ResmiTatil!$I$2))+IF(S20>ResmiTatil!$K$2,S20-ResmiTatil!$K$2),0)) -> 0 | V20: =IF((Q20-P20)+(S20-R20)<0,0,(Q20-P20)+(S20-R20)) -> 0 | AA20: =IF(Y20-X20<0,0,Y20-X20) -> 0 | AB20: =IF(AND(OR(W20="",X20=""),OR(Y20="",Z20="")),0,IF(OR(W20<>ResmiTatil!$H$2,X20<>ResmiTatil!$I$2,Y20<>ResmiTatil!$J$2,Z20<>ResmiTatil!$K$2),IF(AND(Y20="",Z20=""),0,IF(W20<ResmiTatil!$H$2,ResmiTatil!$H$2-W20))+IF(AND(Y20="",Z20="",OR(W20<ResmiTatil!$H$2,AND(X20<>ResmiTatil!$J$2,X20>ResmiTatil!$J$2))),ResmiTatil!$J$2-ResmiTatil!$I$2,IF(OR(Y20="",Z20=""),0,IF(AND(X20>ResmiTatil!$I$2,Y20<ResmiTatil!$J$2),X20-ResmiTatil!$I$2)))+IF(AND(X20<ResmiTatil!$I$2,Y20<ResmiTatil!$J$2),ResmiTatil!$J$2-Y20)+IF(AND(X20=ResmiTatil!$I$3,Y20=ResmiTatil!$J$3),ResmiTatil!$I$3-ResmiTatil!$I$2,IF(AND(X20>ResmiTatil!$I$2,Y20>ResmiTatil!$J$2),ResmiTatil!$J$2-ResmiTatil!$I$2))+IF(Z20>ResmiTatil!$K$2,Z20-ResmiTatil!$K$2),0)) -> 0 | AC20: =IF((X20-W20)+(Z20-Y20)<0,0,(X20-W20)+(Z20-Y20)) -> 0 | AH20: =IF(AF20-AE20<0,0,AF20-AE20) -> 0 | AI20: =IF(AND(OR(AD20="",AE20=""),OR(AF20="",AG20="")),0,IF(OR(AD20<>ResmiTatil!$H$2,AE20<>ResmiTatil!$I$2,AF20<>ResmiTatil!$J$2,AG20<>ResmiTatil!$K$2),IF(AND(AF20="",AG20=""),0,IF(AD20<ResmiTatil!$H$2,ResmiTatil!$H$2-AD20))+IF(AND(AF20="",AG20="",OR(AD20<ResmiTatil!$H$2,AND(AE20<>ResmiTatil!$J$2,AE20>ResmiTatil!$J$2))),ResmiTatil!$J$2-ResmiTatil!$I$2,IF(OR(AF20="",AG20=""),0,IF(AND(AE20>ResmiTatil!$I$2,AF20<ResmiTatil!$J$2),AE20-ResmiTatil!$I$2)))+IF(AND(AE20<ResmiTatil!$I$2,AF20<ResmiTatil!$J$2),ResmiTatil!$J$2-AF20)+IF(AND(AE20=ResmiTatil!$I$3,AF20=ResmiTatil!$J$3),ResmiTatil!$I$3-ResmiTatil!$I$2,IF(AND(AE20>ResmiTatil!$I$2,AF20>ResmiTatil!$J$2),ResmiTatil!$J$2-ResmiTatil!$I$2))+IF(AG20>ResmiTatil!$K$2,AG20-ResmiTatil!$K$2),0)) -> 0 | AJ20: =IF((AE20-AD20)+(AG20-AF20)<0,0,(AE20-AD20)+(AG20-AF20)) -> 0 | AZ20: 0.48958333
A21: =A20+1 -> 44755 | B21: 0.3125 | C21: 0.52083333 | D21: 0.5625 | E21: 0.6875 | F21: =IF(D21-C21<0,0,D21-C21) -> 0.041666667 | G21: =IF(AND(OR(B21="",C21=""),OR(D21="",E21="")),0,IF(OR(B21<>ResmiTatil!$H$2,C21<>ResmiTatil!$I$2,D21<>ResmiTatil!$J$2,E21<>ResmiTatil!$K$2),IF(AND(D21="",E21=""),0,IF(B21<ResmiTatil!$H$2,ResmiTatil!$H$2-B21))+IF(AND(D21="",E21="",OR(B21<ResmiTatil!$H$2,AND(C21<>ResmiTatil!$J$2,C21>ResmiTatil!$J$2))),ResmiTatil!$J$2-ResmiTatil!$I$2,IF(OR(D21="",E21=""),0,IF(AND(C21>ResmiTatil!$I$2,D21<ResmiTatil!$J$2),C21-ResmiTatil!$I$2)))+IF(AND(C21<ResmiTatil!$I$2,D21<ResmiTatil!$J$2),ResmiTatil!$J$2-D21)+IF(AND(C21=ResmiTatil!$I$3,D21=ResmiTatil!$J$3),ResmiTatil!$I$3-ResmiTatil!$I$2,IF(AND(C21>ResmiTatil!$I$2,D21>ResmiTatil!$J$2),ResmiTatil!$J$2-ResmiTatil!$I$2))+IF(E21>ResmiTatil!$K$2,E21-ResmiTatil!$K$2),0)) -> 0.041666667 | H21: =IF((C21-B21)+(E21-D21)<0,0,(C21-B21)+(E21-D21)) -> 0.33333333 | I21: 0.35416667 | J21: 0.5625 | K21: 0.60416667 | L21: 0.72916667 | M21: =IF(K21-J21<0,0,K21-J21) -> 0.041666667 | N21: =IF(AND(OR(I21="",J21=""),OR(K21="",L21="")),0,IF(OR(I21<>ResmiTatil!$H$2,J21<>ResmiTatil!$I$2,K21<>ResmiTatil!$J$2,L21<>ResmiTatil!$K$2),IF(AND(K21="",L21=""),0,IF(I21<ResmiTatil!$H$2,ResmiTatil!$H$2-I21))+IF(AND(K21="",L21="",OR(I21<ResmiTatil!$H$2,AND(J21<>ResmiTatil!$J$2,J21>ResmiTatil!$J$2))),ResmiTatil!$J$2-ResmiTatil!$I$2,IF(OR(K21="",L21=""),0,IF(AND(J21>ResmiTatil!$I$2,K21<ResmiTatil!$J$2),J21-ResmiTatil!$I$2)))+IF(AND(J21<ResmiTatil!$I$2,K21<ResmiTatil!$J$2),ResmiTatil!$J$2-K21)+IF(AND(J21=ResmiTatil!$I$3,K21=ResmiTatil!$J$3),ResmiTatil!$I$3-ResmiTatil!$I$2,IF(AND(J21>ResmiTatil!$I$2,K21>ResmiTatil!$J$2),ResmiTatil!$J$2-ResmiTatil!$I$2))+IF(L21>ResmiTatil!$K$2,L21-ResmiTatil!$K$2),0)) -> 0.041666667 | O21: =IF((J21-I21)+(L21-K21)<0,0,(J21-I21)+(L21-K21)) -> 0.33333333 | T21: =IF(R21-Q21<0,0,R21-Q21) -> 0 | U21: =IF(AND(OR(P21="",Q21=""),OR(R21="",S21="")),0,IF(OR(P21<>ResmiTatil!$H$2,Q21<>ResmiTatil!$I$2,R21<>ResmiTatil!$J$2,S21<>ResmiTatil!$K$2),IF(AND(R21="",S21=""),0,IF(P21<ResmiTatil!$H$2,ResmiTatil!$H$2-P21))+IF(AND(R21="",S21="",OR(P21<ResmiTatil!$H$2,AND(Q21<>ResmiTatil!$J$2,Q21>ResmiTatil!$J$2))),ResmiTatil!$J$2-ResmiTatil!$I$2,IF(OR(R21="",S21=""),0,IF(AND(Q21>ResmiTatil!$I$2,R21<ResmiTatil!$J$2),Q21-ResmiTatil!$I$2)))+IF(AND(Q21<ResmiTatil!$I$2,R21<ResmiTatil!$J$2),ResmiTatil!$J$2-R21)+IF(AND(Q21=ResmiTatil!$I$3,R21=ResmiTatil!$J$3),ResmiTatil!$I$3-ResmiTatil!$I$2,IF(AND(Q21>ResmiTatil!$I$2,R21>ResmiTatil!$J$2),ResmiTatil!$J$2-ResmiTatil!$I$2))+IF(S21>ResmiTatil!$K$2,S21-ResmiTatil!$K$2),0)) -> 0 | V21: =IF((Q21-P21)+(S21-R21)<0,0,(Q21-P21)+(S21-R21)) -> 0 | AA21: =IF(Y21-X21<0,0,Y21-X21) -> 0 | AB21: =IF(AND(OR(W21="",X21=""),OR(Y21="",Z21="")),0,IF(OR(W21<>ResmiTatil!$H$2,X21<>ResmiTatil!$I$2,Y21<>ResmiTatil!$J$2,Z21<>ResmiTatil!$K$2),IF(AND(Y21="",Z21=""),0,IF(W21<ResmiTatil!$H$2,ResmiTatil!$H$2-W21))+IF(AND(Y21="",Z21="",OR(W21<ResmiTatil!$H$2,AND(X21<>ResmiTatil!$J$2,X21>ResmiTatil!$J$2))),ResmiTatil!$J$2-ResmiTatil!$I$2,IF(OR(Y21="",Z21=""),0,IF(AND(X21>ResmiTatil!$I$2,Y21<ResmiTatil!$J$2),X21-ResmiTatil!$I$2)))+IF(AND(X21<ResmiTatil!$I$2,Y21<ResmiTatil!$J$2),ResmiTatil!$J$2-Y21)+IF(AND(X21=ResmiTatil!$I$3,Y21=ResmiTatil!$J$3),ResmiTatil!$I$3-ResmiTatil!$I$2,IF(AND(X21>ResmiTatil!$I$2,Y21>ResmiTatil!$J$2),ResmiTatil!$J$2-ResmiTatil!$I$2))+IF(Z21>ResmiTatil!$K$2,Z21-ResmiTatil!$K$2),0)) -> 0 | AC21: =IF((X21-W21)+(Z21-Y21)<0,0,(X21-W21)+(Z21-Y21)) -> 0 | AH21: =IF(AF21-AE21<0,0,AF21-AE21) -> 0 | AI21: =IF(AND(OR(AD21="",AE21=""),OR(AF21="",AG21="")),0,IF(OR(AD21<>ResmiTatil!$H$2,AE21<>ResmiTatil!$I$2,AF21<>ResmiTatil!$J$2,AG21<>ResmiTatil!$K$2),IF(AND(AF21="",AG21=""),0,IF(AD21<ResmiTatil!$H$2,ResmiTatil!$H$2-AD21))+IF(AND(AF21="",AG21="",OR(AD21<ResmiTatil!$H$2,AND(AE21<>ResmiTatil!$J$2,AE21>ResmiTatil!$J$2))),ResmiTatil!$J$2-ResmiTatil!$I$2,IF(OR(AF21="",AG21=""),0,IF(AND(AE21>ResmiTatil!$I$2,AF21<ResmiTatil!$J$2),AE21-ResmiTatil!$I$2)))+IF(AND(AE21<ResmiTatil!$I$2,AF21<ResmiTatil!$J$2),ResmiTatil!$J$2-AF21)+IF(AND(AE21=ResmiTatil!$I$3,AF21=ResmiTatil!$J$3),ResmiTatil!$I$3-ResmiTatil!$I$2,IF(AND(AE21>ResmiTatil!$I$2,AF21>ResmiTatil!$J$2),ResmiTatil!$J$2-ResmiTatil!$I$2))+IF(AG21>ResmiTatil!$K$2,AG21-ResmiTatil!$K$2),0)) -> 0 | AJ21: =IF((AE21-AD21)+(AG21-AF21)<0,0,(AE21-AD21)+(AG21-AF21)) -> 0 | AZ21: 0.5
A22: =A21+1 -> 44756 | B22: 0.35416667 | C22: 0.5625 | D22: 0.60416667 | E22: 0.72916667 | F22: =IF(D22-C22<0,0,D22-C22) -> 0.041666667 | G22: =IF(AND(OR(B22="",C22=""),OR(D22="",E22="")),0,IF(OR(B22<>ResmiTatil!$H$2,C22<>ResmiTatil!$I$2,D22<>ResmiTatil!$J$2,E22<>ResmiTatil!$K$2),IF(AND(D22="",E22=""),0,IF(B22<ResmiTatil!$H$2,ResmiTatil!$H$2-B22))+IF(AND(D22="",E22="",OR(B22<ResmiTatil!$H$2,AND(C22<>ResmiTatil!$J$2,C22>ResmiTatil!$J$2))),ResmiTatil!$J$2-ResmiTatil!$I$2,IF(OR(D22="",E22=""),0,IF(AND(C22>ResmiTatil!$I$2,D22<ResmiTatil!$J$2),C22-ResmiTatil!$I$2)))+IF(AND(C22<ResmiTatil!$I$2,D22<ResmiTatil!$J$2),ResmiTatil!$J$2-D22)+IF(AND(C22=ResmiTatil!$I$3,D22=ResmiTatil!$J$3),ResmiTatil!$I$3-ResmiTatil!$I$2,IF(AND(C22>ResmiTatil!$I$2,D22>ResmiTatil!$J$2),ResmiTatil!$J$2-ResmiTatil!$I$2))+IF(E22>ResmiTatil!$K$2,E22-ResmiTatil!$K$2),0)) -> 0.041666667 | H22: =IF((C22-B22)+(E22-D22)<0,0,(C22-B22)+(E22-D22)) -> 0.33333333 | I22: 0.3125 | J22: 0.52083333 | K22: 0.5625 | L22: 0.6875 | M22: =IF(K22-J22<0,0,K22-J22) -> 0.041666667 | N22: =IF(AND(OR(I22="",J22=""),OR(K22="",L22="")),0,IF(OR(I22<>ResmiTatil!$H$2,J22<>ResmiTatil!$I$2,K22<>ResmiTatil!$J$2,L22<>ResmiTatil!$K$2),IF(AND(K22="",L22=""),0,IF(I22<ResmiTatil!$H$2,ResmiTatil!$H$2-I22))+IF(AND(K22="",L22="",OR(I22<ResmiTatil!$H$2,AND(J22<>ResmiTatil!$J$2,J22>ResmiTatil!$J$2))),ResmiTatil!$J$2-ResmiTatil!$I$2,IF(OR(K22="",L22=""),0,IF(AND(J22>ResmiTatil!$I$2,K22<ResmiTatil!$J$2),J22-ResmiTatil!$I$2)))+IF(AND(J22<ResmiTatil!$I$2,K22<ResmiTatil!$J$2),ResmiTatil!$J$2-K22)+IF(AND(J22=ResmiTatil!$I$3,K22=ResmiTatil!$J$3),ResmiTatil!$I$3-ResmiTatil!$I$2,IF(AND(J22>ResmiTatil!$I$2,K22>ResmiTatil!$J$2),ResmiTatil!$J$2-ResmiTatil!$I$2))+IF(L22>ResmiTatil!$K$2,L22-ResmiTatil!$K$2),0)) -> 0.041666667 | O22: =IF((J22-I22)+(L22-K22)<0,0,(J22-I22)+(L22-K22)) -> 0.33333333 | T22: =IF(R22-Q22<0,0,R22-Q22) -> 0 | U22: =IF(AND(OR(P22="",Q22=""),OR(R22="",S22="")),0,IF(OR(P22<>ResmiTatil!$H$2,Q22<>ResmiTatil!$I$2,R22<>ResmiTatil!$J$2,S22<>ResmiTatil!$K$2),IF(AND(R22="",S22=""),0,IF(P22<ResmiTatil!$H$2,ResmiTatil!$H$2-P22))+IF(AND(R22="",S22="",OR(P22<ResmiTatil!$H$2,AND(Q22<>ResmiTatil!$J$2,Q22>ResmiTatil!$J$2))),ResmiTatil!$J$2-ResmiTatil!$I$2,IF(OR(R22="",S22=""),0,IF(AND(Q22>ResmiTatil!$I$2,R22<ResmiTatil!$J$2),Q22-ResmiTatil!$I$2)))+IF(AND(Q22<ResmiTatil!$I$2,R22<ResmiTatil!$J$2),ResmiTatil!$J$2-R22)+IF(AND(Q22=ResmiTatil!$I$3,R22=ResmiTatil!$J$3),ResmiTatil!$I$3-ResmiTatil!$I$2,IF(AND(Q22>ResmiTatil!$I$2,R22>ResmiTatil!$J$2),ResmiTatil!$J$2-ResmiTatil!$I$2))+IF(S22>ResmiTatil!$K$2,S22-ResmiTatil!$K$2),0)) -> 0 | V22: =IF((Q22-P22)+(S22-R22)<0,0,(Q22-P22)+(S22-R22)) -> 0 | AA22: =IF(Y22-X22<0,0,Y22-X22) -> 0 | AB22: =IF(AND(OR(W22="",X22=""),OR(Y22="",Z22="")),0,IF(OR(W22<>ResmiTatil!$H$2,X22<>ResmiTatil!$I$2,Y22<>ResmiTatil!$J$2,Z22<>ResmiTatil!$K$2),IF(AND(Y22="",Z22=""),0,IF(W22<ResmiTatil!$H$2,ResmiTatil!$H$2-W22))+IF(AND(Y22="",Z22="",OR(W22<ResmiTatil!$H$2,AND(X22<>ResmiTatil!$J$2,X22>ResmiTatil!$J$2))),ResmiTatil!$J$2-ResmiTatil!$I$2,IF(OR(Y22="",Z22=""),0,IF(AND(X22>ResmiTatil!$I$2,Y22<ResmiTatil!$J$2),X22-ResmiTatil!$I$2)))+IF(AND(X22<ResmiTatil!$I$2,Y22<ResmiTatil!$J$2),ResmiTatil!$J$2-Y22)+IF(AND(X22=ResmiTatil!$I$3,Y22=ResmiTatil!$J$3),ResmiTatil!$I$3-ResmiTatil!$I$2,IF(AND(X22>ResmiTatil!$I$2,Y22>ResmiTatil!$J$2),ResmiTatil!$J$2-ResmiTatil!$I$2))+IF(Z22>ResmiTatil!$K$2,Z22-ResmiTatil!$K$2),0)) -> 0 | AC22: =IF((X22-W22)+(Z22-Y22)<0,0,(X22-W22)+(Z22-Y22)) -> 0 | AH22: =IF(AF22-AE22<0,0,AF22-AE22) -> 0 | AI22: =IF(AND(OR(AD22="",AE22=""),OR(AF22="",AG22="")),0,IF(OR(AD22<>ResmiTatil!$H$2,AE22<>ResmiTatil!$I$2,AF22<>ResmiTatil!$J$2,AG22<>ResmiTatil!$K$2),IF(AND(AF22="",AG22=""),0,IF(AD22<ResmiTatil!$H$2,ResmiTatil!$H$2-AD22))+IF(AND(AF22="",AG22="",OR(AD22<ResmiTatil!$H$2,AND(AE22<>ResmiTatil!$J$2,AE22>ResmiTatil!$J$2))),ResmiTatil!$J$2-ResmiTatil!$I$2,IF(OR(AF22="",AG22=""),0,IF(AND(AE22>ResmiTatil!$I$2,AF22<ResmiTatil!$J$2),AE22-ResmiTatil!$I$2)))+IF(AND(AE22<ResmiTatil!$I$2,AF22<ResmiTatil!$J$2),ResmiTatil!$J$2-AF22)+IF(AND(AE22=ResmiTatil!$I$3,AF22=ResmiTatil!$J$3),ResmiTatil!$I$3-ResmiTatil!$I$2,IF(AND(AE22>ResmiTatil!$I$2,AF22>ResmiTatil!$J$2),ResmiTatil!$J$2-ResmiTatil!$I$2))+IF(AG22>ResmiTatil!$K$2,AG22-ResmiTatil!$K$2),0)) -> 0 | AJ22: =IF((AE22-AD22)+(AG22-AF22)<0,0,(AE22-AD22)+(AG22-AF22)) -> 0 | AZ22: 0.51041667
A23: =A22+1 -> 44757 | F23: =IF(D23-C23<0,0,D23-C23) -> 0 | G23: =IF(AND(OR(B23="",C23=""),OR(D23="",E23="")),0,IF(OR(B23<>ResmiTatil!$H$2,C23<>ResmiTatil!$I$2,D23<>ResmiTatil!$J$2,E23<>ResmiTatil!$K$2),IF(AND(D23="",E23=""),0,IF(B23<ResmiTatil!$H$2,ResmiTatil!$H$2-B23))+IF(AND(D23="",E23="",OR(B23<ResmiTatil!$H$2,AND(C23<>ResmiTatil!$J$2,C23>ResmiTatil!$J$2))),ResmiTatil!$J$2-ResmiTatil!$I$2,IF(OR(D23="",E23=""),0,IF(AND(C23>ResmiTatil!$I$2,D23<ResmiTatil!$J$2),C23-ResmiTatil!$I$2)))+IF(AND(C23<ResmiTatil!$I$2,D23<ResmiTatil!$J$2),ResmiTatil!$J$2-D23)+IF(AND(C23=ResmiTatil!$I$3,D23=ResmiTatil!$J$3),ResmiTatil!$I$3-ResmiTatil!$I$2,IF(AND(C23>ResmiTatil!$I$2,D23>ResmiTatil!$J$2),ResmiTatil!$J$2-ResmiTatil!$I$2))+IF(E23>ResmiTatil!$K$2,E23-ResmiTatil!$K$2),0)) -> 0 | H23: =IF((C23-B23)+(E23-D23)<0,0,(C23-B23)+(E23-D23)) -> 0 | M23: =IF(K23-J23<0,0,K23-J23) -> 0 | N23: =IF(AND(OR(I23="",J23=""),OR(K23="",L23="")),0,IF(OR(I23<>ResmiTatil!$H$2,J23<>ResmiTatil!$I$2,K23<>ResmiTatil!$J$2,L23<>ResmiTatil!$K$2),IF(AND(K23="",L23=""),0,IF(I23<ResmiTatil!$H$2,ResmiTatil!$H$2-I23))+IF(AND(K23="",L23="",OR(I23<ResmiTatil!$H$2,AND(J23<>ResmiTatil!$J$2,J23>ResmiTatil!$J$2))),ResmiTatil!$J$2-ResmiTatil!$I$2,IF(OR(K23="",L23=""),0,IF(AND(J23>ResmiTatil!$I$2,K23<ResmiTatil!$J$2),J23-ResmiTatil!$I$2)))+IF(AND(J23<ResmiTatil!$I$2,K23<ResmiTatil!$J$2),ResmiTatil!$J$2-K23)+IF(AND(J23=ResmiTatil!$I$3,K23=ResmiTatil!$J$3),ResmiTatil!$I$3-ResmiTatil!$I$2,IF(AND(J23>ResmiTatil!$I$2,K23>ResmiTatil!$J$2),ResmiTatil!$J$2-ResmiTatil!$I$2))+IF(L23>ResmiTatil!$K$2,L23-ResmiTatil!$K$2),0)) -> 0 | O23: =IF((J23-I23)+(L23-K23)<0,0,(J23-I23)+(L23-K23)) -> 0 | T23: =IF(R23-Q23<0,0,R23-Q23) -> 0 | U23: =IF(AND(OR(P23="",Q23=""),OR(R23="",S23="")),0,IF(OR(P23<>ResmiTatil!$H$2,Q23<>ResmiTatil!$I$2,R23<>ResmiTatil!$J$2,S23<>ResmiTatil!$K$2),IF(AND(R23="",S23=""),0,IF(P23<ResmiTatil!$H$2,ResmiTatil!$H$2-P23))+IF(AND(R23="",S23="",OR(P23<ResmiTatil!$H$2,AND(Q23<>ResmiTatil!$J$2,Q23>ResmiTatil!$J$2))),ResmiTatil!$J$2-ResmiTatil!$I$2,IF(OR(R23="",S23=""),0,IF(AND(Q23>ResmiTatil!$I$2,R23<ResmiTatil!$J$2),Q23-ResmiTatil!$I$2)))+IF(AND(Q23<ResmiTatil!$I$2,R23<ResmiTatil!$J$2),ResmiTatil!$J$2-R23)+IF(AND(Q23=ResmiTatil!$I$3,R23=ResmiTatil!$J$3),ResmiTatil!$I$3-ResmiTatil!$I$2,IF(AND(Q23>ResmiTatil!$I$2,R23>ResmiTatil!$J$2),ResmiTatil!$J$2-ResmiTatil!$I$2))+IF(S23>ResmiTatil!$K$2,S23-ResmiTatil!$K$2),0)) -> 0 | V23: =IF((Q23-P23)+(S23-R23)<0,0,(Q23-P23)+(S23-R23)) -> 0 | AA23: =IF(Y23-X23<0,0,Y23-X23) -> 0 | AB23: =IF(AND(OR(W23="",X23=""),OR(Y23="",Z23="")),0,IF(OR(W23<>ResmiTatil!$H$2,X23<>ResmiTatil!$I$2,Y23<>ResmiTatil!$J$2,Z23<>ResmiTatil!$K$2),IF(AND(Y23="",Z23=""),0,IF(W23<ResmiTatil!$H$2,ResmiTatil!$H$2-W23))+IF(AND(Y23="",Z23="",OR(W23<ResmiTatil!$H$2,AND(X23<>ResmiTatil!$J$2,X23>ResmiTatil!$J$2))),ResmiTatil!$J$2-ResmiTatil!$I$2,IF(OR(Y23="",Z23=""),0,IF(AND(X23>ResmiTatil!$I$2,Y23<ResmiTatil!$J$2),X23-ResmiTatil!$I$2)))+IF(AND(X23<ResmiTatil!$I$2,Y23<ResmiTatil!$J$2),ResmiTatil!$J$2-Y23)+IF(AND(X23=ResmiTatil!$I$3,Y23=ResmiTatil!$J$3),ResmiTatil!$I$3-ResmiTatil!$I$2,IF(AND(X23>ResmiTatil!$I$2,Y23>ResmiTatil!$J$2),ResmiTatil!$J$2-ResmiTatil!$I$2))+IF(Z23>ResmiTatil!$K$2,Z23-ResmiTatil!$K$2),0)) -> 0 | AC23: =IF((X23-W23)+(Z23-Y23)<0,0,(X23-W23)+(Z23-Y23)) -> 0 | AH23: =IF(AF23-AE23<0,0,AF23-AE23) -> 0 | AI23: =IF(AND(OR(AD23="",AE23=""),OR(AF23="",AG23="")),0,IF(OR(AD23<>ResmiTatil!$H$2,AE23<>ResmiTatil!$I$2,AF23<>ResmiTatil!$J$2,AG23<>ResmiTatil!$K$2),IF(AND(AF23="",AG23=""),0,IF(AD23<ResmiTatil!$H$2,ResmiTatil!$H$2-AD23))+IF(AND(AF23="",AG23="",OR(AD23<ResmiTatil!$H$2,AND(AE23<>ResmiTatil!$J$2,AE23>ResmiTatil!$J$2))),ResmiTatil!$J$2-ResmiTatil!$I$2,IF(OR(AF23="",AG23=""),0,IF(AND(AE23>ResmiTatil!$I$2,AF23<ResmiTatil!$J$2),AE23-ResmiTatil!$I$2)))+IF(AND(AE23<ResmiTatil!$I$2,AF23<ResmiTatil!$J$2),ResmiTatil!$J$2-AF23)+IF(AND(AE23=ResmiTatil!$I$3,AF23=ResmiTatil!$J$3),ResmiTatil!$I$3-ResmiTatil!$I$2,IF(AND(AE23>ResmiTatil!$I$2,AF23>ResmiTatil!$J$2),ResmiTatil!$J$2-ResmiTatil!$I$2))+IF(AG23>ResmiTatil!$K$2,AG23-ResmiTatil!$K$2),0)) -> 0 | AJ23: =IF((AE23-AD23)+(AG23-AF23)<0,0,(AE23-AD23)+(AG23-AF23)) -> 0 | AZ23: 0.52083333
A24: HAFTALIK TOPLAM | G24: =SUM(G19:G23) -> 0.083333333 | H24: =SUM(H19:H23) -> 0.66666667 | N24: =SUM(N19:N23) -> 0.083333333 | O24: =SUM(O19:O23) -> 0.66666667 | U24: =SUM(U19:U23) -> 0 | V24: =SUM(V19:V23) -> 0 | AB24: =SUM(AB19:AB23) -> 0 | AC24: =SUM(AC19:AC23) -> 0 | AI24: =SUM(AI19:AI23) -> 0 | AJ24: =SUM(AJ19:AJ23) -> 0 | AZ24: 0.53125
A25: =A23+1 -> 44758 | AZ25: 0.54166667
A26: =A25+1 -> 44759 | AZ26: 0.55208333
A27: =A26+1 -> 44760 | B27: 0.3125 | C27: 0.52083333 | D27: 0.5625 | E27: 0.6875 | F27: =IF(D27-C27<0,0,D27-C27) -> 0.041666667 | G27: =IF(AND(OR(B27="",C27=""),OR(D27="",E27="")),0,IF(OR(B27<>ResmiTatil!$H$2,C27<>ResmiTatil!$I$2,D27<>ResmiTatil!$J$2,E27<>ResmiTatil!$K$2),IF(AND(D27="",E27=""),0,IF(B27<ResmiTatil!$H$2,ResmiTatil!$H$2-B27))+IF(AND(D27="",E27="",OR(B27<ResmiTatil!$H$2,AND(C27<>ResmiTatil!$J$2,C27>ResmiTatil!$J$2))),ResmiTatil!$J$2-ResmiTatil!$I$2,IF(OR(D27="",E27=""),0,IF(AND(C27>ResmiTatil!$I$2,D27<ResmiTatil!$J$2),C27-ResmiTatil!$I$2)))+IF(AND(C27<ResmiTatil!$I$2,D27<ResmiTatil!$J$2),ResmiTatil!$J$2-D27)+IF(AND(C27=ResmiTatil!$I$3,D27=ResmiTatil!$J$3),ResmiTatil!$I$3-ResmiTatil!$I$2,IF(AND(C27>ResmiTatil!$I$2,D27>ResmiTatil!$J$2),ResmiTatil!$J$2-ResmiTatil!$I$2))+IF(E27>ResmiTatil!$K$2,E27-ResmiTatil!$K$2),0)) -> 0.041666667 | H27: =IF((C27-B27)+(E27-D27)<0,0,(C27-B27)+(E27-D27)) -> 0.33333333 | I27: 0.35416667 | J27: 0.5625 | K27: 0.60416667 | L27: 0.72916667 | M27: =IF(K27-J27<0,0,K27-J27) -> 0.041666667 | N27: =IF(AND(OR(I27="",J27=""),OR(K27="",L27="")),0,IF(OR(I27<>ResmiTatil!$H$2,J27<>ResmiTatil!$I$2,K27<>ResmiTatil!$J$2,L27<>ResmiTatil!$K$2),IF(AND(K27="",L27=""),0,IF(I27<ResmiTatil!$H$2,ResmiTatil!$H$2-I27))+IF(AND(K27="",L27="",OR(I27<ResmiTatil!$H$2,AND(J27<>ResmiTatil!$J$2,J27>ResmiTatil!$J$2))),ResmiTatil!$J$2-ResmiTatil!$I$2,IF(OR(K27="",L27=""),0,IF(AND(J27>ResmiTatil!$I$2,K27<ResmiTatil!$J$2),J27-ResmiTatil!$I$2)))+IF(AND(J27<ResmiTatil!$I$2,K27<ResmiTatil!$J$2),ResmiTatil!$J$2-K27)+IF(AND(J27=ResmiTatil!$I$3,K27=ResmiTatil!$J$3),ResmiTatil!$I$3-ResmiTatil!$I$2,IF(AND(J27>ResmiTatil!$I$2,K27>ResmiTatil!$J$2),ResmiTatil!$J$2-ResmiTatil!$I$2))+IF(L27>ResmiTatil!$K$2,L27-ResmiTatil!$K$2),0)) -> 0.041666667 | O27: =IF((J27-I27)+(L27-K27)<0,0,(J27-I27)+(L27-K27)) -> 0.33333333 | T27: =IF(R27-Q27<0,0,R27-Q27) -> 0 | U27: =IF(AND(OR(P27="",Q27=""),OR(R27="",S27="")),0,IF(OR(P27<>ResmiTatil!$H$2,Q27<>ResmiTatil!$I$2,R27<>ResmiTatil!$J$2,S27<>ResmiTatil!$K$2),IF(AND(R27="",S27=""),0,IF(P27<ResmiTatil!$H$2,ResmiTatil!$H$2-P27))+IF(AND(R27="",S27="",OR(P27<ResmiTatil!$H$2,AND(Q27<>ResmiTatil!$J$2,Q27>ResmiTatil!$J$2))),ResmiTatil!$J$2-ResmiTatil!$I$2,IF(OR(R27="",S27=""),0,IF(AND(Q27>ResmiTatil!$I$2,R27<ResmiTatil!$J$2),Q27-ResmiTatil!$I$2)))+IF(AND(Q27<ResmiTatil!$I$2,R27<ResmiTatil!$J$2),ResmiTatil!$J$2-R27)+IF(AND(Q27=ResmiTatil!$I$3,R27=ResmiTatil!$J$3),ResmiTatil!$I$3-ResmiTatil!$I$2,IF(AND(Q27>ResmiTatil!$I$2,R27>ResmiTatil!$J$2),ResmiTatil!$J$2-ResmiTatil!$I$2))+IF(S27>ResmiTatil!$K$2,S27-ResmiTatil!$K$2),0)) -> 0 | V27: =IF((Q27-P27)+(S27-R27)<0,0,(Q27-P27)+(S27-R27)) -> 0 | AA27: =IF(Y27-X27<0,0,Y27-X27) -> 0 | AB27: =IF(AND(OR(W27="",X27=""),OR(Y27="",Z27="")),0,IF(OR(W27<>ResmiTatil!$H$2,X27<>ResmiTatil!$I$2,Y27<>ResmiTatil!$J$2,Z27<>ResmiTatil!$K$2),IF(AND(Y27="",Z27=""),0,IF(W27<ResmiTatil!$H$2,ResmiTatil!$H$2-W27))+IF(AND(Y27="",Z27="",OR(W27<ResmiTatil!$H$2,AND(X27<>ResmiTatil!$J$2,X27>ResmiTatil!$J$2))),ResmiTatil!$J$2-ResmiTatil!$I$2,IF(OR(Y27="",Z27=""),0,IF(AND(X27>ResmiTatil!$I$2,Y27<ResmiTatil!$J$2),X27-ResmiTatil!$I$2)))+IF(AND(X27<ResmiTatil!$I$2,Y27<ResmiTatil!$J$2),ResmiTatil!$J$2-Y27)+IF(AND(X27=ResmiTatil!$I$3,Y27=ResmiTatil!$J$3),ResmiTatil!$I$3-ResmiTatil!$I$2,IF(AND(X27>ResmiTatil!$I$2,Y27>ResmiTatil!$J$2),ResmiTatil!$J$2-ResmiTatil!$I$2))+IF(Z27>ResmiTatil!$K$2,Z27-ResmiTatil!$K$2),0)) -> 0 | AC27: =IF((X27-W27)+(Z27-Y27)<0,0,(X27-W27)+(Z27-Y27)) -> 0 | AH27: =IF(AF27-AE27<0,0,AF27-AE27) -> 0 | AI27: =IF(AND(OR(AD27="",AE27=""),OR(AF27="",AG27="")),0,IF(OR(AD27<>ResmiTatil!$H$2,AE27<>ResmiTatil!$I$2,AF27<>ResmiTatil!$J$2,AG27<>ResmiTatil!$K$2),IF(AND(AF27="",AG27=""),0,IF(AD27<ResmiTatil!$H$2,ResmiTatil!$H$2-AD27))+IF(AND(AF27="",AG27="",OR(AD27<ResmiTatil!$H$2,AND(AE27<>ResmiTatil!$J$2,AE27>ResmiTatil!$J$2))),ResmiTatil!$J$2-ResmiTatil!$I$2,IF(OR(AF27="",AG27=""),0,IF(AND(AE27>ResmiTatil!$I$2,AF27<ResmiTatil!$J$2),AE27-ResmiTatil!$I$2)))+IF(AND(AE27<ResmiTatil!$I$2,AF27<ResmiTatil!$J$2),ResmiTatil!$J$2-AF27)+IF(AND(AE27=ResmiTatil!$I$3,AF27=ResmiTatil!$J$3),ResmiTatil!$I$3-ResmiTatil!$I$2,IF(AND(AE27>ResmiTatil!$I$2,AF27>ResmiTatil!$J$2),ResmiTatil!$J$2-ResmiTatil!$I$2))+IF(AG27>ResmiTatil!$K$2,AG27-ResmiTatil!$K$2),0)) -> 0 | AJ27: =IF((AE27-AD27)+(AG27-AF27)<0,0,(AE27-AD27)+(AG27-AF27)) -> 0 | AZ27: 0.5625
A28: =A27+1 -> 44761 | B28: 0.35416667 | C28: 0.5625 | D28: 0.60416667 | E28: 0.72916667 | F28: =IF(D28-C28<0,0,D28-C28) -> 0.041666667 | G28: =IF(AND(OR(B28="",C28=""),OR(D28="",E28="")),0,IF(OR(B28<>ResmiTatil!$H$2,C28<>ResmiTatil!$I$2,D28<>ResmiTatil!$J$2,E28<>ResmiTatil!$K$2),IF(AND(D28="",E28=""),0,IF(B28<ResmiTatil!$H$2,ResmiTatil!$H$2-B28))+IF(AND(D28="",E28="",OR(B28<ResmiTatil!$H$2,AND(C28<>ResmiTatil!$J$2,C28>ResmiTatil!$J$2))),ResmiTatil!$J$2-ResmiTatil!$I$2,IF(OR(D28="",E28=""),0,IF(AND(C28>ResmiTatil!$I$2,D28<ResmiTatil!$J$2),C28-ResmiTatil!$I$2)))+IF(AND(C28<ResmiTatil!$I$2,D28<ResmiTatil!$J$2),ResmiTatil!$J$2-D28)+IF(AND(C28=ResmiTatil!$I$3,D28=ResmiTatil!$J$3),ResmiTatil!$I$3-ResmiTatil!$I$2,IF(AND(C28>ResmiTatil!$I$2,D28>ResmiTatil!$J$2),ResmiTatil!$J$2-ResmiTatil!$I$2))+IF(E28>ResmiTatil!$K$2,E28-ResmiTatil!$K$2),0)) -> 0.041666667 | H28: =IF((C28-B28)+(E28-D28)<0,0,(C28-B28)+(E28-D28)) -> 0.33333333 | I28: 0.35416667 | J28: 0.52083333 | K28: 0.5625 | L28: 0.72916667 | M28: =IF(K28-J28<0,0,K28-J28) -> 0.041666667 | N28: =IF(AND(OR(I28="",J28=""),OR(K28="",L28="")),0,IF(OR(I28<>ResmiTatil!$H$2,J28<>ResmiTatil!$I$2,K28<>ResmiTatil!$J$2,L28<>ResmiTatil!$K$2),IF(AND(K28="",L28=""),0,IF(I28<ResmiTatil!$H$2,ResmiTatil!$H$2-I28))+IF(AND(K28="",L28="",OR(I28<ResmiTatil!$H$2,AND(J28<>ResmiTatil!$J$2,J28>ResmiTatil!$J$2))),ResmiTatil!$J$2-ResmiTatil!$I$2,IF(OR(K28="",L28=""),0,IF(AND(J28>ResmiTatil!$I$2,K28<ResmiTatil!$J$2),J28-ResmiTatil!$I$2)))+IF(AND(J28<ResmiTatil!$I$2,K28<ResmiTatil!$J$2),ResmiTatil!$J$2-K28)+IF(AND(J28=ResmiTatil!$I$3,K28=ResmiTatil!$J$3),ResmiTatil!$I$3-ResmiTatil!$I$2,IF(AND(J28>ResmiTatil!$I$2,K28>ResmiTatil!$J$2),ResmiTatil!$J$2-ResmiTatil!$I$2))+IF(L28>ResmiTatil!$K$2,L28-ResmiTatil!$K$2),0)) -> 2.1649349e-14 | O28: =IF((J28-I28)+(L28-K28)<0,0,(J28-I28)+(L28-K28)) -> 0.33333333 | T28: =IF(R28-Q28<0,0,R28-Q28) -> 0 | U28: =IF(AND(OR(P28="",Q28=""),OR(R28="",S28="")),0,IF(OR(P28<>ResmiTatil!$H$2,Q28<>ResmiTatil!$I$2,R28<>ResmiTatil!$J$2,S28<>ResmiTatil!$K$2),IF(AND(R28="",S28=""),0,IF(P28<ResmiTatil!$H$2,ResmiTatil!$H$2-P28))+IF(AND(R28="",S28="",OR(P28<ResmiTatil!$H$2,AND(Q28<>ResmiTatil!$J$2,Q28>ResmiTatil!$J$2))),ResmiTatil!$J$2-ResmiTatil!$I$2,IF(OR(R28="",S28=""),0,IF(AND(Q28>ResmiTatil!$I$2,R28<ResmiTatil!$J$2),Q28-ResmiTatil!$I$2)))+IF(AND(Q28<ResmiTatil!$I$2,R28<ResmiTatil!$J$2),ResmiTatil!$J$2-R28)+IF(AND(Q28=ResmiTatil!$I$3,R28=ResmiTatil!$J$3),ResmiTatil!$I$3-ResmiTatil!$I$2,IF(AND(Q28>ResmiTatil!$I$2,R28>ResmiTatil!$J$2),ResmiTatil!$J$2-ResmiTatil!$I$2))+IF(S28>ResmiTatil!$K$2,S28-ResmiTatil!$K$2),0)) -> 0 | V28: =IF((Q28-P28)+(S28-R28)<0,0,(Q28-P28)+(S28-R28)) -> 0 | AA28: =IF(Y28-X28<0,0,Y28-X28) -> 0 | AB28: =IF(AND(OR(W28="",X28=""),OR(Y28="",Z28="")),0,IF(OR(W28<>ResmiTatil!$H$2,X28<>ResmiTatil!$I$2,Y28<>ResmiTatil!$J$2,Z28<>ResmiTatil!$K$2),IF(AND(Y28="",Z28=""),0,IF(W28<ResmiTatil!$H$2,ResmiTatil!$H$2-W28))+IF(AND(Y28="",Z28="",OR(W28<ResmiTatil!$H$2,AND(X28<>ResmiTatil!$J$2,X28>ResmiTatil!$J$2))),ResmiTatil!$J$2-ResmiTatil!$I$2,IF(OR(Y28="",Z28=""),0,IF(AND(X28>ResmiTatil!$I$2,Y28<ResmiTatil!$J$2),X28-ResmiTatil!$I$2)))+IF(AND(X28<ResmiTatil!$I$2,Y28<ResmiTatil!$J$2),ResmiTatil!$J$2-Y28)+IF(AND(X28=ResmiTatil!$I$3,Y28=ResmiTatil!$J$3),ResmiTatil!$I$3-ResmiTatil!$I$2,IF(AND(X28>ResmiTatil!$I$2,Y28>ResmiTatil!$J$2),ResmiTatil!$J$2-ResmiTatil!$I$2))+IF(Z28>ResmiTatil!$K$2,Z28-ResmiTatil!$K$2),0)) -> 0 | AC28: =IF((X28-W28)+(Z28-Y28)<0,0,(X28-W28)+(Z28-Y28)) -> 0 | AH28: =IF(AF28-AE28<0,0,AF28-AE28) -> 0 | AI28: =IF(AND(OR(AD28="",AE28=""),OR(AF28="",AG28="")),0,IF(OR(AD28<>ResmiTatil!$H$2,AE28<>ResmiTatil!$I$2,AF28<>ResmiTatil!$J$2,AG28<>ResmiTatil!$K$2),IF(AND(AF28="",AG28=""),0,IF(AD28<ResmiTatil!$H$2,ResmiTatil!$H$2-AD28))+IF(AND(AF28="",AG28="",OR(AD28<ResmiTatil!$H$2,AND(AE28<>ResmiTatil!$J$2,AE28>ResmiTatil!$J$2))),ResmiTatil!$J$2-ResmiTatil!$I$2,IF(OR(AF28="",AG28=""),0,IF(AND(AE28>ResmiTatil!$I$2,AF28<ResmiTatil!$J$2),AE28-ResmiTatil!$I$2)))+IF(AND(AE28<ResmiTatil!$I$2,AF28<ResmiTatil!$J$2),ResmiTatil!$J$2-AF28)+IF(AND(AE28=ResmiTatil!$I$3,AF28=ResmiTatil!$J$3),ResmiTatil!$I$3-ResmiTatil!$I$2,IF(AND(AE28>ResmiTatil!$I$2,AF28>ResmiTatil!$J$2),ResmiTatil!$J$2-ResmiTatil!$I$2))+IF(AG28>ResmiTatil!$K$2,AG28-ResmiTatil!$K$2),0)) -> 0 | AJ28: =IF((AE28-AD28)+(AG28-AF28)<0,0,(AE28-AD28)+(AG28-AF28)) -> 0 | AZ28: 0.57291667
A29: =A28+1 -> 44762 | B29: 0.35416667 | C29: 0.52083333 | D29: 0.5625 | E29: 0.72916667 | F29: =IF(D29-C29<0,0,D29-C29) -> 0.041666667 | G29: =IF(AND(OR(B29="",C29=""),OR(D29="",E29="")),0,IF(OR(B29<>ResmiTatil!$H$2,C29<>ResmiTatil!$I$2,D29<>ResmiTatil!$J$2,E29<>ResmiTatil!$K$2),IF(AND(D29="",E29=""),0,IF(B29<ResmiTatil!$H$2,ResmiTatil!$H$2-B29))+IF(AND(D29="",E29="",OR(B29<ResmiTatil!$H$2,AND(C29<>ResmiTatil!$J$2,C29>ResmiTatil!$J$2))),ResmiTatil!$J$2-ResmiTatil!$I$2,IF(OR(D29="",E29=""),0,IF(AND(C29>ResmiTatil!$I$2,D29<ResmiTatil!$J$2),C29-ResmiTatil!$I$2)))+IF(AND(C29<ResmiTatil!$I$2,D29<ResmiTatil!$J$2),ResmiTatil!$J$2-D29)+IF(AND(C29=ResmiTatil!$I$3,D29=ResmiTatil!$J$3),ResmiTatil!$I$3-ResmiTatil!$I$2,IF(AND(C29>ResmiTatil!$I$2,D29>ResmiTatil!$J$2),ResmiTatil!$J$2-ResmiTatil!$I$2))+IF(E29>ResmiTatil!$K$2,E29-ResmiTatil!$K$2),0)) -> 2.1649349e-14 | H29: =IF((C29-B29)+(E29-D29)<0,0,(C29-B29)+(E29-D29)) -> 0.33333333 | I29: 0.35416667 | J29: 0.5625 | K29: 0.60416667 | L29: 0.72916667 | M29: =IF(K29-J29<0,0,K29-J29) -> 0.041666667 | N29: =IF(AND(OR(I29="",J29=""),OR(K29="",L29="")),0,IF(OR(I29<>ResmiTatil!$H$2,J29<>ResmiTatil!$I$2,K29<>ResmiTatil!$J$2,L29<>ResmiTatil!$K$2),IF(AND(K29="",L29=""),0,IF(I29<ResmiTatil!$H$2,ResmiTatil!$H$2-I29))+IF(AND(K29="",L29="",OR(I29<ResmiTatil!$H$2,AND(J29<>ResmiTatil!$J$2,J29>ResmiTatil!$J$2))),ResmiTatil!$J$2-ResmiTatil!$I$2,IF(OR(K29="",L29=""),0,IF(AND(J29>ResmiTatil!$I$2,K29<ResmiTatil!$J$2),J29-ResmiTatil!$I$2)))+IF(AND(J29<ResmiTatil!$I$2,K29<ResmiTatil!$J$2),ResmiTatil!$J$2-K29)+IF(AND(J29=ResmiTatil!$I$3,K29=ResmiTatil!$J$3),ResmiTatil!$I$3-ResmiTatil!$I$2,IF(AND(J29>ResmiTatil!$I$2,K29>ResmiTatil!$J$2),ResmiTatil!$J$2-ResmiTatil!$I$2))+IF(L29>ResmiTatil!$K$2,L29-ResmiTatil!$K$2),0)) -> 0.041666667 | O29: =IF((J29-I29)+(L29-K29)<0,0,(J29-I29)+(L29-K29)) -> 0.33333333 | T29: =IF(R29-Q29<0,0,R29-Q29) -> 0 | U29: =IF(AND(OR(P29="",Q29=""),OR(R29="",S29="")),0,IF(OR(P29<>ResmiTatil!$H$2,Q29<>ResmiTatil!$I$2,R29<>ResmiTatil!$J$2,S29<>ResmiTatil!$K$2),IF(AND(R29="",S29=""),0,IF(P29<ResmiTatil!$H$2,ResmiTatil!$H$2-P29))+IF(AND(R29="",S29="",OR(P29<ResmiTatil!$H$2,AND(Q29<>ResmiTatil!$J$2,Q29>ResmiTatil!$J$2))),ResmiTatil!$J$2-ResmiTatil!$I$2,IF(OR(R29="",S29=""),0,IF(AND(Q29>ResmiTatil!$I$2,R29<ResmiTatil!$J$2),Q29-ResmiTatil!$I$2)))+IF(AND(Q29<ResmiTatil!$I$2,R29<ResmiTatil!$J$2),ResmiTatil!$J$2-R29)+IF(AND(Q29=ResmiTatil!$I$3,R29=ResmiTatil!$J$3),ResmiTatil!$I$3-ResmiTatil!$I$2,IF(AND(Q29>ResmiTatil!$I$2,R29>ResmiTatil!$J$2),ResmiTatil!$J$2-ResmiTatil!$I$2))+IF(S29>ResmiTatil!$K$2,S29-ResmiTatil!$K$2),0)) -> 0 | V29: =IF((Q29-P29)+(S29-R29)<0,0,(Q29-P29)+(S29-R29)) -> 0 | AA29: =IF(Y29-X29<0,0,Y29-X29) -> 0 | AB29: =IF(AND(OR(W29="",X29=""),OR(Y29="",Z29="")),0,IF(OR(W29<>ResmiTatil!$H$2,X29<>ResmiTatil!$I$2,Y29<>ResmiTatil!$J$2,Z29<>ResmiTatil!$K$2),IF(AND(Y29="",Z29=""),0,IF(W29<ResmiTatil!$H$2,ResmiTatil!$H$2-W29))+IF(AND(Y29="",Z29="",OR(W29<ResmiTatil!$H$2,AND(X29<>ResmiTatil!$J$2,X29>ResmiTatil!$J$2))),ResmiTatil!$J$2-ResmiTatil!$I$2,IF(OR(Y29="",Z29=""),0,IF(AND(X29>ResmiTatil!$I$2,Y29<ResmiTatil!$J$2),X29-ResmiTatil!$I$2)))+IF(AND(X29<ResmiTatil!$I$2,Y29<ResmiTatil!$J$2),ResmiTatil!$J$2-Y29)+IF(AND(X29=ResmiTatil!$I$3,Y29=ResmiTatil!$J$3),ResmiTatil!$I$3-ResmiTatil!$I$2,IF(AND(X29>ResmiTatil!$I$2,Y29>ResmiTatil!$J$2),ResmiTatil!$J$2-ResmiTatil!$I$2))+IF(Z29>ResmiTatil!$K$2,Z29-ResmiTatil!$K$2),0)) -> 0 | AC29: =IF((X29-W29)+(Z29-Y29)<0,0,(X29-W29)+(Z29-Y29)) -> 0 | AH29: =IF(AF29-AE29<0,0,AF29-AE29) -> 0 | AI29: =IF(AND(OR(AD29="",AE29=""),OR(AF29="",AG29="")),0,IF(OR(AD29<>ResmiTatil!$H$2,AE29<>ResmiTatil!$I$2,AF29<>ResmiTatil!$J$2,AG29<>ResmiTatil!$K$2),IF(AND(AF29="",AG29=""),0,IF(AD29<ResmiTatil!$H$2,ResmiTatil!$H$2-AD29))+IF(AND(AF29="",AG29="",OR(AD29<ResmiTatil!$H$2,AND(AE29<>ResmiTatil!$J$2,AE29>ResmiTatil!$J$2))),ResmiTatil!$J$2-ResmiTatil!$I$2,IF(OR(AF29="",AG29=""),0,IF(AND(AE29>ResmiTatil!$I$2,AF29<ResmiTatil!$J$2),AE29-ResmiTatil!$I$2)))+IF(AND(AE29<ResmiTatil!$I$2,AF29<ResmiTatil!$J$2),ResmiTatil!$J$2-AF29)+IF(AND(AE29=ResmiTatil!$I$3,AF29=ResmiTatil!$J$3),ResmiTatil!$I$3-ResmiTatil!$I$2,IF(AND(AE29>ResmiTatil!$I$2,AF29>ResmiTatil!$J$2),ResmiTatil!$J$2-ResmiTatil!$I$2))+IF(AG29>ResmiTatil!$K$2,AG29-ResmiTatil!$K$2),0)) -> 0 | AJ29: =IF((AE29-AD29)+(AG29-AF29)<0,0,(AE29-AD29)+(AG29-AF29)) -> 0 | AZ29: 0.58333333
